BEGIN:VCALENDAR
VERSION:2.0
PRODID:-//Stoughton Conservation Club - ECPv6.15.20//NONSGML v1.0//EN
CALSCALE:GREGORIAN
METHOD:PUBLISH
X-WR-CALNAME:Stoughton Conservation Club
X-ORIGINAL-URL:https://stoughtoncc.com
X-WR-CALDESC:Events for Stoughton Conservation Club
REFRESH-INTERVAL;VALUE=DURATION:PT1H
X-Robots-Tag:noindex
X-PUBLISHED-TTL:PT1H
BEGIN:VTIMEZONE
TZID:America/Chicago
BEGIN:DAYLIGHT
TZOFFSETFROM:-0600
TZOFFSETTO:-0500
TZNAME:CDT
DTSTART:20240310T080000
END:DAYLIGHT
BEGIN:STANDARD
TZOFFSETFROM:-0500
TZOFFSETTO:-0600
TZNAME:CST
DTSTART:20241103T070000
END:STANDARD
BEGIN:DAYLIGHT
TZOFFSETFROM:-0600
TZOFFSETTO:-0500
TZNAME:CDT
DTSTART:20250309T080000
END:DAYLIGHT
BEGIN:STANDARD
TZOFFSETFROM:-0500
TZOFFSETTO:-0600
TZNAME:CST
DTSTART:20251102T070000
END:STANDARD
BEGIN:DAYLIGHT
TZOFFSETFROM:-0600
TZOFFSETTO:-0500
TZNAME:CDT
DTSTART:20260308T080000
END:DAYLIGHT
BEGIN:STANDARD
TZOFFSETFROM:-0500
TZOFFSETTO:-0600
TZNAME:CST
DTSTART:20261101T070000
END:STANDARD
END:VTIMEZONE
BEGIN:VEVENT
DTSTART;TZID=America/Chicago:20250628T070000
DTEND;TZID=America/Chicago:20250628T170000
DTSTAMP:20260423T145201
CREATED:20241122T154153Z
LAST-MODIFIED:20241122T154153Z
UID:10003883-1751094000-1751130000@stoughtoncc.com
SUMMARY:Dane Count 4H Fair Shoot
DESCRIPTION:Dane Count 4H Fair Shoot\n4H will be using *all* ranges\, all day on June 28\, 2025 for the Fair Shoot.
URL:https://stoughtoncc.com/event/dane-count-4h-fair-shoot/
LOCATION:Whole SCC Facility
ORGANIZER;CN="Chad Xander":MAILTO:cmxander70@gmail.com
END:VEVENT
BEGIN:VEVENT
DTSTART;TZID=America/Chicago:20250426T070000
DTEND;TZID=America/Chicago:20250426T200000
DTSTAMP:20260423T145201
CREATED:20250124T064921Z
LAST-MODIFIED:20250124T064921Z
UID:10004668-1745650800-1745697600@stoughtoncc.com
SUMMARY:HHA 3D Archery Shoot
DESCRIPTION:This is a 3D archery shoot benefiting veterans. \nWe will reserve the full facility and shut down all gun ranges for the day to accommodate veterans who may be sensitive to gun shots.
URL:https://stoughtoncc.com/event/hha-3d-archery-shoot/
LOCATION:Whole SCC Facility
ORGANIZER;CN="Dave Rynes":MAILTO:blackdogdr@gmail.com
END:VEVENT
BEGIN:VEVENT
DTSTART;TZID=America/Chicago:20250419T070000
DTEND;TZID=America/Chicago:20250419T170000
DTSTAMP:20260423T145201
CREATED:20250124T065347Z
LAST-MODIFIED:20250124T065347Z
UID:10004670-1745046000-1745082000@stoughtoncc.com
SUMMARY:4H Instructor Training
DESCRIPTION:The 4H group will use the whole facility for instructor training.
URL:https://stoughtoncc.com/event/4h-instructor-training/
LOCATION:Whole SCC Facility
ORGANIZER;CN="Chad Xander":MAILTO:cmxander70@gmail.com
END:VEVENT
END:VCALENDAR