BEGIN:VCALENDAR
VERSION:2.0
PRODID:-//Stoughton Conservation Club - ECPv6.15.20//NONSGML v1.0//EN
CALSCALE:GREGORIAN
METHOD:PUBLISH
X-ORIGINAL-URL:https://stoughtoncc.com
X-WR-CALDESC:Events for Stoughton Conservation Club
REFRESH-INTERVAL;VALUE=DURATION:PT1H
X-Robots-Tag:noindex
X-PUBLISHED-TTL:PT1H
BEGIN:VTIMEZONE
TZID:America/Chicago
BEGIN:DAYLIGHT
TZOFFSETFROM:-0600
TZOFFSETTO:-0500
TZNAME:CDT
DTSTART:20240310T080000
END:DAYLIGHT
BEGIN:STANDARD
TZOFFSETFROM:-0500
TZOFFSETTO:-0600
TZNAME:CST
DTSTART:20241103T070000
END:STANDARD
BEGIN:DAYLIGHT
TZOFFSETFROM:-0600
TZOFFSETTO:-0500
TZNAME:CDT
DTSTART:20250309T080000
END:DAYLIGHT
BEGIN:STANDARD
TZOFFSETFROM:-0500
TZOFFSETTO:-0600
TZNAME:CST
DTSTART:20251102T070000
END:STANDARD
BEGIN:DAYLIGHT
TZOFFSETFROM:-0600
TZOFFSETTO:-0500
TZNAME:CDT
DTSTART:20260308T080000
END:DAYLIGHT
BEGIN:STANDARD
TZOFFSETFROM:-0500
TZOFFSETTO:-0600
TZNAME:CST
DTSTART:20261101T070000
END:STANDARD
END:VTIMEZONE
BEGIN:VEVENT
DTSTART;TZID=America/Chicago:20250807T173000
DTEND;TZID=America/Chicago:20250807T223000
DTSTAMP:20260423T195813
CREATED:20241106T233617Z
LAST-MODIFIED:20250508T035011Z
UID:10003876-1754587800-1754605800@stoughtoncc.com
SUMMARY:Summer Trap League
DESCRIPTION:
URL:https://stoughtoncc.com/event/2025-summer-trap-league/2025-08-07/
LOCATION:Trap & Skeet Fields
ORGANIZER;CN="Kevin Kettner":MAILTO:kkettner@gmail.com
END:VEVENT
BEGIN:VEVENT
DTSTART;TZID=America/Chicago:20250804T080000
DTEND;TZID=America/Chicago:20250804T110000
DTSTAMP:20260423T195813
CREATED:20241210T180811Z
LAST-MODIFIED:20250508T035024Z
UID:10004073-1754294400-1754305200@stoughtoncc.com
SUMMARY:Monday Morning Trap/Skeet
DESCRIPTION:Open trap and skeet for members. Come\, shoot\, drink coffee.
URL:https://stoughtoncc.com/event/monday-morning-trap-skeet/2025-08-04/
LOCATION:Trap & Skeet Fields
END:VEVENT
BEGIN:VEVENT
DTSTART;TZID=America/Chicago:20250731T173000
DTEND;TZID=America/Chicago:20250731T223000
DTSTAMP:20260423T195813
CREATED:20241106T233617Z
LAST-MODIFIED:20250508T035011Z
UID:10003875-1753983000-1754001000@stoughtoncc.com
SUMMARY:Summer Trap League
DESCRIPTION:
URL:https://stoughtoncc.com/event/2025-summer-trap-league/2025-07-31/
LOCATION:Trap & Skeet Fields
ORGANIZER;CN="Kevin Kettner":MAILTO:kkettner@gmail.com
END:VEVENT
BEGIN:VEVENT
DTSTART;TZID=America/Chicago:20250728T080000
DTEND;TZID=America/Chicago:20250728T110000
DTSTAMP:20260423T195813
CREATED:20241210T180811Z
LAST-MODIFIED:20250508T035024Z
UID:10004072-1753689600-1753700400@stoughtoncc.com
SUMMARY:Monday Morning Trap/Skeet
DESCRIPTION:Open trap and skeet for members. Come\, shoot\, drink coffee.
URL:https://stoughtoncc.com/event/monday-morning-trap-skeet/2025-07-28/
LOCATION:Trap & Skeet Fields
END:VEVENT
BEGIN:VEVENT
DTSTART;TZID=America/Chicago:20250724T173000
DTEND;TZID=America/Chicago:20250724T223000
DTSTAMP:20260423T195813
CREATED:20241106T233617Z
LAST-MODIFIED:20250508T035011Z
UID:10003874-1753378200-1753396200@stoughtoncc.com
SUMMARY:Summer Trap League
DESCRIPTION:
URL:https://stoughtoncc.com/event/2025-summer-trap-league/2025-07-24/
LOCATION:Trap & Skeet Fields
ORGANIZER;CN="Kevin Kettner":MAILTO:kkettner@gmail.com
END:VEVENT
BEGIN:VEVENT
DTSTART;TZID=America/Chicago:20250721T080000
DTEND;TZID=America/Chicago:20250721T110000
DTSTAMP:20260423T195813
CREATED:20241210T180811Z
LAST-MODIFIED:20250508T035024Z
UID:10004071-1753084800-1753095600@stoughtoncc.com
SUMMARY:Monday Morning Trap/Skeet
DESCRIPTION:Open trap and skeet for members. Come\, shoot\, drink coffee.
URL:https://stoughtoncc.com/event/monday-morning-trap-skeet/2025-07-21/
LOCATION:Trap & Skeet Fields
END:VEVENT
BEGIN:VEVENT
DTSTART;TZID=America/Chicago:20250720T080000
DTEND;TZID=America/Chicago:20250720T150000
DTSTAMP:20260423T195813
CREATED:20250610T203510Z
LAST-MODIFIED:20250610T203510Z
UID:10004844-1752998400-1753023600@stoughtoncc.com
SUMMARY:VLS End of Season Celebration Cookout
DESCRIPTION:VLS will hold the end of year Celebration Cookout and help clean up the Sporting Clays course.
URL:https://stoughtoncc.com/event/vls-end-of-season-celebration-cookout/
LOCATION:Main Clubhouse
ORGANIZER;CN="Kevin Kettner":MAILTO:kkettner@gmail.com
END:VEVENT
BEGIN:VEVENT
DTSTART;TZID=America/Chicago:20250719T090000
DTEND;TZID=America/Chicago:20250719T150000
DTSTAMP:20260423T195813
CREATED:20240816T185747Z
LAST-MODIFIED:20250508T034637Z
UID:10003798-1752915600-1752937200@stoughtoncc.com
SUMMARY:Sporting Clays (Public)
DESCRIPTION:2025 Sporting Clays: \n\nMay 17\nJune 21\nJuly 19\nAugust 16
URL:https://stoughtoncc.com/event/sporting-clays-2025/2025-07-19/
LOCATION:Main Clubhouse
ORGANIZER;CN="Roger Kluever":MAILTO:07harley89@gmail.com
END:VEVENT
BEGIN:VEVENT
DTSTART;TZID=America/Chicago:20250718T120000
DTEND;TZID=America/Chicago:20250718T210000
DTSTAMP:20260423T195813
CREATED:20241210T174557Z
LAST-MODIFIED:20250508T034551Z
UID:10004665-1752840000-1752872400@stoughtoncc.com
SUMMARY:Sporting Clays Course Setup
DESCRIPTION:
URL:https://stoughtoncc.com/event/sporting-clays-course-setup/2025-07-18/
LOCATION:Trap & Skeet Fields
END:VEVENT
BEGIN:VEVENT
DTSTART;TZID=America/Chicago:20250717T173000
DTEND;TZID=America/Chicago:20250717T223000
DTSTAMP:20260423T195814
CREATED:20241106T233617Z
LAST-MODIFIED:20250508T035011Z
UID:10003873-1752773400-1752791400@stoughtoncc.com
SUMMARY:Summer Trap League
DESCRIPTION:
URL:https://stoughtoncc.com/event/2025-summer-trap-league/2025-07-17/
LOCATION:Trap & Skeet Fields
ORGANIZER;CN="Kevin Kettner":MAILTO:kkettner@gmail.com
END:VEVENT
BEGIN:VEVENT
DTSTART;TZID=America/Chicago:20250714T080000
DTEND;TZID=America/Chicago:20250714T110000
DTSTAMP:20260423T195814
CREATED:20241210T180811Z
LAST-MODIFIED:20250508T035024Z
UID:10004070-1752480000-1752490800@stoughtoncc.com
SUMMARY:Monday Morning Trap/Skeet
DESCRIPTION:Open trap and skeet for members. Come\, shoot\, drink coffee.
URL:https://stoughtoncc.com/event/monday-morning-trap-skeet/2025-07-14/
LOCATION:Trap & Skeet Fields
END:VEVENT
BEGIN:VEVENT
DTSTART;TZID=America/Chicago:20250710T173000
DTEND;TZID=America/Chicago:20250710T223000
DTSTAMP:20260423T195814
CREATED:20241106T233617Z
LAST-MODIFIED:20250508T035011Z
UID:10003872-1752168600-1752186600@stoughtoncc.com
SUMMARY:Summer Trap League
DESCRIPTION:
URL:https://stoughtoncc.com/event/2025-summer-trap-league/2025-07-10/
LOCATION:Trap & Skeet Fields
ORGANIZER;CN="Kevin Kettner":MAILTO:kkettner@gmail.com
END:VEVENT
BEGIN:VEVENT
DTSTART;TZID=America/Chicago:20250707T080000
DTEND;TZID=America/Chicago:20250707T110000
DTSTAMP:20260423T195814
CREATED:20241210T180811Z
LAST-MODIFIED:20250508T035024Z
UID:10004069-1751875200-1751886000@stoughtoncc.com
SUMMARY:Monday Morning Trap/Skeet
DESCRIPTION:Open trap and skeet for members. Come\, shoot\, drink coffee.
URL:https://stoughtoncc.com/event/monday-morning-trap-skeet/2025-07-07/
LOCATION:Trap & Skeet Fields
END:VEVENT
BEGIN:VEVENT
DTSTART;TZID=America/Chicago:20250630T080000
DTEND;TZID=America/Chicago:20250630T110000
DTSTAMP:20260423T195814
CREATED:20241210T180811Z
LAST-MODIFIED:20250508T035024Z
UID:10004068-1751270400-1751281200@stoughtoncc.com
SUMMARY:Monday Morning Trap/Skeet
DESCRIPTION:Open trap and skeet for members. Come\, shoot\, drink coffee.
URL:https://stoughtoncc.com/event/monday-morning-trap-skeet/2025-06-30/
LOCATION:Trap & Skeet Fields
END:VEVENT
BEGIN:VEVENT
DTSTART;TZID=America/Chicago:20250626T173000
DTEND;TZID=America/Chicago:20250626T223000
DTSTAMP:20260423T195814
CREATED:20241106T233617Z
LAST-MODIFIED:20250508T035011Z
UID:10003870-1750959000-1750977000@stoughtoncc.com
SUMMARY:Summer Trap League
DESCRIPTION:
URL:https://stoughtoncc.com/event/2025-summer-trap-league/2025-06-26/
LOCATION:Trap & Skeet Fields
ORGANIZER;CN="Kevin Kettner":MAILTO:kkettner@gmail.com
END:VEVENT
BEGIN:VEVENT
DTSTART;TZID=America/Chicago:20250624T180000
DTEND;TZID=America/Chicago:20250624T200000
DTSTAMP:20260423T195814
CREATED:20241213T034703Z
LAST-MODIFIED:20250508T034846Z
UID:10004451-1750788000-1750795200@stoughtoncc.com
SUMMARY:4H Indoor Archery/Trap/Skeet
DESCRIPTION:4H will use the Indoor Archery Range and the Trap and Skeet fields.
URL:https://stoughtoncc.com/event/4h-indoor-archery-trap-skeet/2025-06-24/
LOCATION:Main Clubhouse
ORGANIZER;CN="Chad Xander":MAILTO:cmxander70@gmail.com
END:VEVENT
BEGIN:VEVENT
DTSTART;TZID=America/Chicago:20250623T080000
DTEND;TZID=America/Chicago:20250623T110000
DTSTAMP:20260423T195814
CREATED:20241210T180811Z
LAST-MODIFIED:20250508T035024Z
UID:10004067-1750665600-1750676400@stoughtoncc.com
SUMMARY:Monday Morning Trap/Skeet
DESCRIPTION:Open trap and skeet for members. Come\, shoot\, drink coffee.
URL:https://stoughtoncc.com/event/monday-morning-trap-skeet/2025-06-23/
LOCATION:Trap & Skeet Fields
END:VEVENT
BEGIN:VEVENT
DTSTART;TZID=America/Chicago:20250621T090000
DTEND;TZID=America/Chicago:20250621T150000
DTSTAMP:20260423T195814
CREATED:20240816T185747Z
LAST-MODIFIED:20250508T034637Z
UID:10003797-1750496400-1750518000@stoughtoncc.com
SUMMARY:Sporting Clays (Public)
DESCRIPTION:2025 Sporting Clays: \n\nMay 17\nJune 21\nJuly 19\nAugust 16
URL:https://stoughtoncc.com/event/sporting-clays-2025/2025-06-21/
LOCATION:Main Clubhouse
ORGANIZER;CN="Roger Kluever":MAILTO:07harley89@gmail.com
END:VEVENT
BEGIN:VEVENT
DTSTART;TZID=America/Chicago:20250620T120000
DTEND;TZID=America/Chicago:20250620T210000
DTSTAMP:20260423T195814
CREATED:20241210T174557Z
LAST-MODIFIED:20250508T034551Z
UID:10004664-1750420800-1750453200@stoughtoncc.com
SUMMARY:Sporting Clays Course Setup
DESCRIPTION:
URL:https://stoughtoncc.com/event/sporting-clays-course-setup/2025-06-20/
LOCATION:Trap & Skeet Fields
END:VEVENT
BEGIN:VEVENT
DTSTART;TZID=America/Chicago:20250619T173000
DTEND;TZID=America/Chicago:20250619T223000
DTSTAMP:20260423T195814
CREATED:20241106T233617Z
LAST-MODIFIED:20250508T035011Z
UID:10003869-1750354200-1750372200@stoughtoncc.com
SUMMARY:Summer Trap League
DESCRIPTION:
URL:https://stoughtoncc.com/event/2025-summer-trap-league/2025-06-19/
LOCATION:Trap & Skeet Fields
ORGANIZER;CN="Kevin Kettner":MAILTO:kkettner@gmail.com
END:VEVENT
BEGIN:VEVENT
DTSTART;TZID=America/Chicago:20250617T180000
DTEND;TZID=America/Chicago:20250617T200000
DTSTAMP:20260423T195814
CREATED:20241213T034703Z
LAST-MODIFIED:20250508T034846Z
UID:10004450-1750183200-1750190400@stoughtoncc.com
SUMMARY:4H Indoor Archery/Trap/Skeet
DESCRIPTION:4H will use the Indoor Archery Range and the Trap and Skeet fields.
URL:https://stoughtoncc.com/event/4h-indoor-archery-trap-skeet/2025-06-17/
LOCATION:Main Clubhouse
ORGANIZER;CN="Chad Xander":MAILTO:cmxander70@gmail.com
END:VEVENT
BEGIN:VEVENT
DTSTART;TZID=America/Chicago:20250616T173000
DTEND;TZID=America/Chicago:20250616T183000
DTSTAMP:20260423T195814
CREATED:20250605T140425Z
LAST-MODIFIED:20250605T140546Z
UID:10004843-1750095000-1750098600@stoughtoncc.com
SUMMARY:Long Range Orientation
DESCRIPTION:Please sign up here if possible: \nhttps://www.signupgenius.com/go/30E0949A4AB28A1F94-57203593-long
URL:https://stoughtoncc.com/event/long-range-orientation-3/
LOCATION:Main Clubhouse
ORGANIZER;CN="Kevin Kettner":MAILTO:kkettner@gmail.com
END:VEVENT
BEGIN:VEVENT
DTSTART;TZID=America/Chicago:20250616T080000
DTEND;TZID=America/Chicago:20250616T110000
DTSTAMP:20260423T195814
CREATED:20241210T180811Z
LAST-MODIFIED:20250508T035024Z
UID:10004066-1750060800-1750071600@stoughtoncc.com
SUMMARY:Monday Morning Trap/Skeet
DESCRIPTION:Open trap and skeet for members. Come\, shoot\, drink coffee.
URL:https://stoughtoncc.com/event/monday-morning-trap-skeet/2025-06-16/
LOCATION:Trap & Skeet Fields
END:VEVENT
BEGIN:VEVENT
DTSTART;TZID=America/Chicago:20250615T090000
DTEND;TZID=America/Chicago:20250615T140000
DTSTAMP:20260423T195814
CREATED:20241102T215509Z
LAST-MODIFIED:20250610T203144Z
UID:10003841-1749978000-1749996000@stoughtoncc.com
SUMMARY:VLS Practice
DESCRIPTION:Trap and Skeet Fields will be closed for Viking Lead Slingers Youth Trap/Skeet practice.
URL:https://stoughtoncc.com/event/vls-practice-2/2025-06-15/
LOCATION:Trap & Skeet Fields
ORGANIZER;CN="Kevin Kettner":MAILTO:kkettner@gmail.com
END:VEVENT
BEGIN:VEVENT
DTSTART;TZID=America/Chicago:20250612T173000
DTEND;TZID=America/Chicago:20250612T223000
DTSTAMP:20260423T195814
CREATED:20241106T233617Z
LAST-MODIFIED:20250508T035011Z
UID:10003868-1749749400-1749767400@stoughtoncc.com
SUMMARY:Summer Trap League
DESCRIPTION:
URL:https://stoughtoncc.com/event/2025-summer-trap-league/2025-06-12/
LOCATION:Trap & Skeet Fields
ORGANIZER;CN="Kevin Kettner":MAILTO:kkettner@gmail.com
END:VEVENT
BEGIN:VEVENT
DTSTART;TZID=America/Chicago:20250610T180000
DTEND;TZID=America/Chicago:20250610T200000
DTSTAMP:20260423T195814
CREATED:20241213T034703Z
LAST-MODIFIED:20250508T034846Z
UID:10004449-1749578400-1749585600@stoughtoncc.com
SUMMARY:4H Indoor Archery/Trap/Skeet
DESCRIPTION:4H will use the Indoor Archery Range and the Trap and Skeet fields.
URL:https://stoughtoncc.com/event/4h-indoor-archery-trap-skeet/2025-06-10/
LOCATION:Main Clubhouse
ORGANIZER;CN="Chad Xander":MAILTO:cmxander70@gmail.com
END:VEVENT
BEGIN:VEVENT
DTSTART;TZID=America/Chicago:20250609T080000
DTEND;TZID=America/Chicago:20250609T110000
DTSTAMP:20260423T195814
CREATED:20241210T180811Z
LAST-MODIFIED:20250508T035024Z
UID:10004065-1749456000-1749466800@stoughtoncc.com
SUMMARY:Monday Morning Trap/Skeet
DESCRIPTION:Open trap and skeet for members. Come\, shoot\, drink coffee.
URL:https://stoughtoncc.com/event/monday-morning-trap-skeet/2025-06-09/
LOCATION:Trap & Skeet Fields
END:VEVENT
BEGIN:VEVENT
DTSTART;TZID=America/Chicago:20250608T090000
DTEND;TZID=America/Chicago:20250608T140000
DTSTAMP:20260423T195814
CREATED:20241102T215509Z
LAST-MODIFIED:20250610T203144Z
UID:10003840-1749373200-1749391200@stoughtoncc.com
SUMMARY:VLS Practice
DESCRIPTION:Trap and Skeet Fields will be closed for Viking Lead Slingers Youth Trap/Skeet practice.
URL:https://stoughtoncc.com/event/vls-practice-2/2025-06-08/
LOCATION:Trap & Skeet Fields
ORGANIZER;CN="Kevin Kettner":MAILTO:kkettner@gmail.com
END:VEVENT
BEGIN:VEVENT
DTSTART;TZID=America/Chicago:20250605T173000
DTEND;TZID=America/Chicago:20250605T223000
DTSTAMP:20260423T195814
CREATED:20241106T233617Z
LAST-MODIFIED:20250508T035011Z
UID:10003867-1749144600-1749162600@stoughtoncc.com
SUMMARY:Summer Trap League
DESCRIPTION:
URL:https://stoughtoncc.com/event/2025-summer-trap-league/2025-06-05/
LOCATION:Trap & Skeet Fields
ORGANIZER;CN="Kevin Kettner":MAILTO:kkettner@gmail.com
END:VEVENT
BEGIN:VEVENT
DTSTART;TZID=America/Chicago:20250603T180000
DTEND;TZID=America/Chicago:20250603T200000
DTSTAMP:20260423T195814
CREATED:20241213T034703Z
LAST-MODIFIED:20250508T034846Z
UID:10004448-1748973600-1748980800@stoughtoncc.com
SUMMARY:4H Indoor Archery/Trap/Skeet
DESCRIPTION:4H will use the Indoor Archery Range and the Trap and Skeet fields.
URL:https://stoughtoncc.com/event/4h-indoor-archery-trap-skeet/2025-06-03/
LOCATION:Main Clubhouse
ORGANIZER;CN="Chad Xander":MAILTO:cmxander70@gmail.com
END:VEVENT
END:VCALENDAR