BEGIN:VCALENDAR
VERSION:2.0
PRODID:-//Stoughton Conservation Club - ECPv6.15.20//NONSGML v1.0//EN
CALSCALE:GREGORIAN
METHOD:PUBLISH
X-ORIGINAL-URL:https://stoughtoncc.com
X-WR-CALDESC:Events for Stoughton Conservation Club
REFRESH-INTERVAL;VALUE=DURATION:PT1H
X-Robots-Tag:noindex
X-PUBLISHED-TTL:PT1H
BEGIN:VTIMEZONE
TZID:America/Chicago
BEGIN:DAYLIGHT
TZOFFSETFROM:-0600
TZOFFSETTO:-0500
TZNAME:CDT
DTSTART:20270314T080000
END:DAYLIGHT
BEGIN:STANDARD
TZOFFSETFROM:-0500
TZOFFSETTO:-0600
TZNAME:CST
DTSTART:20271107T070000
END:STANDARD
BEGIN:DAYLIGHT
TZOFFSETFROM:-0600
TZOFFSETTO:-0500
TZNAME:CDT
DTSTART:20280312T080000
END:DAYLIGHT
BEGIN:STANDARD
TZOFFSETFROM:-0500
TZOFFSETTO:-0600
TZNAME:CST
DTSTART:20281105T070000
END:STANDARD
BEGIN:DAYLIGHT
TZOFFSETFROM:-0600
TZOFFSETTO:-0500
TZNAME:CDT
DTSTART:20290311T080000
END:DAYLIGHT
BEGIN:STANDARD
TZOFFSETFROM:-0500
TZOFFSETTO:-0600
TZNAME:CST
DTSTART:20291104T070000
END:STANDARD
END:VTIMEZONE
BEGIN:VEVENT
DTSTART;TZID=America/Chicago:20280424T080000
DTEND;TZID=America/Chicago:20280424T110000
DTSTAMP:20260424T022632
CREATED:20241210T180811Z
LAST-MODIFIED:20250508T035024Z
UID:10004215-1840176000-1840186800@stoughtoncc.com
SUMMARY:Monday Morning Trap/Skeet
DESCRIPTION:Open trap and skeet for members. Come\, shoot\, drink coffee.
URL:https://stoughtoncc.com/event/monday-morning-trap-skeet/2028-04-24/
LOCATION:Trap & Skeet Fields
END:VEVENT
BEGIN:VEVENT
DTSTART;TZID=America/Chicago:20280501T080000
DTEND;TZID=America/Chicago:20280501T110000
DTSTAMP:20260424T022632
CREATED:20241210T180811Z
LAST-MODIFIED:20250508T035024Z
UID:10004216-1840780800-1840791600@stoughtoncc.com
SUMMARY:Monday Morning Trap/Skeet
DESCRIPTION:Open trap and skeet for members. Come\, shoot\, drink coffee.
URL:https://stoughtoncc.com/event/monday-morning-trap-skeet/2028-05-01/
LOCATION:Trap & Skeet Fields
END:VEVENT
BEGIN:VEVENT
DTSTART;TZID=America/Chicago:20280508T080000
DTEND;TZID=America/Chicago:20280508T110000
DTSTAMP:20260424T022632
CREATED:20241210T180811Z
LAST-MODIFIED:20250508T035024Z
UID:10004217-1841385600-1841396400@stoughtoncc.com
SUMMARY:Monday Morning Trap/Skeet
DESCRIPTION:Open trap and skeet for members. Come\, shoot\, drink coffee.
URL:https://stoughtoncc.com/event/monday-morning-trap-skeet/2028-05-08/
LOCATION:Trap & Skeet Fields
END:VEVENT
BEGIN:VEVENT
DTSTART;TZID=America/Chicago:20280515T080000
DTEND;TZID=America/Chicago:20280515T110000
DTSTAMP:20260424T022632
CREATED:20241210T180811Z
LAST-MODIFIED:20250508T035024Z
UID:10004218-1841990400-1842001200@stoughtoncc.com
SUMMARY:Monday Morning Trap/Skeet
DESCRIPTION:Open trap and skeet for members. Come\, shoot\, drink coffee.
URL:https://stoughtoncc.com/event/monday-morning-trap-skeet/2028-05-15/
LOCATION:Trap & Skeet Fields
END:VEVENT
BEGIN:VEVENT
DTSTART;TZID=America/Chicago:20280522T080000
DTEND;TZID=America/Chicago:20280522T110000
DTSTAMP:20260424T022632
CREATED:20241210T180811Z
LAST-MODIFIED:20250508T035024Z
UID:10004219-1842595200-1842606000@stoughtoncc.com
SUMMARY:Monday Morning Trap/Skeet
DESCRIPTION:Open trap and skeet for members. Come\, shoot\, drink coffee.
URL:https://stoughtoncc.com/event/monday-morning-trap-skeet/2028-05-22/
LOCATION:Trap & Skeet Fields
END:VEVENT
BEGIN:VEVENT
DTSTART;TZID=America/Chicago:20280529T080000
DTEND;TZID=America/Chicago:20280529T110000
DTSTAMP:20260424T022632
CREATED:20241210T180811Z
LAST-MODIFIED:20250508T035024Z
UID:10004220-1843200000-1843210800@stoughtoncc.com
SUMMARY:Monday Morning Trap/Skeet
DESCRIPTION:Open trap and skeet for members. Come\, shoot\, drink coffee.
URL:https://stoughtoncc.com/event/monday-morning-trap-skeet/2028-05-29/
LOCATION:Trap & Skeet Fields
END:VEVENT
BEGIN:VEVENT
DTSTART;TZID=America/Chicago:20280605T080000
DTEND;TZID=America/Chicago:20280605T110000
DTSTAMP:20260424T022632
CREATED:20241210T180811Z
LAST-MODIFIED:20250508T035024Z
UID:10004221-1843804800-1843815600@stoughtoncc.com
SUMMARY:Monday Morning Trap/Skeet
DESCRIPTION:Open trap and skeet for members. Come\, shoot\, drink coffee.
URL:https://stoughtoncc.com/event/monday-morning-trap-skeet/2028-06-05/
LOCATION:Trap & Skeet Fields
END:VEVENT
BEGIN:VEVENT
DTSTART;TZID=America/Chicago:20280612T080000
DTEND;TZID=America/Chicago:20280612T110000
DTSTAMP:20260424T022632
CREATED:20241210T180811Z
LAST-MODIFIED:20250508T035024Z
UID:10004222-1844409600-1844420400@stoughtoncc.com
SUMMARY:Monday Morning Trap/Skeet
DESCRIPTION:Open trap and skeet for members. Come\, shoot\, drink coffee.
URL:https://stoughtoncc.com/event/monday-morning-trap-skeet/2028-06-12/
LOCATION:Trap & Skeet Fields
END:VEVENT
BEGIN:VEVENT
DTSTART;TZID=America/Chicago:20280619T080000
DTEND;TZID=America/Chicago:20280619T110000
DTSTAMP:20260424T022632
CREATED:20241210T180811Z
LAST-MODIFIED:20250508T035024Z
UID:10004223-1845014400-1845025200@stoughtoncc.com
SUMMARY:Monday Morning Trap/Skeet
DESCRIPTION:Open trap and skeet for members. Come\, shoot\, drink coffee.
URL:https://stoughtoncc.com/event/monday-morning-trap-skeet/2028-06-19/
LOCATION:Trap & Skeet Fields
END:VEVENT
BEGIN:VEVENT
DTSTART;TZID=America/Chicago:20280626T080000
DTEND;TZID=America/Chicago:20280626T110000
DTSTAMP:20260424T022632
CREATED:20241210T180811Z
LAST-MODIFIED:20250508T035024Z
UID:10004224-1845619200-1845630000@stoughtoncc.com
SUMMARY:Monday Morning Trap/Skeet
DESCRIPTION:Open trap and skeet for members. Come\, shoot\, drink coffee.
URL:https://stoughtoncc.com/event/monday-morning-trap-skeet/2028-06-26/
LOCATION:Trap & Skeet Fields
END:VEVENT
BEGIN:VEVENT
DTSTART;TZID=America/Chicago:20280703T080000
DTEND;TZID=America/Chicago:20280703T110000
DTSTAMP:20260424T022632
CREATED:20241210T180811Z
LAST-MODIFIED:20250508T035024Z
UID:10004225-1846224000-1846234800@stoughtoncc.com
SUMMARY:Monday Morning Trap/Skeet
DESCRIPTION:Open trap and skeet for members. Come\, shoot\, drink coffee.
URL:https://stoughtoncc.com/event/monday-morning-trap-skeet/2028-07-03/
LOCATION:Trap & Skeet Fields
END:VEVENT
BEGIN:VEVENT
DTSTART;TZID=America/Chicago:20280710T080000
DTEND;TZID=America/Chicago:20280710T110000
DTSTAMP:20260424T022632
CREATED:20241210T180811Z
LAST-MODIFIED:20250508T035024Z
UID:10004226-1846828800-1846839600@stoughtoncc.com
SUMMARY:Monday Morning Trap/Skeet
DESCRIPTION:Open trap and skeet for members. Come\, shoot\, drink coffee.
URL:https://stoughtoncc.com/event/monday-morning-trap-skeet/2028-07-10/
LOCATION:Trap & Skeet Fields
END:VEVENT
BEGIN:VEVENT
DTSTART;TZID=America/Chicago:20280717T080000
DTEND;TZID=America/Chicago:20280717T110000
DTSTAMP:20260424T022632
CREATED:20241210T180811Z
LAST-MODIFIED:20250508T035024Z
UID:10004227-1847433600-1847444400@stoughtoncc.com
SUMMARY:Monday Morning Trap/Skeet
DESCRIPTION:Open trap and skeet for members. Come\, shoot\, drink coffee.
URL:https://stoughtoncc.com/event/monday-morning-trap-skeet/2028-07-17/
LOCATION:Trap & Skeet Fields
END:VEVENT
BEGIN:VEVENT
DTSTART;TZID=America/Chicago:20280724T080000
DTEND;TZID=America/Chicago:20280724T110000
DTSTAMP:20260424T022632
CREATED:20241210T180811Z
LAST-MODIFIED:20250508T035024Z
UID:10004228-1848038400-1848049200@stoughtoncc.com
SUMMARY:Monday Morning Trap/Skeet
DESCRIPTION:Open trap and skeet for members. Come\, shoot\, drink coffee.
URL:https://stoughtoncc.com/event/monday-morning-trap-skeet/2028-07-24/
LOCATION:Trap & Skeet Fields
END:VEVENT
BEGIN:VEVENT
DTSTART;TZID=America/Chicago:20280731T080000
DTEND;TZID=America/Chicago:20280731T110000
DTSTAMP:20260424T022632
CREATED:20241210T180811Z
LAST-MODIFIED:20250508T035024Z
UID:10004229-1848643200-1848654000@stoughtoncc.com
SUMMARY:Monday Morning Trap/Skeet
DESCRIPTION:Open trap and skeet for members. Come\, shoot\, drink coffee.
URL:https://stoughtoncc.com/event/monday-morning-trap-skeet/2028-07-31/
LOCATION:Trap & Skeet Fields
END:VEVENT
BEGIN:VEVENT
DTSTART;TZID=America/Chicago:20280807T080000
DTEND;TZID=America/Chicago:20280807T110000
DTSTAMP:20260424T022632
CREATED:20241210T180811Z
LAST-MODIFIED:20250508T035024Z
UID:10004230-1849248000-1849258800@stoughtoncc.com
SUMMARY:Monday Morning Trap/Skeet
DESCRIPTION:Open trap and skeet for members. Come\, shoot\, drink coffee.
URL:https://stoughtoncc.com/event/monday-morning-trap-skeet/2028-08-07/
LOCATION:Trap & Skeet Fields
END:VEVENT
BEGIN:VEVENT
DTSTART;TZID=America/Chicago:20280814T080000
DTEND;TZID=America/Chicago:20280814T110000
DTSTAMP:20260424T022632
CREATED:20241210T180811Z
LAST-MODIFIED:20250508T035024Z
UID:10004231-1849852800-1849863600@stoughtoncc.com
SUMMARY:Monday Morning Trap/Skeet
DESCRIPTION:Open trap and skeet for members. Come\, shoot\, drink coffee.
URL:https://stoughtoncc.com/event/monday-morning-trap-skeet/2028-08-14/
LOCATION:Trap & Skeet Fields
END:VEVENT
BEGIN:VEVENT
DTSTART;TZID=America/Chicago:20280821T080000
DTEND;TZID=America/Chicago:20280821T110000
DTSTAMP:20260424T022632
CREATED:20241210T180811Z
LAST-MODIFIED:20250508T035024Z
UID:10004232-1850457600-1850468400@stoughtoncc.com
SUMMARY:Monday Morning Trap/Skeet
DESCRIPTION:Open trap and skeet for members. Come\, shoot\, drink coffee.
URL:https://stoughtoncc.com/event/monday-morning-trap-skeet/2028-08-21/
LOCATION:Trap & Skeet Fields
END:VEVENT
BEGIN:VEVENT
DTSTART;TZID=America/Chicago:20280828T080000
DTEND;TZID=America/Chicago:20280828T110000
DTSTAMP:20260424T022632
CREATED:20241210T180811Z
LAST-MODIFIED:20250508T035024Z
UID:10004233-1851062400-1851073200@stoughtoncc.com
SUMMARY:Monday Morning Trap/Skeet
DESCRIPTION:Open trap and skeet for members. Come\, shoot\, drink coffee.
URL:https://stoughtoncc.com/event/monday-morning-trap-skeet/2028-08-28/
LOCATION:Trap & Skeet Fields
END:VEVENT
BEGIN:VEVENT
DTSTART;TZID=America/Chicago:20280904T080000
DTEND;TZID=America/Chicago:20280904T110000
DTSTAMP:20260424T022632
CREATED:20241210T180811Z
LAST-MODIFIED:20250508T035024Z
UID:10004234-1851667200-1851678000@stoughtoncc.com
SUMMARY:Monday Morning Trap/Skeet
DESCRIPTION:Open trap and skeet for members. Come\, shoot\, drink coffee.
URL:https://stoughtoncc.com/event/monday-morning-trap-skeet/2028-09-04/
LOCATION:Trap & Skeet Fields
END:VEVENT
BEGIN:VEVENT
DTSTART;TZID=America/Chicago:20280911T080000
DTEND;TZID=America/Chicago:20280911T110000
DTSTAMP:20260424T022632
CREATED:20241210T180811Z
LAST-MODIFIED:20250508T035024Z
UID:10004235-1852272000-1852282800@stoughtoncc.com
SUMMARY:Monday Morning Trap/Skeet
DESCRIPTION:Open trap and skeet for members. Come\, shoot\, drink coffee.
URL:https://stoughtoncc.com/event/monday-morning-trap-skeet/2028-09-11/
LOCATION:Trap & Skeet Fields
END:VEVENT
BEGIN:VEVENT
DTSTART;TZID=America/Chicago:20280918T080000
DTEND;TZID=America/Chicago:20280918T110000
DTSTAMP:20260424T022632
CREATED:20241210T180811Z
LAST-MODIFIED:20250508T035024Z
UID:10004236-1852876800-1852887600@stoughtoncc.com
SUMMARY:Monday Morning Trap/Skeet
DESCRIPTION:Open trap and skeet for members. Come\, shoot\, drink coffee.
URL:https://stoughtoncc.com/event/monday-morning-trap-skeet/2028-09-18/
LOCATION:Trap & Skeet Fields
END:VEVENT
BEGIN:VEVENT
DTSTART;TZID=America/Chicago:20280925T080000
DTEND;TZID=America/Chicago:20280925T110000
DTSTAMP:20260424T022632
CREATED:20241210T180811Z
LAST-MODIFIED:20250508T035024Z
UID:10004237-1853481600-1853492400@stoughtoncc.com
SUMMARY:Monday Morning Trap/Skeet
DESCRIPTION:Open trap and skeet for members. Come\, shoot\, drink coffee.
URL:https://stoughtoncc.com/event/monday-morning-trap-skeet/2028-09-25/
LOCATION:Trap & Skeet Fields
END:VEVENT
BEGIN:VEVENT
DTSTART;TZID=America/Chicago:20281002T080000
DTEND;TZID=America/Chicago:20281002T110000
DTSTAMP:20260424T022632
CREATED:20241210T180811Z
LAST-MODIFIED:20250508T035024Z
UID:10004238-1854086400-1854097200@stoughtoncc.com
SUMMARY:Monday Morning Trap/Skeet
DESCRIPTION:Open trap and skeet for members. Come\, shoot\, drink coffee.
URL:https://stoughtoncc.com/event/monday-morning-trap-skeet/2028-10-02/
LOCATION:Trap & Skeet Fields
END:VEVENT
BEGIN:VEVENT
DTSTART;TZID=America/Chicago:20281009T080000
DTEND;TZID=America/Chicago:20281009T110000
DTSTAMP:20260424T022632
CREATED:20241210T180811Z
LAST-MODIFIED:20250508T035024Z
UID:10004239-1854691200-1854702000@stoughtoncc.com
SUMMARY:Monday Morning Trap/Skeet
DESCRIPTION:Open trap and skeet for members. Come\, shoot\, drink coffee.
URL:https://stoughtoncc.com/event/monday-morning-trap-skeet/2028-10-09/
LOCATION:Trap & Skeet Fields
END:VEVENT
BEGIN:VEVENT
DTSTART;TZID=America/Chicago:20281016T080000
DTEND;TZID=America/Chicago:20281016T110000
DTSTAMP:20260424T022632
CREATED:20241210T180811Z
LAST-MODIFIED:20250508T035024Z
UID:10004240-1855296000-1855306800@stoughtoncc.com
SUMMARY:Monday Morning Trap/Skeet
DESCRIPTION:Open trap and skeet for members. Come\, shoot\, drink coffee.
URL:https://stoughtoncc.com/event/monday-morning-trap-skeet/2028-10-16/
LOCATION:Trap & Skeet Fields
END:VEVENT
BEGIN:VEVENT
DTSTART;TZID=America/Chicago:20281023T080000
DTEND;TZID=America/Chicago:20281023T110000
DTSTAMP:20260424T022632
CREATED:20241210T180811Z
LAST-MODIFIED:20250508T035024Z
UID:10004241-1855900800-1855911600@stoughtoncc.com
SUMMARY:Monday Morning Trap/Skeet
DESCRIPTION:Open trap and skeet for members. Come\, shoot\, drink coffee.
URL:https://stoughtoncc.com/event/monday-morning-trap-skeet/2028-10-23/
LOCATION:Trap & Skeet Fields
END:VEVENT
BEGIN:VEVENT
DTSTART;TZID=America/Chicago:20281030T080000
DTEND;TZID=America/Chicago:20281030T110000
DTSTAMP:20260424T022632
CREATED:20241210T180811Z
LAST-MODIFIED:20250508T035024Z
UID:10004242-1856505600-1856516400@stoughtoncc.com
SUMMARY:Monday Morning Trap/Skeet
DESCRIPTION:Open trap and skeet for members. Come\, shoot\, drink coffee.
URL:https://stoughtoncc.com/event/monday-morning-trap-skeet/2028-10-30/
LOCATION:Trap & Skeet Fields
END:VEVENT
BEGIN:VEVENT
DTSTART;TZID=America/Chicago:20281106T080000
DTEND;TZID=America/Chicago:20281106T110000
DTSTAMP:20260424T022632
CREATED:20241210T180811Z
LAST-MODIFIED:20250508T035024Z
UID:10004243-1857110400-1857121200@stoughtoncc.com
SUMMARY:Monday Morning Trap/Skeet
DESCRIPTION:Open trap and skeet for members. Come\, shoot\, drink coffee.
URL:https://stoughtoncc.com/event/monday-morning-trap-skeet/2028-11-06/
LOCATION:Trap & Skeet Fields
END:VEVENT
BEGIN:VEVENT
DTSTART;TZID=America/Chicago:20281113T080000
DTEND;TZID=America/Chicago:20281113T110000
DTSTAMP:20260424T022632
CREATED:20241210T180811Z
LAST-MODIFIED:20250508T035024Z
UID:10004244-1857715200-1857726000@stoughtoncc.com
SUMMARY:Monday Morning Trap/Skeet
DESCRIPTION:Open trap and skeet for members. Come\, shoot\, drink coffee.
URL:https://stoughtoncc.com/event/monday-morning-trap-skeet/2028-11-13/
LOCATION:Trap & Skeet Fields
END:VEVENT
END:VCALENDAR