BEGIN:VCALENDAR
VERSION:2.0
PRODID:-//Stoughton Conservation Club - ECPv6.15.20//NONSGML v1.0//EN
CALSCALE:GREGORIAN
METHOD:PUBLISH
X-ORIGINAL-URL:https://stoughtoncc.com
X-WR-CALDESC:Events for Stoughton Conservation Club
REFRESH-INTERVAL;VALUE=DURATION:PT1H
X-Robots-Tag:noindex
X-PUBLISHED-TTL:PT1H
BEGIN:VTIMEZONE
TZID:America/Chicago
BEGIN:DAYLIGHT
TZOFFSETFROM:-0600
TZOFFSETTO:-0500
TZNAME:CDT
DTSTART:20240310T080000
END:DAYLIGHT
BEGIN:STANDARD
TZOFFSETFROM:-0500
TZOFFSETTO:-0600
TZNAME:CST
DTSTART:20241103T070000
END:STANDARD
BEGIN:DAYLIGHT
TZOFFSETFROM:-0600
TZOFFSETTO:-0500
TZNAME:CDT
DTSTART:20250309T080000
END:DAYLIGHT
BEGIN:STANDARD
TZOFFSETFROM:-0500
TZOFFSETTO:-0600
TZNAME:CST
DTSTART:20251102T070000
END:STANDARD
BEGIN:DAYLIGHT
TZOFFSETFROM:-0600
TZOFFSETTO:-0500
TZNAME:CDT
DTSTART:20260308T080000
END:DAYLIGHT
BEGIN:STANDARD
TZOFFSETFROM:-0500
TZOFFSETTO:-0600
TZNAME:CST
DTSTART:20261101T070000
END:STANDARD
END:VTIMEZONE
BEGIN:VEVENT
DTSTART;TZID=America/Chicago:20250810T130000
DTEND;TZID=America/Chicago:20250810T150000
DTSTAMP:20260423T184205
CREATED:20241119T211422Z
LAST-MODIFIED:20260413T182358Z
UID:10004681-1754830800-1754838000@stoughtoncc.com
SUMMARY:Women's Open Pistol Shoot (Public)
DESCRIPTION:Dates:\nSunday\, May 10: 12-2pm – Cancelled due to Mother’s Day\nSunday\, June 14: 12-2pm\nSunday\, July 12: 12-2pm\nSunday\, August 9: 12-2pm\nSunday\, September 13: 12-2pm\nSunday\, October 11: 12-2pm\nSunday\, November 8: 12-2pm\n  \n\n\nOrganizer:\nMarla Waugh:  MarlaLFish@gmail.com\n\nDetails:\nWomen club members and non-members are welcome to attend the Women’s Open Shoot.  Event fee of $5 for non-members.  Cash only.\n\nBring your pistol\, ammo\, eye and ear protection\, and targets and come to the Women’s Open Shoot.  Meet other women club members or experience the club first hand!  A female NRA certified range safety officer and pistol instructor will be onsite during the Women’s Open Shoot for guidance if needed.\n\nNon-members do not need to accompany a member during these Women Open Shoot events. Special event fee of $5 for every non-member each shoot.
URL:https://stoughtoncc.com/event/womens-open-shoot/2025-08-10/
LOCATION:Pistol Building
ORGANIZER;CN="Marla Waugh":MAILTO:marlalfish@gmail.com
END:VEVENT
BEGIN:VEVENT
DTSTART;TZID=America/Chicago:20250806T170000
DTEND;TZID=America/Chicago:20250806T210000
DTSTAMP:20260423T184205
CREATED:20250401T200444Z
LAST-MODIFIED:20250508T035437Z
UID:10004711-1754499600-1754514000@stoughtoncc.com
SUMMARY:Broadhead Archery League
DESCRIPTION:
URL:https://stoughtoncc.com/event/broadhead-archery-league/2025-08-06/
LOCATION:Pistol Building
ORGANIZER;CN="Dave Rynes":MAILTO:blackdogdr@gmail.com
END:VEVENT
BEGIN:VEVENT
DTSTART;TZID=America/Chicago:20250730T170000
DTEND;TZID=America/Chicago:20250730T210000
DTSTAMP:20260423T184205
CREATED:20250401T200444Z
LAST-MODIFIED:20250508T035437Z
UID:10004710-1753894800-1753909200@stoughtoncc.com
SUMMARY:Broadhead Archery League
DESCRIPTION:
URL:https://stoughtoncc.com/event/broadhead-archery-league/2025-07-30/
LOCATION:Pistol Building
ORGANIZER;CN="Dave Rynes":MAILTO:blackdogdr@gmail.com
END:VEVENT
BEGIN:VEVENT
DTSTART;TZID=America/Chicago:20250723T170000
DTEND;TZID=America/Chicago:20250723T210000
DTSTAMP:20260423T184205
CREATED:20250401T200444Z
LAST-MODIFIED:20250508T035437Z
UID:10004709-1753290000-1753304400@stoughtoncc.com
SUMMARY:Broadhead Archery League
DESCRIPTION:
URL:https://stoughtoncc.com/event/broadhead-archery-league/2025-07-23/
LOCATION:Pistol Building
ORGANIZER;CN="Dave Rynes":MAILTO:blackdogdr@gmail.com
END:VEVENT
BEGIN:VEVENT
DTSTART;TZID=America/Chicago:20250716T170000
DTEND;TZID=America/Chicago:20250716T210000
DTSTAMP:20260423T184205
CREATED:20250401T200444Z
LAST-MODIFIED:20250508T035437Z
UID:10004708-1752685200-1752699600@stoughtoncc.com
SUMMARY:Broadhead Archery League
DESCRIPTION:
URL:https://stoughtoncc.com/event/broadhead-archery-league/2025-07-16/
LOCATION:Pistol Building
ORGANIZER;CN="Dave Rynes":MAILTO:blackdogdr@gmail.com
END:VEVENT
BEGIN:VEVENT
DTSTART;TZID=America/Chicago:20250713T130000
DTEND;TZID=America/Chicago:20250713T150000
DTSTAMP:20260423T184205
CREATED:20241119T211422Z
LAST-MODIFIED:20260413T182358Z
UID:10004680-1752411600-1752418800@stoughtoncc.com
SUMMARY:Women's Open Pistol Shoot (Public)
DESCRIPTION:Dates:\nSunday\, May 10: 12-2pm – Cancelled due to Mother’s Day\nSunday\, June 14: 12-2pm\nSunday\, July 12: 12-2pm\nSunday\, August 9: 12-2pm\nSunday\, September 13: 12-2pm\nSunday\, October 11: 12-2pm\nSunday\, November 8: 12-2pm\n  \n\n\nOrganizer:\nMarla Waugh:  MarlaLFish@gmail.com\n\nDetails:\nWomen club members and non-members are welcome to attend the Women’s Open Shoot.  Event fee of $5 for non-members.  Cash only.\n\nBring your pistol\, ammo\, eye and ear protection\, and targets and come to the Women’s Open Shoot.  Meet other women club members or experience the club first hand!  A female NRA certified range safety officer and pistol instructor will be onsite during the Women’s Open Shoot for guidance if needed.\n\nNon-members do not need to accompany a member during these Women Open Shoot events. Special event fee of $5 for every non-member each shoot.
URL:https://stoughtoncc.com/event/womens-open-shoot/2025-07-13/
LOCATION:Pistol Building
ORGANIZER;CN="Marla Waugh":MAILTO:marlalfish@gmail.com
END:VEVENT
BEGIN:VEVENT
DTSTART;TZID=America/Chicago:20250709T170000
DTEND;TZID=America/Chicago:20250709T210000
DTSTAMP:20260423T184205
CREATED:20250401T200444Z
LAST-MODIFIED:20250508T035437Z
UID:10004707-1752080400-1752094800@stoughtoncc.com
SUMMARY:Broadhead Archery League
DESCRIPTION:
URL:https://stoughtoncc.com/event/broadhead-archery-league/2025-07-09/
LOCATION:Pistol Building
ORGANIZER;CN="Dave Rynes":MAILTO:blackdogdr@gmail.com
END:VEVENT
BEGIN:VEVENT
DTSTART;TZID=America/Chicago:20250702T170000
DTEND;TZID=America/Chicago:20250702T210000
DTSTAMP:20260423T184205
CREATED:20250401T200444Z
LAST-MODIFIED:20250508T035437Z
UID:10004706-1751475600-1751490000@stoughtoncc.com
SUMMARY:Broadhead Archery League
DESCRIPTION:
URL:https://stoughtoncc.com/event/broadhead-archery-league/2025-07-02/
LOCATION:Pistol Building
ORGANIZER;CN="Dave Rynes":MAILTO:blackdogdr@gmail.com
END:VEVENT
BEGIN:VEVENT
DTSTART;TZID=America/Chicago:20250625T170000
DTEND;TZID=America/Chicago:20250625T210000
DTSTAMP:20260423T184205
CREATED:20250401T200444Z
LAST-MODIFIED:20250508T035437Z
UID:10004705-1750870800-1750885200@stoughtoncc.com
SUMMARY:Broadhead Archery League
DESCRIPTION:
URL:https://stoughtoncc.com/event/broadhead-archery-league/2025-06-25/
LOCATION:Pistol Building
ORGANIZER;CN="Dave Rynes":MAILTO:blackdogdr@gmail.com
END:VEVENT
BEGIN:VEVENT
DTSTART;TZID=America/Chicago:20250618T170000
DTEND;TZID=America/Chicago:20250618T210000
DTSTAMP:20260423T184205
CREATED:20250401T200444Z
LAST-MODIFIED:20250508T035437Z
UID:10004704-1750266000-1750280400@stoughtoncc.com
SUMMARY:Broadhead Archery League
DESCRIPTION:
URL:https://stoughtoncc.com/event/broadhead-archery-league/2025-06-18/
LOCATION:Pistol Building
ORGANIZER;CN="Dave Rynes":MAILTO:blackdogdr@gmail.com
END:VEVENT
BEGIN:VEVENT
DTSTART;TZID=America/Chicago:20250611T170000
DTEND;TZID=America/Chicago:20250611T210000
DTSTAMP:20260423T184205
CREATED:20250401T200444Z
LAST-MODIFIED:20250508T035437Z
UID:10004703-1749661200-1749675600@stoughtoncc.com
SUMMARY:Broadhead Archery League
DESCRIPTION:
URL:https://stoughtoncc.com/event/broadhead-archery-league/2025-06-11/
LOCATION:Pistol Building
ORGANIZER;CN="Dave Rynes":MAILTO:blackdogdr@gmail.com
END:VEVENT
BEGIN:VEVENT
DTSTART;TZID=America/Chicago:20250608T130000
DTEND;TZID=America/Chicago:20250608T150000
DTSTAMP:20260423T184205
CREATED:20241119T211422Z
LAST-MODIFIED:20260413T182358Z
UID:10004679-1749387600-1749394800@stoughtoncc.com
SUMMARY:Women's Open Pistol Shoot (Public)
DESCRIPTION:Dates:\nSunday\, May 10: 12-2pm – Cancelled due to Mother’s Day\nSunday\, June 14: 12-2pm\nSunday\, July 12: 12-2pm\nSunday\, August 9: 12-2pm\nSunday\, September 13: 12-2pm\nSunday\, October 11: 12-2pm\nSunday\, November 8: 12-2pm\n  \n\n\nOrganizer:\nMarla Waugh:  MarlaLFish@gmail.com\n\nDetails:\nWomen club members and non-members are welcome to attend the Women’s Open Shoot.  Event fee of $5 for non-members.  Cash only.\n\nBring your pistol\, ammo\, eye and ear protection\, and targets and come to the Women’s Open Shoot.  Meet other women club members or experience the club first hand!  A female NRA certified range safety officer and pistol instructor will be onsite during the Women’s Open Shoot for guidance if needed.\n\nNon-members do not need to accompany a member during these Women Open Shoot events. Special event fee of $5 for every non-member each shoot.
URL:https://stoughtoncc.com/event/womens-open-shoot/2025-06-08/
LOCATION:Pistol Building
ORGANIZER;CN="Marla Waugh":MAILTO:marlalfish@gmail.com
END:VEVENT
BEGIN:VEVENT
DTSTART;TZID=America/Chicago:20250607T080000
DTEND;TZID=America/Chicago:20250607T120000
DTSTAMP:20260423T184205
CREATED:20250411T143340Z
LAST-MODIFIED:20250508T034013Z
UID:10004719-1749283200-1749297600@stoughtoncc.com
SUMMARY:4H Pistol
DESCRIPTION:4H will practice pistol shooting at the indoor pistol range.
URL:https://stoughtoncc.com/event/4h-pistol/2025-06-07/
LOCATION:Pistol Building
ORGANIZER;CN="Chad Xander":MAILTO:cmxander70@gmail.com
END:VEVENT
BEGIN:VEVENT
DTSTART;TZID=America/Chicago:20250604T170000
DTEND;TZID=America/Chicago:20250604T210000
DTSTAMP:20260423T184205
CREATED:20250401T200444Z
LAST-MODIFIED:20250508T035437Z
UID:10004702-1749056400-1749070800@stoughtoncc.com
SUMMARY:Broadhead Archery League
DESCRIPTION:
URL:https://stoughtoncc.com/event/broadhead-archery-league/2025-06-04/
LOCATION:Pistol Building
ORGANIZER;CN="Dave Rynes":MAILTO:blackdogdr@gmail.com
END:VEVENT
BEGIN:VEVENT
DTSTART;TZID=America/Chicago:20250528T180000
DTEND;TZID=America/Chicago:20250528T213000
DTSTAMP:20260423T184205
CREATED:20250401T200213Z
LAST-MODIFIED:20250508T033951Z
UID:10004701-1748455200-1748467800@stoughtoncc.com
SUMMARY:Black Sheep Pistol League
DESCRIPTION:
URL:https://stoughtoncc.com/event/black-sheep-pistol-league/2025-05-28/
LOCATION:Pistol Building
END:VEVENT
BEGIN:VEVENT
DTSTART;TZID=America/Chicago:20250524T080000
DTEND;TZID=America/Chicago:20250524T160000
DTSTAMP:20260423T184205
CREATED:20250501T022048Z
LAST-MODIFIED:20250508T035422Z
UID:10004750-1748073600-1748102400@stoughtoncc.com
SUMMARY:Woods Course/Archery Clean-up Day
DESCRIPTION:Work starts at 8:00\, ends when we’re done. \nBring gloves and yard work tools.
URL:https://stoughtoncc.com/event/woods-course-archery-clean-up-day/
LOCATION:Pistol Building
ORGANIZER;CN="Dave Rynes":MAILTO:blackdogdr@gmail.com
END:VEVENT
BEGIN:VEVENT
DTSTART;TZID=America/Chicago:20250524T080000
DTEND;TZID=America/Chicago:20250524T120000
DTSTAMP:20260423T184205
CREATED:20250411T143340Z
LAST-MODIFIED:20250508T034013Z
UID:10004718-1748073600-1748088000@stoughtoncc.com
SUMMARY:4H Pistol
DESCRIPTION:4H will practice pistol shooting at the indoor pistol range.
URL:https://stoughtoncc.com/event/4h-pistol/2025-05-24/
LOCATION:Pistol Building
ORGANIZER;CN="Chad Xander":MAILTO:cmxander70@gmail.com
END:VEVENT
BEGIN:VEVENT
DTSTART;TZID=America/Chicago:20250521T180000
DTEND;TZID=America/Chicago:20250521T213000
DTSTAMP:20260423T184205
CREATED:20250401T200213Z
LAST-MODIFIED:20250508T033951Z
UID:10004700-1747850400-1747863000@stoughtoncc.com
SUMMARY:Black Sheep Pistol League
DESCRIPTION:
URL:https://stoughtoncc.com/event/black-sheep-pistol-league/2025-05-21/
LOCATION:Pistol Building
END:VEVENT
BEGIN:VEVENT
DTSTART;TZID=America/Chicago:20250521T170000
DTEND;TZID=America/Chicago:20250521T210000
DTSTAMP:20260423T184205
CREATED:20250401T200055Z
LAST-MODIFIED:20250508T035359Z
UID:10004693-1747846800-1747861200@stoughtoncc.com
SUMMARY:3D Archery League
DESCRIPTION:
URL:https://stoughtoncc.com/event/3d-archery-league/2025-05-21/
LOCATION:Pistol Building
ORGANIZER;CN="Dave Rynes":MAILTO:blackdogdr@gmail.com
END:VEVENT
BEGIN:VEVENT
DTSTART;TZID=America/Chicago:20250518T130000
DTEND;TZID=America/Chicago:20250518T150000
DTSTAMP:20260423T184205
CREATED:20241119T211422Z
LAST-MODIFIED:20260413T182358Z
UID:10004678-1747573200-1747580400@stoughtoncc.com
SUMMARY:Women's Open Pistol Shoot (Public)
DESCRIPTION:Dates:\nSunday\, May 10: 12-2pm – Cancelled due to Mother’s Day\nSunday\, June 14: 12-2pm\nSunday\, July 12: 12-2pm\nSunday\, August 9: 12-2pm\nSunday\, September 13: 12-2pm\nSunday\, October 11: 12-2pm\nSunday\, November 8: 12-2pm\n  \n\n\nOrganizer:\nMarla Waugh:  MarlaLFish@gmail.com\n\nDetails:\nWomen club members and non-members are welcome to attend the Women’s Open Shoot.  Event fee of $5 for non-members.  Cash only.\n\nBring your pistol\, ammo\, eye and ear protection\, and targets and come to the Women’s Open Shoot.  Meet other women club members or experience the club first hand!  A female NRA certified range safety officer and pistol instructor will be onsite during the Women’s Open Shoot for guidance if needed.\n\nNon-members do not need to accompany a member during these Women Open Shoot events. Special event fee of $5 for every non-member each shoot.
URL:https://stoughtoncc.com/event/womens-open-shoot/2025-05-18/
LOCATION:Pistol Building
ORGANIZER;CN="Marla Waugh":MAILTO:marlalfish@gmail.com
END:VEVENT
BEGIN:VEVENT
DTSTART;TZID=America/Chicago:20250517T080000
DTEND;TZID=America/Chicago:20250517T160000
DTSTAMP:20260423T184205
CREATED:20241213T035053Z
LAST-MODIFIED:20250508T034057Z
UID:10004452-1747468800-1747497600@stoughtoncc.com
SUMMARY:4H Fair Shoot
DESCRIPTION:4H will use the indoor pistol range.
URL:https://stoughtoncc.com/event/4h-fair-shoot/
LOCATION:Pistol Building
ORGANIZER;CN="Chad Xander":MAILTO:cmxander70@gmail.com
END:VEVENT
BEGIN:VEVENT
DTSTART;TZID=America/Chicago:20250514T180000
DTEND;TZID=America/Chicago:20250514T213000
DTSTAMP:20260423T184205
CREATED:20250401T200213Z
LAST-MODIFIED:20250508T033951Z
UID:10004699-1747245600-1747258200@stoughtoncc.com
SUMMARY:Black Sheep Pistol League
DESCRIPTION:
URL:https://stoughtoncc.com/event/black-sheep-pistol-league/2025-05-14/
LOCATION:Pistol Building
END:VEVENT
BEGIN:VEVENT
DTSTART;TZID=America/Chicago:20250514T170000
DTEND;TZID=America/Chicago:20250514T210000
DTSTAMP:20260423T184205
CREATED:20250401T200055Z
LAST-MODIFIED:20250508T035359Z
UID:10004692-1747242000-1747256400@stoughtoncc.com
SUMMARY:3D Archery League
DESCRIPTION:
URL:https://stoughtoncc.com/event/3d-archery-league/2025-05-14/
LOCATION:Pistol Building
ORGANIZER;CN="Dave Rynes":MAILTO:blackdogdr@gmail.com
END:VEVENT
BEGIN:VEVENT
DTSTART;TZID=America/Chicago:20250510T080000
DTEND;TZID=America/Chicago:20250510T120000
DTSTAMP:20260423T184205
CREATED:20250411T143340Z
LAST-MODIFIED:20250508T034013Z
UID:10004717-1746864000-1746878400@stoughtoncc.com
SUMMARY:4H Pistol
DESCRIPTION:4H will practice pistol shooting at the indoor pistol range.
URL:https://stoughtoncc.com/event/4h-pistol/2025-05-10/
LOCATION:Pistol Building
ORGANIZER;CN="Chad Xander":MAILTO:cmxander70@gmail.com
END:VEVENT
BEGIN:VEVENT
DTSTART;TZID=America/Chicago:20250510T070000
DTEND;TZID=America/Chicago:20250510T190000
DTSTAMP:20260423T184205
CREATED:20240814T050059Z
LAST-MODIFIED:20250508T035334Z
UID:10003795-1746860400-1746903600@stoughtoncc.com
SUMMARY:S3DA Archery Tournament
DESCRIPTION:
URL:https://stoughtoncc.com/event/s3da-archery-tournament-2/
LOCATION:Woods Trail Archery Course\, WI
ORGANIZER;CN="Dave Rynes":MAILTO:blackdogdr@gmail.com
END:VEVENT
BEGIN:VEVENT
DTSTART;TZID=America/Chicago:20250507T180000
DTEND;TZID=America/Chicago:20250507T213000
DTSTAMP:20260423T184205
CREATED:20250401T200213Z
LAST-MODIFIED:20250508T033951Z
UID:10004698-1746640800-1746653400@stoughtoncc.com
SUMMARY:Black Sheep Pistol League
DESCRIPTION:
URL:https://stoughtoncc.com/event/black-sheep-pistol-league/2025-05-07/
LOCATION:Pistol Building
END:VEVENT
BEGIN:VEVENT
DTSTART;TZID=America/Chicago:20250507T170000
DTEND;TZID=America/Chicago:20250507T210000
DTSTAMP:20260423T184205
CREATED:20250401T200055Z
LAST-MODIFIED:20250508T035359Z
UID:10004691-1746637200-1746651600@stoughtoncc.com
SUMMARY:3D Archery League
DESCRIPTION:
URL:https://stoughtoncc.com/event/3d-archery-league/2025-05-07/
LOCATION:Pistol Building
ORGANIZER;CN="Dave Rynes":MAILTO:blackdogdr@gmail.com
END:VEVENT
BEGIN:VEVENT
DTSTART;TZID=America/Chicago:20250430T180000
DTEND;TZID=America/Chicago:20250430T213000
DTSTAMP:20260423T184205
CREATED:20250401T200213Z
LAST-MODIFIED:20250508T033951Z
UID:10004697-1746036000-1746048600@stoughtoncc.com
SUMMARY:Black Sheep Pistol League
DESCRIPTION:
URL:https://stoughtoncc.com/event/black-sheep-pistol-league/2025-04-30/
LOCATION:Pistol Building
END:VEVENT
BEGIN:VEVENT
DTSTART;TZID=America/Chicago:20250430T170000
DTEND;TZID=America/Chicago:20250430T210000
DTSTAMP:20260423T184205
CREATED:20250401T200055Z
LAST-MODIFIED:20250508T035359Z
UID:10004690-1746032400-1746046800@stoughtoncc.com
SUMMARY:3D Archery League
DESCRIPTION:
URL:https://stoughtoncc.com/event/3d-archery-league/2025-04-30/
LOCATION:Pistol Building
ORGANIZER;CN="Dave Rynes":MAILTO:blackdogdr@gmail.com
END:VEVENT
BEGIN:VEVENT
DTSTART;TZID=America/Chicago:20250423T180000
DTEND;TZID=America/Chicago:20250423T213000
DTSTAMP:20260423T184205
CREATED:20250401T200213Z
LAST-MODIFIED:20250508T033951Z
UID:10004696-1745431200-1745443800@stoughtoncc.com
SUMMARY:Black Sheep Pistol League
DESCRIPTION:
URL:https://stoughtoncc.com/event/black-sheep-pistol-league/2025-04-23/
LOCATION:Pistol Building
END:VEVENT
END:VCALENDAR