BEGIN:VCALENDAR
VERSION:2.0
PRODID:-//Stoughton Conservation Club - ECPv6.15.20//NONSGML v1.0//EN
CALSCALE:GREGORIAN
METHOD:PUBLISH
X-WR-CALNAME:Stoughton Conservation Club
X-ORIGINAL-URL:https://stoughtoncc.com
X-WR-CALDESC:Events for Stoughton Conservation Club
REFRESH-INTERVAL;VALUE=DURATION:PT1H
X-Robots-Tag:noindex
X-PUBLISHED-TTL:PT1H
BEGIN:VTIMEZONE
TZID:America/Chicago
BEGIN:DAYLIGHT
TZOFFSETFROM:-0600
TZOFFSETTO:-0500
TZNAME:CDT
DTSTART:20240310T080000
END:DAYLIGHT
BEGIN:STANDARD
TZOFFSETFROM:-0500
TZOFFSETTO:-0600
TZNAME:CST
DTSTART:20241103T070000
END:STANDARD
BEGIN:DAYLIGHT
TZOFFSETFROM:-0600
TZOFFSETTO:-0500
TZNAME:CDT
DTSTART:20250309T080000
END:DAYLIGHT
BEGIN:STANDARD
TZOFFSETFROM:-0500
TZOFFSETTO:-0600
TZNAME:CST
DTSTART:20251102T070000
END:STANDARD
BEGIN:DAYLIGHT
TZOFFSETFROM:-0600
TZOFFSETTO:-0500
TZNAME:CDT
DTSTART:20260308T080000
END:DAYLIGHT
BEGIN:STANDARD
TZOFFSETFROM:-0500
TZOFFSETTO:-0600
TZNAME:CST
DTSTART:20261101T070000
END:STANDARD
BEGIN:DAYLIGHT
TZOFFSETFROM:-0600
TZOFFSETTO:-0500
TZNAME:CDT
DTSTART:20270314T080000
END:DAYLIGHT
BEGIN:STANDARD
TZOFFSETFROM:-0500
TZOFFSETTO:-0600
TZNAME:CST
DTSTART:20271107T070000
END:STANDARD
END:VTIMEZONE
BEGIN:VEVENT
DTSTART;TZID=America/Chicago:20260421T050000
DTEND;TZID=America/Chicago:20260421T210000
DTSTAMP:20260423T122408
CREATED:20260324T224429Z
LAST-MODIFIED:20260324T224429Z
UID:10005123-1776747600-1776805200@stoughtoncc.com
SUMMARY:3D Archery League - 2026
DESCRIPTION:
URL:https://stoughtoncc.com/event/3d-archery-league-2026/2026-04-21/
LOCATION:Woods Trail Archery Course\, WI
ORGANIZER;CN="Dave Rynes":MAILTO:blackdogdr@gmail.com
END:VEVENT
BEGIN:VEVENT
DTSTART;TZID=America/Chicago:20260418T080000
DTEND;TZID=America/Chicago:20260418T170000
DTSTAMP:20260423T122408
CREATED:20250903T192839Z
LAST-MODIFIED:20260416T182135Z
UID:10004892-1776499200-1776531600@stoughtoncc.com
SUMMARY:S3DA Outdoor Archery Tournament
DESCRIPTION:Trap fields 1 and 2 and Skeet fields 2 and 3 will be closed during the S3DA shoot.
URL:https://stoughtoncc.com/event/s3da-outdoor-archery-tournament/
LOCATION:Woods Trail Archery Course\, WI
ORGANIZER;CN="Dave Rynes":MAILTO:blackdogdr@gmail.com
END:VEVENT
BEGIN:VEVENT
DTSTART;TZID=America/Chicago:20260414T050000
DTEND;TZID=America/Chicago:20260414T210000
DTSTAMP:20260423T122408
CREATED:20260324T224429Z
LAST-MODIFIED:20260324T224429Z
UID:10005122-1776142800-1776200400@stoughtoncc.com
SUMMARY:3D Archery League - 2026
DESCRIPTION:
URL:https://stoughtoncc.com/event/3d-archery-league-2026/2026-04-14/
LOCATION:Woods Trail Archery Course\, WI
ORGANIZER;CN="Dave Rynes":MAILTO:blackdogdr@gmail.com
END:VEVENT
BEGIN:VEVENT
DTSTART;TZID=America/Chicago:20260412T120000
DTEND;TZID=America/Chicago:20260412T140000
DTSTAMP:20260423T122408
CREATED:20241119T211422Z
LAST-MODIFIED:20260413T182358Z
UID:10005035-1775995200-1776002400@stoughtoncc.com
SUMMARY:Women's Open Pistol Shoot (Public)
DESCRIPTION:Dates:\nSunday\, May 10: 12-2pm – Cancelled due to Mother’s Day\nSunday\, June 14: 12-2pm\nSunday\, July 12: 12-2pm\nSunday\, August 9: 12-2pm\nSunday\, September 13: 12-2pm\nSunday\, October 11: 12-2pm\nSunday\, November 8: 12-2pm\n  \n\n\nOrganizer:\nMarla Waugh:  MarlaLFish@gmail.com\n\nDetails:\nWomen club members and non-members are welcome to attend the Women’s Open Shoot.  Event fee of $5 for non-members.  Cash only.\n\nBring your pistol\, ammo\, eye and ear protection\, and targets and come to the Women’s Open Shoot.  Meet other women club members or experience the club first hand!  A female NRA certified range safety officer and pistol instructor will be onsite during the Women’s Open Shoot for guidance if needed.\n\nNon-members do not need to accompany a member during these Women Open Shoot events. Special event fee of $5 for every non-member each shoot.
URL:https://stoughtoncc.com/event/womens-open-shoot/2026-04-12/
LOCATION:Pistol Building
ORGANIZER;CN="Marla Waugh":MAILTO:marlalfish@gmail.com
END:VEVENT
BEGIN:VEVENT
DTSTART;TZID=America/Chicago:20260411T080000
DTEND;TZID=America/Chicago:20260411T120000
DTSTAMP:20260423T122408
CREATED:20251209T051202Z
LAST-MODIFIED:20251209T052220Z
UID:10005052-1775894400-1775908800@stoughtoncc.com
SUMMARY:4H Pistol
DESCRIPTION:Air Pistol (8:30-10:00am) and .22 Pistol (10-11:30am)
URL:https://stoughtoncc.com/event/4h-air-and-22-pistol/2026-04-11/
LOCATION:Pistol Range
ORGANIZER;CN="Shawn Cannon":MAILTO:shawndeannacannon@gmail.com
END:VEVENT
BEGIN:VEVENT
DTSTART;TZID=America/Chicago:20260407T170000
DTEND;TZID=America/Chicago:20260407T210000
DTSTAMP:20260423T122408
CREATED:20251209T051909Z
LAST-MODIFIED:20260326T050856Z
UID:10005130-1775581200-1775595600@stoughtoncc.com
SUMMARY:4H Air/22 Rifle
DESCRIPTION:The 4H Shooting Sports program will use the indoor pistol range to shoot air rifles.
URL:https://stoughtoncc.com/event/4h-air-rifle-2/2026-04-07/
LOCATION:Pistol Range
ORGANIZER;CN="Shawn Cannon":MAILTO:shawndeannacannon@gmail.com
END:VEVENT
BEGIN:VEVENT
DTSTART;TZID=America/Chicago:20260407T050000
DTEND;TZID=America/Chicago:20260407T210000
DTSTAMP:20260423T122408
CREATED:20260324T224429Z
LAST-MODIFIED:20260324T224429Z
UID:10005121-1775538000-1775595600@stoughtoncc.com
SUMMARY:3D Archery League - 2026
DESCRIPTION:
URL:https://stoughtoncc.com/event/3d-archery-league-2026/2026-04-07/
LOCATION:Woods Trail Archery Course\, WI
ORGANIZER;CN="Dave Rynes":MAILTO:blackdogdr@gmail.com
END:VEVENT
BEGIN:VEVENT
DTSTART;TZID=America/Chicago:20260331T170000
DTEND;TZID=America/Chicago:20260331T210000
DTSTAMP:20260423T122408
CREATED:20251209T051909Z
LAST-MODIFIED:20260326T050856Z
UID:10005061-1774976400-1774990800@stoughtoncc.com
SUMMARY:4H Air/22 Rifle
DESCRIPTION:The 4H Shooting Sports program will use the indoor pistol range to shoot air rifles.
URL:https://stoughtoncc.com/event/4h-air-rifle-2/2026-03-31/
LOCATION:Pistol Range
ORGANIZER;CN="Shawn Cannon":MAILTO:shawndeannacannon@gmail.com
END:VEVENT
BEGIN:VEVENT
DTSTART;TZID=America/Chicago:20260331T050000
DTEND;TZID=America/Chicago:20260331T210000
DTSTAMP:20260423T122408
CREATED:20260324T224429Z
LAST-MODIFIED:20260324T224429Z
UID:10005120-1774933200-1774990800@stoughtoncc.com
SUMMARY:3D Archery League - 2026
DESCRIPTION:
URL:https://stoughtoncc.com/event/3d-archery-league-2026/2026-03-31/
LOCATION:Woods Trail Archery Course\, WI
ORGANIZER;CN="Dave Rynes":MAILTO:blackdogdr@gmail.com
END:VEVENT
BEGIN:VEVENT
DTSTART;TZID=America/Chicago:20260325T173000
DTEND;TZID=America/Chicago:20260325T213000
DTSTAMP:20260423T122408
CREATED:20260120T144016Z
LAST-MODIFIED:20260212T003807Z
UID:10005109-1774459800-1774474200@stoughtoncc.com
SUMMARY:Black Sheep Pistol League - 2026
DESCRIPTION:
URL:https://stoughtoncc.com/event/black-sheep-pistol-league-2026/2026-03-25/
LOCATION:Pistol Range
END:VEVENT
BEGIN:VEVENT
DTSTART;TZID=America/Chicago:20260324T170000
DTEND;TZID=America/Chicago:20260324T210000
DTSTAMP:20260423T122408
CREATED:20251209T051909Z
LAST-MODIFIED:20260326T050856Z
UID:10005060-1774371600-1774386000@stoughtoncc.com
SUMMARY:4H Air/22 Rifle
DESCRIPTION:The 4H Shooting Sports program will use the indoor pistol range to shoot air rifles.
URL:https://stoughtoncc.com/event/4h-air-rifle-2/2026-03-24/
LOCATION:Pistol Range
ORGANIZER;CN="Shawn Cannon":MAILTO:shawndeannacannon@gmail.com
END:VEVENT
BEGIN:VEVENT
DTSTART;TZID=America/Chicago:20260318T173000
DTEND;TZID=America/Chicago:20260318T213000
DTSTAMP:20260423T122408
CREATED:20260120T144016Z
LAST-MODIFIED:20260212T003807Z
UID:10005108-1773855000-1773869400@stoughtoncc.com
SUMMARY:Black Sheep Pistol League - 2026
DESCRIPTION:
URL:https://stoughtoncc.com/event/black-sheep-pistol-league-2026/2026-03-18/
LOCATION:Pistol Range
END:VEVENT
BEGIN:VEVENT
DTSTART;TZID=America/Chicago:20260317T170000
DTEND;TZID=America/Chicago:20260317T210000
DTSTAMP:20260423T122408
CREATED:20251209T051909Z
LAST-MODIFIED:20260326T050856Z
UID:10005059-1773766800-1773781200@stoughtoncc.com
SUMMARY:4H Air/22 Rifle
DESCRIPTION:The 4H Shooting Sports program will use the indoor pistol range to shoot air rifles.
URL:https://stoughtoncc.com/event/4h-air-rifle-2/2026-03-17/
LOCATION:Pistol Range
ORGANIZER;CN="Shawn Cannon":MAILTO:shawndeannacannon@gmail.com
END:VEVENT
BEGIN:VEVENT
DTSTART;TZID=America/Chicago:20260311T173000
DTEND;TZID=America/Chicago:20260311T213000
DTSTAMP:20260423T122408
CREATED:20260120T144016Z
LAST-MODIFIED:20260212T003807Z
UID:10005107-1773250200-1773264600@stoughtoncc.com
SUMMARY:Black Sheep Pistol League - 2026
DESCRIPTION:
URL:https://stoughtoncc.com/event/black-sheep-pistol-league-2026/2026-03-11/
LOCATION:Pistol Range
END:VEVENT
BEGIN:VEVENT
DTSTART;TZID=America/Chicago:20260310T170000
DTEND;TZID=America/Chicago:20260310T210000
DTSTAMP:20260423T122408
CREATED:20251209T051909Z
LAST-MODIFIED:20260326T050856Z
UID:10005058-1773162000-1773176400@stoughtoncc.com
SUMMARY:4H Air/22 Rifle
DESCRIPTION:The 4H Shooting Sports program will use the indoor pistol range to shoot air rifles.
URL:https://stoughtoncc.com/event/4h-air-rifle-2/2026-03-10/
LOCATION:Pistol Range
ORGANIZER;CN="Shawn Cannon":MAILTO:shawndeannacannon@gmail.com
END:VEVENT
BEGIN:VEVENT
DTSTART;TZID=America/Chicago:20260308T120000
DTEND;TZID=America/Chicago:20260308T140000
DTSTAMP:20260423T122408
CREATED:20241119T211422Z
LAST-MODIFIED:20260413T182358Z
UID:10005034-1772971200-1772978400@stoughtoncc.com
SUMMARY:Women's Open Pistol Shoot (Public)
DESCRIPTION:Dates:\nSunday\, May 10: 12-2pm – Cancelled due to Mother’s Day\nSunday\, June 14: 12-2pm\nSunday\, July 12: 12-2pm\nSunday\, August 9: 12-2pm\nSunday\, September 13: 12-2pm\nSunday\, October 11: 12-2pm\nSunday\, November 8: 12-2pm\n  \n\n\nOrganizer:\nMarla Waugh:  MarlaLFish@gmail.com\n\nDetails:\nWomen club members and non-members are welcome to attend the Women’s Open Shoot.  Event fee of $5 for non-members.  Cash only.\n\nBring your pistol\, ammo\, eye and ear protection\, and targets and come to the Women’s Open Shoot.  Meet other women club members or experience the club first hand!  A female NRA certified range safety officer and pistol instructor will be onsite during the Women’s Open Shoot for guidance if needed.\n\nNon-members do not need to accompany a member during these Women Open Shoot events. Special event fee of $5 for every non-member each shoot.
URL:https://stoughtoncc.com/event/womens-open-shoot/2026-03-08/
LOCATION:Pistol Building
ORGANIZER;CN="Marla Waugh":MAILTO:marlalfish@gmail.com
END:VEVENT
BEGIN:VEVENT
DTSTART;TZID=America/Chicago:20260304T173000
DTEND;TZID=America/Chicago:20260304T213000
DTSTAMP:20260423T122408
CREATED:20260120T144016Z
LAST-MODIFIED:20260212T003807Z
UID:10005106-1772645400-1772659800@stoughtoncc.com
SUMMARY:Black Sheep Pistol League - 2026
DESCRIPTION:
URL:https://stoughtoncc.com/event/black-sheep-pistol-league-2026/2026-03-04/
LOCATION:Pistol Range
END:VEVENT
BEGIN:VEVENT
DTSTART;TZID=America/Chicago:20260303T170000
DTEND;TZID=America/Chicago:20260303T210000
DTSTAMP:20260423T122408
CREATED:20251209T051909Z
LAST-MODIFIED:20260326T050856Z
UID:10005057-1772557200-1772571600@stoughtoncc.com
SUMMARY:4H Air/22 Rifle
DESCRIPTION:The 4H Shooting Sports program will use the indoor pistol range to shoot air rifles.
URL:https://stoughtoncc.com/event/4h-air-rifle-2/2026-03-03/
LOCATION:Pistol Range
ORGANIZER;CN="Shawn Cannon":MAILTO:shawndeannacannon@gmail.com
END:VEVENT
BEGIN:VEVENT
DTSTART;TZID=America/Chicago:20260225T173000
DTEND;TZID=America/Chicago:20260225T213000
DTSTAMP:20260423T122408
CREATED:20260120T144016Z
LAST-MODIFIED:20260212T003807Z
UID:10005105-1772040600-1772055000@stoughtoncc.com
SUMMARY:Black Sheep Pistol League - 2026
DESCRIPTION:
URL:https://stoughtoncc.com/event/black-sheep-pistol-league-2026/2026-02-25/
LOCATION:Pistol Range
END:VEVENT
BEGIN:VEVENT
DTSTART;TZID=America/Chicago:20260218T173000
DTEND;TZID=America/Chicago:20260218T213000
DTSTAMP:20260423T122408
CREATED:20260120T144016Z
LAST-MODIFIED:20260212T003807Z
UID:10005104-1771435800-1771450200@stoughtoncc.com
SUMMARY:Black Sheep Pistol League - 2026
DESCRIPTION:
URL:https://stoughtoncc.com/event/black-sheep-pistol-league-2026/2026-02-18/
LOCATION:Pistol Range
END:VEVENT
BEGIN:VEVENT
DTSTART;TZID=America/Chicago:20260211T173000
DTEND;TZID=America/Chicago:20260211T213000
DTSTAMP:20260423T122408
CREATED:20260120T144016Z
LAST-MODIFIED:20260212T003807Z
UID:10005103-1770831000-1770845400@stoughtoncc.com
SUMMARY:Black Sheep Pistol League - 2026
DESCRIPTION:
URL:https://stoughtoncc.com/event/black-sheep-pistol-league-2026/2026-02-11/
LOCATION:Pistol Range
END:VEVENT
BEGIN:VEVENT
DTSTART;TZID=America/Chicago:20260208T120000
DTEND;TZID=America/Chicago:20260208T140000
DTSTAMP:20260423T122408
CREATED:20241119T211422Z
LAST-MODIFIED:20260413T182358Z
UID:10005033-1770552000-1770559200@stoughtoncc.com
SUMMARY:Women's Open Pistol Shoot (Public)
DESCRIPTION:Dates:\nSunday\, May 10: 12-2pm – Cancelled due to Mother’s Day\nSunday\, June 14: 12-2pm\nSunday\, July 12: 12-2pm\nSunday\, August 9: 12-2pm\nSunday\, September 13: 12-2pm\nSunday\, October 11: 12-2pm\nSunday\, November 8: 12-2pm\n  \n\n\nOrganizer:\nMarla Waugh:  MarlaLFish@gmail.com\n\nDetails:\nWomen club members and non-members are welcome to attend the Women’s Open Shoot.  Event fee of $5 for non-members.  Cash only.\n\nBring your pistol\, ammo\, eye and ear protection\, and targets and come to the Women’s Open Shoot.  Meet other women club members or experience the club first hand!  A female NRA certified range safety officer and pistol instructor will be onsite during the Women’s Open Shoot for guidance if needed.\n\nNon-members do not need to accompany a member during these Women Open Shoot events. Special event fee of $5 for every non-member each shoot.
URL:https://stoughtoncc.com/event/womens-open-shoot/2026-02-08/
LOCATION:Pistol Building
ORGANIZER;CN="Marla Waugh":MAILTO:marlalfish@gmail.com
END:VEVENT
BEGIN:VEVENT
DTSTART;TZID=America/Chicago:20260204T173000
DTEND;TZID=America/Chicago:20260204T213000
DTSTAMP:20260423T122408
CREATED:20260120T144016Z
LAST-MODIFIED:20260212T003807Z
UID:10005102-1770226200-1770240600@stoughtoncc.com
SUMMARY:Black Sheep Pistol League - 2026
DESCRIPTION:
URL:https://stoughtoncc.com/event/black-sheep-pistol-league-2026/2026-02-04/
LOCATION:Pistol Range
END:VEVENT
BEGIN:VEVENT
DTSTART;TZID=America/Chicago:20260111T120000
DTEND;TZID=America/Chicago:20260111T140000
DTSTAMP:20260423T122408
CREATED:20241119T211422Z
LAST-MODIFIED:20260413T182358Z
UID:10005032-1768132800-1768140000@stoughtoncc.com
SUMMARY:Women's Open Pistol Shoot (Public)
DESCRIPTION:Dates:\nSunday\, May 10: 12-2pm – Cancelled due to Mother’s Day\nSunday\, June 14: 12-2pm\nSunday\, July 12: 12-2pm\nSunday\, August 9: 12-2pm\nSunday\, September 13: 12-2pm\nSunday\, October 11: 12-2pm\nSunday\, November 8: 12-2pm\n  \n\n\nOrganizer:\nMarla Waugh:  MarlaLFish@gmail.com\n\nDetails:\nWomen club members and non-members are welcome to attend the Women’s Open Shoot.  Event fee of $5 for non-members.  Cash only.\n\nBring your pistol\, ammo\, eye and ear protection\, and targets and come to the Women’s Open Shoot.  Meet other women club members or experience the club first hand!  A female NRA certified range safety officer and pistol instructor will be onsite during the Women’s Open Shoot for guidance if needed.\n\nNon-members do not need to accompany a member during these Women Open Shoot events. Special event fee of $5 for every non-member each shoot.
URL:https://stoughtoncc.com/event/womens-open-shoot/2026-01-11/
LOCATION:Pistol Building
ORGANIZER;CN="Marla Waugh":MAILTO:marlalfish@gmail.com
END:VEVENT
BEGIN:VEVENT
DTSTART;TZID=America/Chicago:20251217T173000
DTEND;TZID=America/Chicago:20251217T213000
DTSTAMP:20260423T122408
CREATED:20250812T025509Z
LAST-MODIFIED:20250812T025509Z
UID:10004869-1765992600-1766007000@stoughtoncc.com
SUMMARY:Black Sheep Pistol League
DESCRIPTION:
URL:https://stoughtoncc.com/event/black-sheep-pistol-league-2/2025-12-17/
LOCATION:Pistol Range
END:VEVENT
BEGIN:VEVENT
DTSTART;TZID=America/Chicago:20251210T173000
DTEND;TZID=America/Chicago:20251210T213000
DTSTAMP:20260423T122408
CREATED:20250812T025509Z
LAST-MODIFIED:20250812T025509Z
UID:10004868-1765387800-1765402200@stoughtoncc.com
SUMMARY:Black Sheep Pistol League
DESCRIPTION:
URL:https://stoughtoncc.com/event/black-sheep-pistol-league-2/2025-12-10/
LOCATION:Pistol Range
END:VEVENT
BEGIN:VEVENT
DTSTART;TZID=America/Chicago:20251203T173000
DTEND;TZID=America/Chicago:20251203T213000
DTSTAMP:20260423T122408
CREATED:20250812T025509Z
LAST-MODIFIED:20250812T025509Z
UID:10004867-1764783000-1764797400@stoughtoncc.com
SUMMARY:Black Sheep Pistol League
DESCRIPTION:
URL:https://stoughtoncc.com/event/black-sheep-pistol-league-2/2025-12-03/
LOCATION:Pistol Range
END:VEVENT
BEGIN:VEVENT
DTSTART;TZID=America/Chicago:20251126T173000
DTEND;TZID=America/Chicago:20251126T213000
DTSTAMP:20260423T122408
CREATED:20250812T025509Z
LAST-MODIFIED:20250812T025509Z
UID:10004866-1764178200-1764192600@stoughtoncc.com
SUMMARY:Black Sheep Pistol League
DESCRIPTION:
URL:https://stoughtoncc.com/event/black-sheep-pistol-league-2/2025-11-26/
LOCATION:Pistol Range
END:VEVENT
BEGIN:VEVENT
DTSTART;TZID=America/Chicago:20251120T173000
DTEND;TZID=America/Chicago:20251120T223000
DTSTAMP:20260423T122408
CREATED:20250430T222424Z
LAST-MODIFIED:20250508T034413Z
UID:10004739-1763659800-1763677800@stoughtoncc.com
SUMMARY:Centerfire Pistol League Banquet
DESCRIPTION:
URL:https://stoughtoncc.com/event/centerfire-pistol-league-banquet/
LOCATION:Pistol Building
ORGANIZER;CN="Kevin Kettner":MAILTO:kkettner@gmail.com
END:VEVENT
BEGIN:VEVENT
DTSTART;TZID=America/Chicago:20251119T173000
DTEND;TZID=America/Chicago:20251119T213000
DTSTAMP:20260423T122408
CREATED:20250812T025509Z
LAST-MODIFIED:20250812T025509Z
UID:10004865-1763573400-1763587800@stoughtoncc.com
SUMMARY:Black Sheep Pistol League
DESCRIPTION:
URL:https://stoughtoncc.com/event/black-sheep-pistol-league-2/2025-11-19/
LOCATION:Pistol Range
END:VEVENT
END:VCALENDAR