BEGIN:VCALENDAR
VERSION:2.0
PRODID:-//Stoughton Conservation Club - ECPv6.15.20//NONSGML v1.0//EN
CALSCALE:GREGORIAN
METHOD:PUBLISH
X-ORIGINAL-URL:https://stoughtoncc.com
X-WR-CALDESC:Events for Stoughton Conservation Club
REFRESH-INTERVAL;VALUE=DURATION:PT1H
X-Robots-Tag:noindex
X-PUBLISHED-TTL:PT1H
BEGIN:VTIMEZONE
TZID:America/Chicago
BEGIN:DAYLIGHT
TZOFFSETFROM:-0600
TZOFFSETTO:-0500
TZNAME:CDT
DTSTART:20240310T080000
END:DAYLIGHT
BEGIN:STANDARD
TZOFFSETFROM:-0500
TZOFFSETTO:-0600
TZNAME:CST
DTSTART:20241103T070000
END:STANDARD
BEGIN:DAYLIGHT
TZOFFSETFROM:-0600
TZOFFSETTO:-0500
TZNAME:CDT
DTSTART:20250309T080000
END:DAYLIGHT
BEGIN:STANDARD
TZOFFSETFROM:-0500
TZOFFSETTO:-0600
TZNAME:CST
DTSTART:20251102T070000
END:STANDARD
BEGIN:DAYLIGHT
TZOFFSETFROM:-0600
TZOFFSETTO:-0500
TZNAME:CDT
DTSTART:20260308T080000
END:DAYLIGHT
BEGIN:STANDARD
TZOFFSETFROM:-0500
TZOFFSETTO:-0600
TZNAME:CST
DTSTART:20261101T070000
END:STANDARD
END:VTIMEZONE
BEGIN:VEVENT
DTSTART;TZID=America/Chicago:20250811T173000
DTEND;TZID=America/Chicago:20250811T190000
DTSTAMP:20260423T223654
CREATED:20241209T164257Z
LAST-MODIFIED:20250508T035832Z
UID:10004783-1754933400-1754938800@stoughtoncc.com
SUMMARY:Member Orientation - Indoor Archery Closed
DESCRIPTION:In-person orientation is required for new members\, and begins promptly at 6 PM before the monthly general membership meeting. \nOther membership situations can also be handled during this time. \nIndoor Archery will be CLOSED at 5:30 for setup.
URL:https://stoughtoncc.com/event/member-orientation/2025-08-11/
LOCATION:Main Clubhouse
END:VEVENT
BEGIN:VEVENT
DTSTART;TZID=America/Chicago:20250804T180000
DTEND;TZID=America/Chicago:20250804T200000
DTSTAMP:20260423T223654
CREATED:20250106T214651Z
LAST-MODIFIED:20250106T230453Z
UID:10004602-1754330400-1754337600@stoughtoncc.com
SUMMARY:S3DA Archery
DESCRIPTION:
URL:https://stoughtoncc.com/event/s3da/2025-08-04/
LOCATION:Indoor Archery Range
ORGANIZER;CN="Dave Rynes":MAILTO:blackdogdr@gmail.com
END:VEVENT
BEGIN:VEVENT
DTSTART;TZID=America/Chicago:20250721T180000
DTEND;TZID=America/Chicago:20250721T200000
DTSTAMP:20260423T223654
CREATED:20250106T214248Z
LAST-MODIFIED:20250106T230443Z
UID:10004520-1753120800-1753128000@stoughtoncc.com
SUMMARY:S3DA Archery
DESCRIPTION:
URL:https://stoughtoncc.com/event/s3da-2/2025-07-21/
LOCATION:Indoor Archery Range
ORGANIZER;CN="Dave Rynes":MAILTO:blackdogdr@gmail.com
END:VEVENT
BEGIN:VEVENT
DTSTART;TZID=America/Chicago:20250720T080000
DTEND;TZID=America/Chicago:20250720T150000
DTSTAMP:20260423T223654
CREATED:20250610T203510Z
LAST-MODIFIED:20250610T203510Z
UID:10004844-1752998400-1753023600@stoughtoncc.com
SUMMARY:VLS End of Season Celebration Cookout
DESCRIPTION:VLS will hold the end of year Celebration Cookout and help clean up the Sporting Clays course.
URL:https://stoughtoncc.com/event/vls-end-of-season-celebration-cookout/
LOCATION:Main Clubhouse
ORGANIZER;CN="Kevin Kettner":MAILTO:kkettner@gmail.com
END:VEVENT
BEGIN:VEVENT
DTSTART;TZID=America/Chicago:20250714T173000
DTEND;TZID=America/Chicago:20250714T190000
DTSTAMP:20260423T223654
CREATED:20241209T164257Z
LAST-MODIFIED:20250508T035832Z
UID:10004782-1752514200-1752519600@stoughtoncc.com
SUMMARY:Member Orientation - Indoor Archery Closed
DESCRIPTION:In-person orientation is required for new members\, and begins promptly at 6 PM before the monthly general membership meeting. \nOther membership situations can also be handled during this time. \nIndoor Archery will be CLOSED at 5:30 for setup.
URL:https://stoughtoncc.com/event/member-orientation/2025-07-14/
LOCATION:Main Clubhouse
END:VEVENT
BEGIN:VEVENT
DTSTART;TZID=America/Chicago:20250707T180000
DTEND;TZID=America/Chicago:20250707T200000
DTSTAMP:20260423T223654
CREATED:20250106T214651Z
LAST-MODIFIED:20250106T230453Z
UID:10004601-1751911200-1751918400@stoughtoncc.com
SUMMARY:S3DA Archery
DESCRIPTION:
URL:https://stoughtoncc.com/event/s3da/2025-07-07/
LOCATION:Indoor Archery Range
ORGANIZER;CN="Dave Rynes":MAILTO:blackdogdr@gmail.com
END:VEVENT
BEGIN:VEVENT
DTSTART;TZID=America/Chicago:20250624T180000
DTEND;TZID=America/Chicago:20250624T200000
DTSTAMP:20260423T223654
CREATED:20241213T034703Z
LAST-MODIFIED:20250508T034846Z
UID:10004451-1750788000-1750795200@stoughtoncc.com
SUMMARY:4H Indoor Archery/Trap/Skeet
DESCRIPTION:4H will use the Indoor Archery Range and the Trap and Skeet fields.
URL:https://stoughtoncc.com/event/4h-indoor-archery-trap-skeet/2025-06-24/
LOCATION:Main Clubhouse
ORGANIZER;CN="Chad Xander":MAILTO:cmxander70@gmail.com
END:VEVENT
BEGIN:VEVENT
DTSTART;TZID=America/Chicago:20250623T180000
DTEND;TZID=America/Chicago:20250623T200000
DTSTAMP:20260423T223654
CREATED:20250106T230359Z
LAST-MODIFIED:20250106T230359Z
UID:10004656-1750701600-1750708800@stoughtoncc.com
SUMMARY:S3DA Archery
DESCRIPTION:
URL:https://stoughtoncc.com/event/s3da-archery/2025-06-23/
LOCATION:Indoor Archery Range
ORGANIZER;CN="Dave Rynes":MAILTO:blackdogdr@gmail.com
END:VEVENT
BEGIN:VEVENT
DTSTART;TZID=America/Chicago:20250617T180000
DTEND;TZID=America/Chicago:20250617T200000
DTSTAMP:20260423T223654
CREATED:20241213T034703Z
LAST-MODIFIED:20250508T034846Z
UID:10004450-1750183200-1750190400@stoughtoncc.com
SUMMARY:4H Indoor Archery/Trap/Skeet
DESCRIPTION:4H will use the Indoor Archery Range and the Trap and Skeet fields.
URL:https://stoughtoncc.com/event/4h-indoor-archery-trap-skeet/2025-06-17/
LOCATION:Main Clubhouse
ORGANIZER;CN="Chad Xander":MAILTO:cmxander70@gmail.com
END:VEVENT
BEGIN:VEVENT
DTSTART;TZID=America/Chicago:20250616T180000
DTEND;TZID=America/Chicago:20250616T200000
DTSTAMP:20260423T223654
CREATED:20250106T214248Z
LAST-MODIFIED:20250106T230443Z
UID:10004519-1750096800-1750104000@stoughtoncc.com
SUMMARY:S3DA Archery
DESCRIPTION:
URL:https://stoughtoncc.com/event/s3da-2/2025-06-16/
LOCATION:Indoor Archery Range
ORGANIZER;CN="Dave Rynes":MAILTO:blackdogdr@gmail.com
END:VEVENT
BEGIN:VEVENT
DTSTART;TZID=America/Chicago:20250610T180000
DTEND;TZID=America/Chicago:20250610T200000
DTSTAMP:20260423T223654
CREATED:20241213T034703Z
LAST-MODIFIED:20250508T034846Z
UID:10004449-1749578400-1749585600@stoughtoncc.com
SUMMARY:4H Indoor Archery/Trap/Skeet
DESCRIPTION:4H will use the Indoor Archery Range and the Trap and Skeet fields.
URL:https://stoughtoncc.com/event/4h-indoor-archery-trap-skeet/2025-06-10/
LOCATION:Main Clubhouse
ORGANIZER;CN="Chad Xander":MAILTO:cmxander70@gmail.com
END:VEVENT
BEGIN:VEVENT
DTSTART;TZID=America/Chicago:20250609T173000
DTEND;TZID=America/Chicago:20250609T190000
DTSTAMP:20260423T223654
CREATED:20241209T164257Z
LAST-MODIFIED:20250508T035832Z
UID:10004781-1749490200-1749495600@stoughtoncc.com
SUMMARY:Member Orientation - Indoor Archery Closed
DESCRIPTION:In-person orientation is required for new members\, and begins promptly at 6 PM before the monthly general membership meeting. \nOther membership situations can also be handled during this time. \nIndoor Archery will be CLOSED at 5:30 for setup.
URL:https://stoughtoncc.com/event/member-orientation/2025-06-09/
LOCATION:Main Clubhouse
END:VEVENT
BEGIN:VEVENT
DTSTART;TZID=America/Chicago:20250603T180000
DTEND;TZID=America/Chicago:20250603T200000
DTSTAMP:20260423T223654
CREATED:20241213T034703Z
LAST-MODIFIED:20250508T034846Z
UID:10004448-1748973600-1748980800@stoughtoncc.com
SUMMARY:4H Indoor Archery/Trap/Skeet
DESCRIPTION:4H will use the Indoor Archery Range and the Trap and Skeet fields.
URL:https://stoughtoncc.com/event/4h-indoor-archery-trap-skeet/2025-06-03/
LOCATION:Main Clubhouse
ORGANIZER;CN="Chad Xander":MAILTO:cmxander70@gmail.com
END:VEVENT
BEGIN:VEVENT
DTSTART;TZID=America/Chicago:20250602T180000
DTEND;TZID=America/Chicago:20250602T200000
DTSTAMP:20260423T223654
CREATED:20250106T214651Z
LAST-MODIFIED:20250106T230453Z
UID:10004600-1748887200-1748894400@stoughtoncc.com
SUMMARY:S3DA Archery
DESCRIPTION:
URL:https://stoughtoncc.com/event/s3da/2025-06-02/
LOCATION:Indoor Archery Range
ORGANIZER;CN="Dave Rynes":MAILTO:blackdogdr@gmail.com
END:VEVENT
BEGIN:VEVENT
DTSTART;TZID=America/Chicago:20250520T180000
DTEND;TZID=America/Chicago:20250520T200000
DTSTAMP:20260423T223654
CREATED:20241213T034703Z
LAST-MODIFIED:20250508T034846Z
UID:10004447-1747764000-1747771200@stoughtoncc.com
SUMMARY:4H Indoor Archery/Trap/Skeet
DESCRIPTION:4H will use the Indoor Archery Range and the Trap and Skeet fields.
URL:https://stoughtoncc.com/event/4h-indoor-archery-trap-skeet/2025-05-20/
LOCATION:Main Clubhouse
ORGANIZER;CN="Chad Xander":MAILTO:cmxander70@gmail.com
END:VEVENT
BEGIN:VEVENT
DTSTART;TZID=America/Chicago:20250519T180000
DTEND;TZID=America/Chicago:20250519T200000
DTSTAMP:20260423T223654
CREATED:20250106T214248Z
LAST-MODIFIED:20250106T230443Z
UID:10004518-1747677600-1747684800@stoughtoncc.com
SUMMARY:S3DA Archery
DESCRIPTION:
URL:https://stoughtoncc.com/event/s3da-2/2025-05-19/
LOCATION:Indoor Archery Range
ORGANIZER;CN="Dave Rynes":MAILTO:blackdogdr@gmail.com
END:VEVENT
BEGIN:VEVENT
DTSTART;TZID=America/Chicago:20250513T180000
DTEND;TZID=America/Chicago:20250513T200000
DTSTAMP:20260423T223654
CREATED:20241213T034703Z
LAST-MODIFIED:20250508T034846Z
UID:10004446-1747159200-1747166400@stoughtoncc.com
SUMMARY:4H Indoor Archery/Trap/Skeet
DESCRIPTION:4H will use the Indoor Archery Range and the Trap and Skeet fields.
URL:https://stoughtoncc.com/event/4h-indoor-archery-trap-skeet/2025-05-13/
LOCATION:Main Clubhouse
ORGANIZER;CN="Chad Xander":MAILTO:cmxander70@gmail.com
END:VEVENT
BEGIN:VEVENT
DTSTART;TZID=America/Chicago:20250512T173000
DTEND;TZID=America/Chicago:20250512T190000
DTSTAMP:20260423T223654
CREATED:20241209T164257Z
LAST-MODIFIED:20250508T035832Z
UID:10004780-1747071000-1747076400@stoughtoncc.com
SUMMARY:Member Orientation - Indoor Archery Closed
DESCRIPTION:In-person orientation is required for new members\, and begins promptly at 6 PM before the monthly general membership meeting. \nOther membership situations can also be handled during this time. \nIndoor Archery will be CLOSED at 5:30 for setup.
URL:https://stoughtoncc.com/event/member-orientation/2025-05-12/
LOCATION:Main Clubhouse
END:VEVENT
BEGIN:VEVENT
DTSTART;TZID=America/Chicago:20250510T130000
DTEND;TZID=America/Chicago:20250510T170000
DTSTAMP:20260423T223654
CREATED:20250430T221552Z
LAST-MODIFIED:20250508T034806Z
UID:10004723-1746882000-1746896400@stoughtoncc.com
SUMMARY:Celebration of Life
DESCRIPTION:A Celebration of Life will be held for Marc Hopkins.
URL:https://stoughtoncc.com/event/celebration-of-life/
LOCATION:Main Clubhouse
ORGANIZER;CN="Kevin Kettner":MAILTO:kkettner@gmail.com
END:VEVENT
BEGIN:VEVENT
DTSTART;TZID=America/Chicago:20250505T180000
DTEND;TZID=America/Chicago:20250505T200000
DTSTAMP:20260423T223654
CREATED:20250106T214651Z
LAST-MODIFIED:20250106T230453Z
UID:10004599-1746468000-1746475200@stoughtoncc.com
SUMMARY:S3DA Archery
DESCRIPTION:
URL:https://stoughtoncc.com/event/s3da/2025-05-05/
LOCATION:Indoor Archery Range
ORGANIZER;CN="Dave Rynes":MAILTO:blackdogdr@gmail.com
END:VEVENT
BEGIN:VEVENT
DTSTART;TZID=America/Chicago:20250421T180000
DTEND;TZID=America/Chicago:20250421T200000
DTSTAMP:20260423T223654
CREATED:20250106T214248Z
LAST-MODIFIED:20250106T230443Z
UID:10004517-1745258400-1745265600@stoughtoncc.com
SUMMARY:S3DA Archery
DESCRIPTION:
URL:https://stoughtoncc.com/event/s3da-2/2025-04-21/
LOCATION:Indoor Archery Range
ORGANIZER;CN="Dave Rynes":MAILTO:blackdogdr@gmail.com
END:VEVENT
BEGIN:VEVENT
DTSTART;TZID=America/Chicago:20250414T173000
DTEND;TZID=America/Chicago:20250414T190000
DTSTAMP:20260423T223654
CREATED:20241209T164257Z
LAST-MODIFIED:20250508T035832Z
UID:10004779-1744651800-1744657200@stoughtoncc.com
SUMMARY:Member Orientation - Indoor Archery Closed
DESCRIPTION:In-person orientation is required for new members\, and begins promptly at 6 PM before the monthly general membership meeting. \nOther membership situations can also be handled during this time. \nIndoor Archery will be CLOSED at 5:30 for setup.
URL:https://stoughtoncc.com/event/member-orientation/2025-04-14/
LOCATION:Main Clubhouse
END:VEVENT
BEGIN:VEVENT
DTSTART;TZID=America/Chicago:20250407T180000
DTEND;TZID=America/Chicago:20250407T200000
DTSTAMP:20260423T223654
CREATED:20250106T214651Z
LAST-MODIFIED:20250106T230453Z
UID:10004598-1744048800-1744056000@stoughtoncc.com
SUMMARY:S3DA Archery
DESCRIPTION:
URL:https://stoughtoncc.com/event/s3da/2025-04-07/
LOCATION:Indoor Archery Range
ORGANIZER;CN="Dave Rynes":MAILTO:blackdogdr@gmail.com
END:VEVENT
BEGIN:VEVENT
DTSTART;TZID=America/Chicago:20250406T090000
DTEND;TZID=America/Chicago:20250406T130000
DTSTAMP:20260423T223654
CREATED:20250115T011124Z
LAST-MODIFIED:20250115T011124Z
UID:10004667-1743930000-1743944400@stoughtoncc.com
SUMMARY:VLS Pictures - Rain Location
DESCRIPTION:In case of rain\, the VLS pictures will be taken in the Indoor Archery Range.
URL:https://stoughtoncc.com/event/vls-pictures-rain-location/
LOCATION:Indoor Archery Range
ORGANIZER;CN="Kevin Kettner":MAILTO:kkettner@gmail.com
END:VEVENT
BEGIN:VEVENT
DTSTART;TZID=America/Chicago:20250330T103000
DTEND;TZID=America/Chicago:20250330T133000
DTSTAMP:20260423T223654
CREATED:20250325T193548Z
LAST-MODIFIED:20250325T193548Z
UID:10004685-1743330600-1743341400@stoughtoncc.com
SUMMARY:VLS Indoor Practice
DESCRIPTION:Due to possible rain\, VLS is reserving the Indoor Archery Range for some indoor footwork practice.
URL:https://stoughtoncc.com/event/vls-indoor-practice/
LOCATION:Indoor Archery Range
ORGANIZER;CN="Kevin Kettner":MAILTO:kkettner@gmail.com
END:VEVENT
BEGIN:VEVENT
DTSTART;TZID=America/Chicago:20250324T180000
DTEND;TZID=America/Chicago:20250324T200000
DTSTAMP:20260423T223654
CREATED:20250106T230359Z
LAST-MODIFIED:20250106T230359Z
UID:10004655-1742839200-1742846400@stoughtoncc.com
SUMMARY:S3DA Archery
DESCRIPTION:
URL:https://stoughtoncc.com/event/s3da-archery/2025-03-24/
LOCATION:Indoor Archery Range
ORGANIZER;CN="Dave Rynes":MAILTO:blackdogdr@gmail.com
END:VEVENT
BEGIN:VEVENT
DTSTART;TZID=America/Chicago:20250317T180000
DTEND;TZID=America/Chicago:20250317T200000
DTSTAMP:20260423T223654
CREATED:20250106T214248Z
LAST-MODIFIED:20250106T230443Z
UID:10004516-1742234400-1742241600@stoughtoncc.com
SUMMARY:S3DA Archery
DESCRIPTION:
URL:https://stoughtoncc.com/event/s3da-2/2025-03-17/
LOCATION:Indoor Archery Range
ORGANIZER;CN="Dave Rynes":MAILTO:blackdogdr@gmail.com
END:VEVENT
BEGIN:VEVENT
DTSTART;TZID=America/Chicago:20250310T173000
DTEND;TZID=America/Chicago:20250310T190000
DTSTAMP:20260423T223654
CREATED:20241209T164257Z
LAST-MODIFIED:20250508T035832Z
UID:10004778-1741627800-1741633200@stoughtoncc.com
SUMMARY:Member Orientation - Indoor Archery Closed
DESCRIPTION:In-person orientation is required for new members\, and begins promptly at 6 PM before the monthly general membership meeting. \nOther membership situations can also be handled during this time. \nIndoor Archery will be CLOSED at 5:30 for setup.
URL:https://stoughtoncc.com/event/member-orientation/2025-03-10/
LOCATION:Main Clubhouse
END:VEVENT
BEGIN:VEVENT
DTSTART;TZID=America/Chicago:20250303T180000
DTEND;TZID=America/Chicago:20250303T200000
DTSTAMP:20260423T223654
CREATED:20250106T214651Z
LAST-MODIFIED:20250106T230453Z
UID:10004597-1741024800-1741032000@stoughtoncc.com
SUMMARY:S3DA Archery
DESCRIPTION:
URL:https://stoughtoncc.com/event/s3da/2025-03-03/
LOCATION:Indoor Archery Range
ORGANIZER;CN="Dave Rynes":MAILTO:blackdogdr@gmail.com
END:VEVENT
BEGIN:VEVENT
DTSTART;TZID=America/Chicago:20250302T160000
DTEND;TZID=America/Chicago:20250302T180000
DTSTAMP:20260423T223654
CREATED:20250211T010526Z
LAST-MODIFIED:20250211T010526Z
UID:10004676-1740931200-1740938400@stoughtoncc.com
SUMMARY:Girl Scouts Archery
DESCRIPTION:Girl Scouts will use the indoor archery range.
URL:https://stoughtoncc.com/event/girl-scouts-archery/
LOCATION:Indoor Archery Range
END:VEVENT
END:VCALENDAR