BEGIN:VCALENDAR
VERSION:2.0
PRODID:-//Stoughton Conservation Club - ECPv6.15.20//NONSGML v1.0//EN
CALSCALE:GREGORIAN
METHOD:PUBLISH
X-WR-CALNAME:Stoughton Conservation Club
X-ORIGINAL-URL:https://stoughtoncc.com
X-WR-CALDESC:Events for Stoughton Conservation Club
REFRESH-INTERVAL;VALUE=DURATION:PT1H
X-Robots-Tag:noindex
X-PUBLISHED-TTL:PT1H
BEGIN:VTIMEZONE
TZID:America/Chicago
BEGIN:DAYLIGHT
TZOFFSETFROM:-0600
TZOFFSETTO:-0500
TZNAME:CDT
DTSTART:20270314T080000
END:DAYLIGHT
BEGIN:STANDARD
TZOFFSETFROM:-0500
TZOFFSETTO:-0600
TZNAME:CST
DTSTART:20271107T070000
END:STANDARD
BEGIN:DAYLIGHT
TZOFFSETFROM:-0600
TZOFFSETTO:-0500
TZNAME:CDT
DTSTART:20280312T080000
END:DAYLIGHT
BEGIN:STANDARD
TZOFFSETFROM:-0500
TZOFFSETTO:-0600
TZNAME:CST
DTSTART:20281105T070000
END:STANDARD
BEGIN:DAYLIGHT
TZOFFSETFROM:-0600
TZOFFSETTO:-0500
TZNAME:CDT
DTSTART:20290311T080000
END:DAYLIGHT
BEGIN:STANDARD
TZOFFSETFROM:-0500
TZOFFSETTO:-0600
TZNAME:CST
DTSTART:20291104T070000
END:STANDARD
BEGIN:DAYLIGHT
TZOFFSETFROM:-0600
TZOFFSETTO:-0500
TZNAME:CDT
DTSTART:20300310T080000
END:DAYLIGHT
BEGIN:STANDARD
TZOFFSETFROM:-0500
TZOFFSETTO:-0600
TZNAME:CST
DTSTART:20301103T070000
END:STANDARD
END:VTIMEZONE
BEGIN:VEVENT
DTSTART;TZID=America/Chicago:20280417T180000
DTEND;TZID=America/Chicago:20280417T200000
DTSTAMP:20260423T235222
CREATED:20250106T214248Z
LAST-MODIFIED:20250106T230443Z
UID:10004553-1839607200-1839614400@stoughtoncc.com
SUMMARY:S3DA Archery
DESCRIPTION:
URL:https://stoughtoncc.com/event/s3da-2/2028-04-17/
LOCATION:Indoor Archery Range
ORGANIZER;CN="Dave Rynes":MAILTO:blackdogdr@gmail.com
END:VEVENT
BEGIN:VEVENT
DTSTART;TZID=America/Chicago:20280501T180000
DTEND;TZID=America/Chicago:20280501T200000
DTSTAMP:20260423T235222
CREATED:20250106T214651Z
LAST-MODIFIED:20250106T230453Z
UID:10004635-1840816800-1840824000@stoughtoncc.com
SUMMARY:S3DA Archery
DESCRIPTION:
URL:https://stoughtoncc.com/event/s3da/2028-05-01/
LOCATION:Indoor Archery Range
ORGANIZER;CN="Dave Rynes":MAILTO:blackdogdr@gmail.com
END:VEVENT
BEGIN:VEVENT
DTSTART;TZID=America/Chicago:20280508T173000
DTEND;TZID=America/Chicago:20280508T190000
DTSTAMP:20260423T235222
CREATED:20241209T164257Z
LAST-MODIFIED:20250508T035832Z
UID:10004816-1841419800-1841425200@stoughtoncc.com
SUMMARY:Member Orientation - Indoor Archery Closed
DESCRIPTION:In-person orientation is required for new members\, and begins promptly at 6 PM before the monthly general membership meeting. \nOther membership situations can also be handled during this time. \nIndoor Archery will be CLOSED at 5:30 for setup.
URL:https://stoughtoncc.com/event/member-orientation/2028-05-08/
LOCATION:Main Clubhouse
END:VEVENT
BEGIN:VEVENT
DTSTART;TZID=America/Chicago:20280515T180000
DTEND;TZID=America/Chicago:20280515T200000
DTSTAMP:20260423T235222
CREATED:20250106T214248Z
LAST-MODIFIED:20250106T230443Z
UID:10004554-1842026400-1842033600@stoughtoncc.com
SUMMARY:S3DA Archery
DESCRIPTION:
URL:https://stoughtoncc.com/event/s3da-2/2028-05-15/
LOCATION:Indoor Archery Range
ORGANIZER;CN="Dave Rynes":MAILTO:blackdogdr@gmail.com
END:VEVENT
BEGIN:VEVENT
DTSTART;TZID=America/Chicago:20280605T180000
DTEND;TZID=America/Chicago:20280605T200000
DTSTAMP:20260423T235222
CREATED:20250106T214651Z
LAST-MODIFIED:20250106T230453Z
UID:10004636-1843840800-1843848000@stoughtoncc.com
SUMMARY:S3DA Archery
DESCRIPTION:
URL:https://stoughtoncc.com/event/s3da/2028-06-05/
LOCATION:Indoor Archery Range
ORGANIZER;CN="Dave Rynes":MAILTO:blackdogdr@gmail.com
END:VEVENT
BEGIN:VEVENT
DTSTART;TZID=America/Chicago:20280612T173000
DTEND;TZID=America/Chicago:20280612T190000
DTSTAMP:20260423T235222
CREATED:20241209T164257Z
LAST-MODIFIED:20250508T035832Z
UID:10004817-1844443800-1844449200@stoughtoncc.com
SUMMARY:Member Orientation - Indoor Archery Closed
DESCRIPTION:In-person orientation is required for new members\, and begins promptly at 6 PM before the monthly general membership meeting. \nOther membership situations can also be handled during this time. \nIndoor Archery will be CLOSED at 5:30 for setup.
URL:https://stoughtoncc.com/event/member-orientation/2028-06-12/
LOCATION:Main Clubhouse
END:VEVENT
BEGIN:VEVENT
DTSTART;TZID=America/Chicago:20280619T180000
DTEND;TZID=America/Chicago:20280619T200000
DTSTAMP:20260423T235222
CREATED:20250106T214248Z
LAST-MODIFIED:20250106T230443Z
UID:10004555-1845050400-1845057600@stoughtoncc.com
SUMMARY:S3DA Archery
DESCRIPTION:
URL:https://stoughtoncc.com/event/s3da-2/2028-06-19/
LOCATION:Indoor Archery Range
ORGANIZER;CN="Dave Rynes":MAILTO:blackdogdr@gmail.com
END:VEVENT
BEGIN:VEVENT
DTSTART;TZID=America/Chicago:20280703T180000
DTEND;TZID=America/Chicago:20280703T200000
DTSTAMP:20260423T235222
CREATED:20250106T214651Z
LAST-MODIFIED:20250106T230453Z
UID:10004637-1846260000-1846267200@stoughtoncc.com
SUMMARY:S3DA Archery
DESCRIPTION:
URL:https://stoughtoncc.com/event/s3da/2028-07-03/
LOCATION:Indoor Archery Range
ORGANIZER;CN="Dave Rynes":MAILTO:blackdogdr@gmail.com
END:VEVENT
BEGIN:VEVENT
DTSTART;TZID=America/Chicago:20280710T173000
DTEND;TZID=America/Chicago:20280710T190000
DTSTAMP:20260423T235222
CREATED:20241209T164257Z
LAST-MODIFIED:20250508T035832Z
UID:10004818-1846863000-1846868400@stoughtoncc.com
SUMMARY:Member Orientation - Indoor Archery Closed
DESCRIPTION:In-person orientation is required for new members\, and begins promptly at 6 PM before the monthly general membership meeting. \nOther membership situations can also be handled during this time. \nIndoor Archery will be CLOSED at 5:30 for setup.
URL:https://stoughtoncc.com/event/member-orientation/2028-07-10/
LOCATION:Main Clubhouse
END:VEVENT
BEGIN:VEVENT
DTSTART;TZID=America/Chicago:20280717T180000
DTEND;TZID=America/Chicago:20280717T200000
DTSTAMP:20260423T235222
CREATED:20250106T214248Z
LAST-MODIFIED:20250106T230443Z
UID:10004556-1847469600-1847476800@stoughtoncc.com
SUMMARY:S3DA Archery
DESCRIPTION:
URL:https://stoughtoncc.com/event/s3da-2/2028-07-17/
LOCATION:Indoor Archery Range
ORGANIZER;CN="Dave Rynes":MAILTO:blackdogdr@gmail.com
END:VEVENT
BEGIN:VEVENT
DTSTART;TZID=America/Chicago:20280807T180000
DTEND;TZID=America/Chicago:20280807T200000
DTSTAMP:20260423T235222
CREATED:20250106T214651Z
LAST-MODIFIED:20250106T230453Z
UID:10004638-1849284000-1849291200@stoughtoncc.com
SUMMARY:S3DA Archery
DESCRIPTION:
URL:https://stoughtoncc.com/event/s3da/2028-08-07/
LOCATION:Indoor Archery Range
ORGANIZER;CN="Dave Rynes":MAILTO:blackdogdr@gmail.com
END:VEVENT
BEGIN:VEVENT
DTSTART;TZID=America/Chicago:20280814T173000
DTEND;TZID=America/Chicago:20280814T190000
DTSTAMP:20260423T235222
CREATED:20241209T164257Z
LAST-MODIFIED:20250508T035832Z
UID:10004819-1849887000-1849892400@stoughtoncc.com
SUMMARY:Member Orientation - Indoor Archery Closed
DESCRIPTION:In-person orientation is required for new members\, and begins promptly at 6 PM before the monthly general membership meeting. \nOther membership situations can also be handled during this time. \nIndoor Archery will be CLOSED at 5:30 for setup.
URL:https://stoughtoncc.com/event/member-orientation/2028-08-14/
LOCATION:Main Clubhouse
END:VEVENT
BEGIN:VEVENT
DTSTART;TZID=America/Chicago:20280821T180000
DTEND;TZID=America/Chicago:20280821T200000
DTSTAMP:20260423T235222
CREATED:20250106T214248Z
LAST-MODIFIED:20250106T230443Z
UID:10004557-1850493600-1850500800@stoughtoncc.com
SUMMARY:S3DA Archery
DESCRIPTION:
URL:https://stoughtoncc.com/event/s3da-2/2028-08-21/
LOCATION:Indoor Archery Range
ORGANIZER;CN="Dave Rynes":MAILTO:blackdogdr@gmail.com
END:VEVENT
BEGIN:VEVENT
DTSTART;TZID=America/Chicago:20280904T180000
DTEND;TZID=America/Chicago:20280904T200000
DTSTAMP:20260423T235222
CREATED:20250106T214651Z
LAST-MODIFIED:20250106T230453Z
UID:10004639-1851703200-1851710400@stoughtoncc.com
SUMMARY:S3DA Archery
DESCRIPTION:
URL:https://stoughtoncc.com/event/s3da/2028-09-04/
LOCATION:Indoor Archery Range
ORGANIZER;CN="Dave Rynes":MAILTO:blackdogdr@gmail.com
END:VEVENT
BEGIN:VEVENT
DTSTART;TZID=America/Chicago:20280911T173000
DTEND;TZID=America/Chicago:20280911T190000
DTSTAMP:20260423T235222
CREATED:20241209T164257Z
LAST-MODIFIED:20250508T035832Z
UID:10004820-1852306200-1852311600@stoughtoncc.com
SUMMARY:Member Orientation - Indoor Archery Closed
DESCRIPTION:In-person orientation is required for new members\, and begins promptly at 6 PM before the monthly general membership meeting. \nOther membership situations can also be handled during this time. \nIndoor Archery will be CLOSED at 5:30 for setup.
URL:https://stoughtoncc.com/event/member-orientation/2028-09-11/
LOCATION:Main Clubhouse
END:VEVENT
BEGIN:VEVENT
DTSTART;TZID=America/Chicago:20280918T180000
DTEND;TZID=America/Chicago:20280918T200000
DTSTAMP:20260423T235222
CREATED:20250106T214248Z
LAST-MODIFIED:20250106T230443Z
UID:10004558-1852912800-1852920000@stoughtoncc.com
SUMMARY:S3DA Archery
DESCRIPTION:
URL:https://stoughtoncc.com/event/s3da-2/2028-09-18/
LOCATION:Indoor Archery Range
ORGANIZER;CN="Dave Rynes":MAILTO:blackdogdr@gmail.com
END:VEVENT
BEGIN:VEVENT
DTSTART;TZID=America/Chicago:20281002T180000
DTEND;TZID=America/Chicago:20281002T200000
DTSTAMP:20260423T235222
CREATED:20250106T214651Z
LAST-MODIFIED:20250106T230453Z
UID:10004640-1854122400-1854129600@stoughtoncc.com
SUMMARY:S3DA Archery
DESCRIPTION:
URL:https://stoughtoncc.com/event/s3da/2028-10-02/
LOCATION:Indoor Archery Range
ORGANIZER;CN="Dave Rynes":MAILTO:blackdogdr@gmail.com
END:VEVENT
BEGIN:VEVENT
DTSTART;TZID=America/Chicago:20281009T173000
DTEND;TZID=America/Chicago:20281009T190000
DTSTAMP:20260423T235222
CREATED:20241209T164257Z
LAST-MODIFIED:20250508T035832Z
UID:10004821-1854725400-1854730800@stoughtoncc.com
SUMMARY:Member Orientation - Indoor Archery Closed
DESCRIPTION:In-person orientation is required for new members\, and begins promptly at 6 PM before the monthly general membership meeting. \nOther membership situations can also be handled during this time. \nIndoor Archery will be CLOSED at 5:30 for setup.
URL:https://stoughtoncc.com/event/member-orientation/2028-10-09/
LOCATION:Main Clubhouse
END:VEVENT
BEGIN:VEVENT
DTSTART;TZID=America/Chicago:20281016T180000
DTEND;TZID=America/Chicago:20281016T200000
DTSTAMP:20260423T235222
CREATED:20250106T214248Z
LAST-MODIFIED:20250106T230443Z
UID:10004559-1855332000-1855339200@stoughtoncc.com
SUMMARY:S3DA Archery
DESCRIPTION:
URL:https://stoughtoncc.com/event/s3da-2/2028-10-16/
LOCATION:Indoor Archery Range
ORGANIZER;CN="Dave Rynes":MAILTO:blackdogdr@gmail.com
END:VEVENT
BEGIN:VEVENT
DTSTART;TZID=America/Chicago:20281106T180000
DTEND;TZID=America/Chicago:20281106T200000
DTSTAMP:20260423T235222
CREATED:20250106T214651Z
LAST-MODIFIED:20250106T230453Z
UID:10004641-1857146400-1857153600@stoughtoncc.com
SUMMARY:S3DA Archery
DESCRIPTION:
URL:https://stoughtoncc.com/event/s3da/2028-11-06/
LOCATION:Indoor Archery Range
ORGANIZER;CN="Dave Rynes":MAILTO:blackdogdr@gmail.com
END:VEVENT
BEGIN:VEVENT
DTSTART;TZID=America/Chicago:20281113T173000
DTEND;TZID=America/Chicago:20281113T190000
DTSTAMP:20260423T235222
CREATED:20241209T164257Z
LAST-MODIFIED:20250508T035832Z
UID:10004822-1857749400-1857754800@stoughtoncc.com
SUMMARY:Member Orientation - Indoor Archery Closed
DESCRIPTION:In-person orientation is required for new members\, and begins promptly at 6 PM before the monthly general membership meeting. \nOther membership situations can also be handled during this time. \nIndoor Archery will be CLOSED at 5:30 for setup.
URL:https://stoughtoncc.com/event/member-orientation/2028-11-13/
LOCATION:Main Clubhouse
END:VEVENT
BEGIN:VEVENT
DTSTART;TZID=America/Chicago:20281120T180000
DTEND;TZID=America/Chicago:20281120T200000
DTSTAMP:20260423T235222
CREATED:20250106T214248Z
LAST-MODIFIED:20250106T230443Z
UID:10004560-1858356000-1858363200@stoughtoncc.com
SUMMARY:S3DA Archery
DESCRIPTION:
URL:https://stoughtoncc.com/event/s3da-2/2028-11-20/
LOCATION:Indoor Archery Range
ORGANIZER;CN="Dave Rynes":MAILTO:blackdogdr@gmail.com
END:VEVENT
BEGIN:VEVENT
DTSTART;TZID=America/Chicago:20281204T180000
DTEND;TZID=America/Chicago:20281204T200000
DTSTAMP:20260423T235222
CREATED:20250106T214651Z
LAST-MODIFIED:20250106T230453Z
UID:10004642-1859565600-1859572800@stoughtoncc.com
SUMMARY:S3DA Archery
DESCRIPTION:
URL:https://stoughtoncc.com/event/s3da/2028-12-04/
LOCATION:Indoor Archery Range
ORGANIZER;CN="Dave Rynes":MAILTO:blackdogdr@gmail.com
END:VEVENT
BEGIN:VEVENT
DTSTART;TZID=America/Chicago:20281211T173000
DTEND;TZID=America/Chicago:20281211T190000
DTSTAMP:20260423T235222
CREATED:20241209T164257Z
LAST-MODIFIED:20250508T035832Z
UID:10004823-1860168600-1860174000@stoughtoncc.com
SUMMARY:Member Orientation - Indoor Archery Closed
DESCRIPTION:In-person orientation is required for new members\, and begins promptly at 6 PM before the monthly general membership meeting. \nOther membership situations can also be handled during this time. \nIndoor Archery will be CLOSED at 5:30 for setup.
URL:https://stoughtoncc.com/event/member-orientation/2028-12-11/
LOCATION:Main Clubhouse
END:VEVENT
BEGIN:VEVENT
DTSTART;TZID=America/Chicago:20281218T180000
DTEND;TZID=America/Chicago:20281218T200000
DTSTAMP:20260423T235222
CREATED:20250106T214248Z
LAST-MODIFIED:20250106T230443Z
UID:10004561-1860775200-1860782400@stoughtoncc.com
SUMMARY:S3DA Archery
DESCRIPTION:
URL:https://stoughtoncc.com/event/s3da-2/2028-12-18/
LOCATION:Indoor Archery Range
ORGANIZER;CN="Dave Rynes":MAILTO:blackdogdr@gmail.com
END:VEVENT
BEGIN:VEVENT
DTSTART;TZID=America/Chicago:20290101T180000
DTEND;TZID=America/Chicago:20290101T200000
DTSTAMP:20260423T235222
CREATED:20250106T214651Z
LAST-MODIFIED:20250106T230453Z
UID:10004643-1861984800-1861992000@stoughtoncc.com
SUMMARY:S3DA Archery
DESCRIPTION:
URL:https://stoughtoncc.com/event/s3da/2029-01-01/
LOCATION:Indoor Archery Range
ORGANIZER;CN="Dave Rynes":MAILTO:blackdogdr@gmail.com
END:VEVENT
BEGIN:VEVENT
DTSTART;TZID=America/Chicago:20290108T173000
DTEND;TZID=America/Chicago:20290108T190000
DTSTAMP:20260423T235222
CREATED:20241209T164257Z
LAST-MODIFIED:20250508T035832Z
UID:10004824-1862587800-1862593200@stoughtoncc.com
SUMMARY:Member Orientation - Indoor Archery Closed
DESCRIPTION:In-person orientation is required for new members\, and begins promptly at 6 PM before the monthly general membership meeting. \nOther membership situations can also be handled during this time. \nIndoor Archery will be CLOSED at 5:30 for setup.
URL:https://stoughtoncc.com/event/member-orientation/2029-01-08/
LOCATION:Main Clubhouse
END:VEVENT
BEGIN:VEVENT
DTSTART;TZID=America/Chicago:20290115T180000
DTEND;TZID=America/Chicago:20290115T200000
DTSTAMP:20260423T235222
CREATED:20250106T214248Z
LAST-MODIFIED:20250106T230443Z
UID:10004562-1863194400-1863201600@stoughtoncc.com
SUMMARY:S3DA Archery
DESCRIPTION:
URL:https://stoughtoncc.com/event/s3da-2/2029-01-15/
LOCATION:Indoor Archery Range
ORGANIZER;CN="Dave Rynes":MAILTO:blackdogdr@gmail.com
END:VEVENT
BEGIN:VEVENT
DTSTART;TZID=America/Chicago:20290205T180000
DTEND;TZID=America/Chicago:20290205T200000
DTSTAMP:20260423T235222
CREATED:20250106T214651Z
LAST-MODIFIED:20250106T230453Z
UID:10004644-1865008800-1865016000@stoughtoncc.com
SUMMARY:S3DA Archery
DESCRIPTION:
URL:https://stoughtoncc.com/event/s3da/2029-02-05/
LOCATION:Indoor Archery Range
ORGANIZER;CN="Dave Rynes":MAILTO:blackdogdr@gmail.com
END:VEVENT
BEGIN:VEVENT
DTSTART;TZID=America/Chicago:20290212T173000
DTEND;TZID=America/Chicago:20290212T190000
DTSTAMP:20260423T235222
CREATED:20241209T164257Z
LAST-MODIFIED:20250508T035832Z
UID:10004825-1865611800-1865617200@stoughtoncc.com
SUMMARY:Member Orientation - Indoor Archery Closed
DESCRIPTION:In-person orientation is required for new members\, and begins promptly at 6 PM before the monthly general membership meeting. \nOther membership situations can also be handled during this time. \nIndoor Archery will be CLOSED at 5:30 for setup.
URL:https://stoughtoncc.com/event/member-orientation/2029-02-12/
LOCATION:Main Clubhouse
END:VEVENT
END:VCALENDAR