BEGIN:VCALENDAR
VERSION:2.0
PRODID:-//Stoughton Conservation Club - ECPv6.15.20//NONSGML v1.0//EN
CALSCALE:GREGORIAN
METHOD:PUBLISH
X-ORIGINAL-URL:https://stoughtoncc.com
X-WR-CALDESC:Events for Stoughton Conservation Club
REFRESH-INTERVAL;VALUE=DURATION:PT1H
X-Robots-Tag:noindex
X-PUBLISHED-TTL:PT1H
BEGIN:VTIMEZONE
TZID:America/Chicago
BEGIN:DAYLIGHT
TZOFFSETFROM:-0600
TZOFFSETTO:-0500
TZNAME:CDT
DTSTART:20240310T080000
END:DAYLIGHT
BEGIN:STANDARD
TZOFFSETFROM:-0500
TZOFFSETTO:-0600
TZNAME:CST
DTSTART:20241103T070000
END:STANDARD
BEGIN:DAYLIGHT
TZOFFSETFROM:-0600
TZOFFSETTO:-0500
TZNAME:CDT
DTSTART:20250309T080000
END:DAYLIGHT
BEGIN:STANDARD
TZOFFSETFROM:-0500
TZOFFSETTO:-0600
TZNAME:CST
DTSTART:20251102T070000
END:STANDARD
BEGIN:DAYLIGHT
TZOFFSETFROM:-0600
TZOFFSETTO:-0500
TZNAME:CDT
DTSTART:20260308T080000
END:DAYLIGHT
BEGIN:STANDARD
TZOFFSETFROM:-0500
TZOFFSETTO:-0600
TZNAME:CST
DTSTART:20261101T070000
END:STANDARD
BEGIN:DAYLIGHT
TZOFFSETFROM:-0600
TZOFFSETTO:-0500
TZNAME:CDT
DTSTART:20270314T080000
END:DAYLIGHT
BEGIN:STANDARD
TZOFFSETFROM:-0500
TZOFFSETTO:-0600
TZNAME:CST
DTSTART:20271107T070000
END:STANDARD
END:VTIMEZONE
BEGIN:VEVENT
DTSTART;TZID=America/Chicago:20260202T180000
DTEND;TZID=America/Chicago:20260202T200000
DTSTAMP:20260423T171800
CREATED:20250106T214651Z
LAST-MODIFIED:20250106T230453Z
UID:10004608-1770055200-1770062400@stoughtoncc.com
SUMMARY:S3DA Archery
DESCRIPTION:
URL:https://stoughtoncc.com/event/s3da/2026-02-02/
LOCATION:Indoor Archery Range
ORGANIZER;CN="Dave Rynes":MAILTO:blackdogdr@gmail.com
END:VEVENT
BEGIN:VEVENT
DTSTART;TZID=America/Chicago:20260131T121500
DTEND;TZID=America/Chicago:20260131T150000
DTSTAMP:20260423T171800
CREATED:20250905T132711Z
LAST-MODIFIED:20251205T161609Z
UID:10005005-1769861700-1769871600@stoughtoncc.com
SUMMARY:Youth Archery League
DESCRIPTION:
URL:https://stoughtoncc.com/event/youth-archery-league/2026-01-31/
LOCATION:Main Clubhouse
ORGANIZER;CN="Dustin Thoren":MAILTO:dustin.thoren@gmail.com
END:VEVENT
BEGIN:VEVENT
DTSTART;TZID=America/Chicago:20260131T073000
DTEND;TZID=America/Chicago:20260131T121500
DTSTAMP:20260423T171800
CREATED:20250905T132542Z
LAST-MODIFIED:20251205T161537Z
UID:10005016-1769844600-1769861700@stoughtoncc.com
SUMMARY:Youth Instructional Archery
DESCRIPTION:
URL:https://stoughtoncc.com/event/youth-instructional-archery/2026-01-31/
LOCATION:Indoor Archery Range
ORGANIZER;CN="Dustin Thoren":MAILTO:dustin.thoren@gmail.com
END:VEVENT
BEGIN:VEVENT
DTSTART;TZID=America/Chicago:20260128T173000
DTEND;TZID=America/Chicago:20260128T223000
DTSTAMP:20260423T171800
CREATED:20251029T174859Z
LAST-MODIFIED:20251029T174859Z
UID:10004972-1769621400-1769639400@stoughtoncc.com
SUMMARY:Indoor Archery League - 2026
DESCRIPTION:
URL:https://stoughtoncc.com/event/indoor-archery-league-2026/2026-01-28/
LOCATION:Indoor Archery Range
ORGANIZER;CN="Roger Kluever":MAILTO:07harley89@gmail.com
END:VEVENT
BEGIN:VEVENT
DTSTART;TZID=America/Chicago:20260127T173000
DTEND;TZID=America/Chicago:20260127T223000
DTSTAMP:20260423T171800
CREATED:20251029T174859Z
LAST-MODIFIED:20251029T174859Z
UID:10004971-1769535000-1769553000@stoughtoncc.com
SUMMARY:Indoor Archery League - 2026
DESCRIPTION:
URL:https://stoughtoncc.com/event/indoor-archery-league-2026/2026-01-27/
LOCATION:Indoor Archery Range
ORGANIZER;CN="Roger Kluever":MAILTO:07harley89@gmail.com
END:VEVENT
BEGIN:VEVENT
DTSTART;TZID=America/Chicago:20260124T121500
DTEND;TZID=America/Chicago:20260124T150000
DTSTAMP:20260423T171800
CREATED:20250905T132711Z
LAST-MODIFIED:20251205T161609Z
UID:10005030-1769256900-1769266800@stoughtoncc.com
SUMMARY:Youth Archery League
DESCRIPTION:
URL:https://stoughtoncc.com/event/youth-archery-league/2026-01-24/
LOCATION:Main Clubhouse
ORGANIZER;CN="Dustin Thoren":MAILTO:dustin.thoren@gmail.com
END:VEVENT
BEGIN:VEVENT
DTSTART;TZID=America/Chicago:20260124T073000
DTEND;TZID=America/Chicago:20260124T121500
DTSTAMP:20260423T171800
CREATED:20250905T132542Z
LAST-MODIFIED:20251205T161537Z
UID:10005029-1769239800-1769256900@stoughtoncc.com
SUMMARY:Youth Instructional Archery
DESCRIPTION:
URL:https://stoughtoncc.com/event/youth-instructional-archery/2026-01-24/
LOCATION:Indoor Archery Range
ORGANIZER;CN="Dustin Thoren":MAILTO:dustin.thoren@gmail.com
END:VEVENT
BEGIN:VEVENT
DTSTART;TZID=America/Chicago:20260121T173000
DTEND;TZID=America/Chicago:20260121T223000
DTSTAMP:20260423T171800
CREATED:20251029T174859Z
LAST-MODIFIED:20251029T174859Z
UID:10004970-1769016600-1769034600@stoughtoncc.com
SUMMARY:Indoor Archery League - 2026
DESCRIPTION:
URL:https://stoughtoncc.com/event/indoor-archery-league-2026/2026-01-21/
LOCATION:Indoor Archery Range
ORGANIZER;CN="Roger Kluever":MAILTO:07harley89@gmail.com
END:VEVENT
BEGIN:VEVENT
DTSTART;TZID=America/Chicago:20260120T173000
DTEND;TZID=America/Chicago:20260120T223000
DTSTAMP:20260423T171800
CREATED:20251029T174859Z
LAST-MODIFIED:20251029T174859Z
UID:10004969-1768930200-1768948200@stoughtoncc.com
SUMMARY:Indoor Archery League - 2026
DESCRIPTION:
URL:https://stoughtoncc.com/event/indoor-archery-league-2026/2026-01-20/
LOCATION:Indoor Archery Range
ORGANIZER;CN="Roger Kluever":MAILTO:07harley89@gmail.com
END:VEVENT
BEGIN:VEVENT
DTSTART;TZID=America/Chicago:20260119T180000
DTEND;TZID=America/Chicago:20260119T200000
DTSTAMP:20260423T171800
CREATED:20250106T214248Z
LAST-MODIFIED:20250106T230443Z
UID:10004526-1768845600-1768852800@stoughtoncc.com
SUMMARY:S3DA Archery
DESCRIPTION:
URL:https://stoughtoncc.com/event/s3da-2/2026-01-19/
LOCATION:Indoor Archery Range
ORGANIZER;CN="Dave Rynes":MAILTO:blackdogdr@gmail.com
END:VEVENT
BEGIN:VEVENT
DTSTART;TZID=America/Chicago:20260118T110000
DTEND;TZID=America/Chicago:20260118T130000
DTSTAMP:20260423T171800
CREATED:20260114T005833Z
LAST-MODIFIED:20260114T005833Z
UID:10005084-1768734000-1768741200@stoughtoncc.com
SUMMARY:Viking Lead Slingers New Athlete Orientation
DESCRIPTION:New VLS athletes should arrive before 11 for the new athlete presentation. \nIndoor Archery is closed. 10-2.
URL:https://stoughtoncc.com/event/viking-lead-slingers-new-athlete-orientation/
LOCATION:Main Clubhouse
ORGANIZER;CN="Kevin Kettner":MAILTO:kkettner@gmail.com
END:VEVENT
BEGIN:VEVENT
DTSTART;TZID=America/Chicago:20260118T100000
DTEND;TZID=America/Chicago:20260118T140000
DTSTAMP:20260423T171800
CREATED:20260114T010303Z
LAST-MODIFIED:20260114T010303Z
UID:10005085-1768730400-1768744800@stoughtoncc.com
SUMMARY:Viking Lead Slingers Sign-up
DESCRIPTION:Returning VLS athletes should arrive sometime between 10 and 1 to sign up and pay. \nIndoor Archery is closed. 10-2.
URL:https://stoughtoncc.com/event/viking-lead-slingers-sign-up/
LOCATION:Main Clubhouse
ORGANIZER;CN="Kevin Kettner":MAILTO:kkettner@gmail.com
END:VEVENT
BEGIN:VEVENT
DTSTART;TZID=America/Chicago:20260117T121500
DTEND;TZID=America/Chicago:20260117T150000
DTSTAMP:20260423T171800
CREATED:20250905T132711Z
LAST-MODIFIED:20251205T161609Z
UID:10005004-1768652100-1768662000@stoughtoncc.com
SUMMARY:Youth Archery League
DESCRIPTION:
URL:https://stoughtoncc.com/event/youth-archery-league/2026-01-17/
LOCATION:Main Clubhouse
ORGANIZER;CN="Dustin Thoren":MAILTO:dustin.thoren@gmail.com
END:VEVENT
BEGIN:VEVENT
DTSTART;TZID=America/Chicago:20260117T073000
DTEND;TZID=America/Chicago:20260117T121500
DTSTAMP:20260423T171800
CREATED:20250905T132542Z
LAST-MODIFIED:20251205T161537Z
UID:10005015-1768635000-1768652100@stoughtoncc.com
SUMMARY:Youth Instructional Archery
DESCRIPTION:
URL:https://stoughtoncc.com/event/youth-instructional-archery/2026-01-17/
LOCATION:Indoor Archery Range
ORGANIZER;CN="Dustin Thoren":MAILTO:dustin.thoren@gmail.com
END:VEVENT
BEGIN:VEVENT
DTSTART;TZID=America/Chicago:20260114T173000
DTEND;TZID=America/Chicago:20260114T223000
DTSTAMP:20260423T171800
CREATED:20251029T174859Z
LAST-MODIFIED:20251029T174859Z
UID:10004968-1768411800-1768429800@stoughtoncc.com
SUMMARY:Indoor Archery League - 2026
DESCRIPTION:
URL:https://stoughtoncc.com/event/indoor-archery-league-2026/2026-01-14/
LOCATION:Indoor Archery Range
ORGANIZER;CN="Roger Kluever":MAILTO:07harley89@gmail.com
END:VEVENT
BEGIN:VEVENT
DTSTART;TZID=America/Chicago:20260113T173000
DTEND;TZID=America/Chicago:20260113T223000
DTSTAMP:20260423T171800
CREATED:20251029T174859Z
LAST-MODIFIED:20251029T174859Z
UID:10004967-1768325400-1768343400@stoughtoncc.com
SUMMARY:Indoor Archery League - 2026
DESCRIPTION:
URL:https://stoughtoncc.com/event/indoor-archery-league-2026/2026-01-13/
LOCATION:Indoor Archery Range
ORGANIZER;CN="Roger Kluever":MAILTO:07harley89@gmail.com
END:VEVENT
BEGIN:VEVENT
DTSTART;TZID=America/Chicago:20260112T173000
DTEND;TZID=America/Chicago:20260112T190000
DTSTAMP:20260423T171800
CREATED:20241209T164257Z
LAST-MODIFIED:20250508T035832Z
UID:10004788-1768239000-1768244400@stoughtoncc.com
SUMMARY:Member Orientation - Indoor Archery Closed
DESCRIPTION:In-person orientation is required for new members\, and begins promptly at 6 PM before the monthly general membership meeting. \nOther membership situations can also be handled during this time. \nIndoor Archery will be CLOSED at 5:30 for setup.
URL:https://stoughtoncc.com/event/member-orientation/2026-01-12/
LOCATION:Main Clubhouse
END:VEVENT
BEGIN:VEVENT
DTSTART;TZID=America/Chicago:20260111T080000
DTEND;TZID=America/Chicago:20260111T170000
DTSTAMP:20260423T171800
CREATED:20250903T192741Z
LAST-MODIFIED:20250903T192741Z
UID:10004891-1768118400-1768150800@stoughtoncc.com
SUMMARY:S3DA Indoor Archery Tournament
DESCRIPTION:
URL:https://stoughtoncc.com/event/s3da-indoor-archery-tournament/
LOCATION:Indoor Archery Range
ORGANIZER;CN="Dave Rynes":MAILTO:blackdogdr@gmail.com
END:VEVENT
BEGIN:VEVENT
DTSTART;TZID=America/Chicago:20260110T121500
DTEND;TZID=America/Chicago:20260110T150000
DTSTAMP:20260423T171800
CREATED:20250905T132711Z
LAST-MODIFIED:20251205T161609Z
UID:10005003-1768047300-1768057200@stoughtoncc.com
SUMMARY:Youth Archery League
DESCRIPTION:
URL:https://stoughtoncc.com/event/youth-archery-league/2026-01-10/
LOCATION:Main Clubhouse
ORGANIZER;CN="Dustin Thoren":MAILTO:dustin.thoren@gmail.com
END:VEVENT
BEGIN:VEVENT
DTSTART;TZID=America/Chicago:20260110T073000
DTEND;TZID=America/Chicago:20260110T121500
DTSTAMP:20260423T171800
CREATED:20250905T132542Z
LAST-MODIFIED:20251205T161537Z
UID:10005014-1768030200-1768047300@stoughtoncc.com
SUMMARY:Youth Instructional Archery
DESCRIPTION:
URL:https://stoughtoncc.com/event/youth-instructional-archery/2026-01-10/
LOCATION:Indoor Archery Range
ORGANIZER;CN="Dustin Thoren":MAILTO:dustin.thoren@gmail.com
END:VEVENT
BEGIN:VEVENT
DTSTART;TZID=America/Chicago:20260107T173000
DTEND;TZID=America/Chicago:20260107T223000
DTSTAMP:20260423T171800
CREATED:20251029T174859Z
LAST-MODIFIED:20251029T174859Z
UID:10004966-1767807000-1767825000@stoughtoncc.com
SUMMARY:Indoor Archery League - 2026
DESCRIPTION:
URL:https://stoughtoncc.com/event/indoor-archery-league-2026/2026-01-07/
LOCATION:Indoor Archery Range
ORGANIZER;CN="Roger Kluever":MAILTO:07harley89@gmail.com
END:VEVENT
BEGIN:VEVENT
DTSTART;TZID=America/Chicago:20260106T173000
DTEND;TZID=America/Chicago:20260106T223000
DTSTAMP:20260423T171800
CREATED:20251029T174859Z
LAST-MODIFIED:20251029T174859Z
UID:10004965-1767720600-1767738600@stoughtoncc.com
SUMMARY:Indoor Archery League - 2026
DESCRIPTION:
URL:https://stoughtoncc.com/event/indoor-archery-league-2026/2026-01-06/
LOCATION:Indoor Archery Range
ORGANIZER;CN="Roger Kluever":MAILTO:07harley89@gmail.com
END:VEVENT
BEGIN:VEVENT
DTSTART;TZID=America/Chicago:20260105T180000
DTEND;TZID=America/Chicago:20260105T200000
DTSTAMP:20260423T171800
CREATED:20250106T214651Z
LAST-MODIFIED:20250106T230453Z
UID:10004607-1767636000-1767643200@stoughtoncc.com
SUMMARY:S3DA Archery
DESCRIPTION:
URL:https://stoughtoncc.com/event/s3da/2026-01-05/
LOCATION:Indoor Archery Range
ORGANIZER;CN="Dave Rynes":MAILTO:blackdogdr@gmail.com
END:VEVENT
BEGIN:VEVENT
DTSTART;TZID=America/Chicago:20260104T070000
DTEND;TZID=America/Chicago:20260104T190000
DTSTAMP:20260423T171800
CREATED:20251107T040412Z
LAST-MODIFIED:20251205T161452Z
UID:10005027-1767510000-1767553200@stoughtoncc.com
SUMMARY:Tri-Star Archery Tournament 2026
DESCRIPTION:
URL:https://stoughtoncc.com/event/tri-star-archery-tournament-2026/
LOCATION:Indoor Archery Range
END:VEVENT
BEGIN:VEVENT
DTSTART;TZID=America/Chicago:20260103T121500
DTEND;TZID=America/Chicago:20260103T150000
DTSTAMP:20260423T171800
CREATED:20250905T132711Z
LAST-MODIFIED:20251205T161609Z
UID:10005002-1767442500-1767452400@stoughtoncc.com
SUMMARY:Youth Archery League
DESCRIPTION:
URL:https://stoughtoncc.com/event/youth-archery-league/2026-01-03/
LOCATION:Main Clubhouse
ORGANIZER;CN="Dustin Thoren":MAILTO:dustin.thoren@gmail.com
END:VEVENT
BEGIN:VEVENT
DTSTART;TZID=America/Chicago:20260103T073000
DTEND;TZID=America/Chicago:20260103T121500
DTSTAMP:20260423T171800
CREATED:20250905T132542Z
LAST-MODIFIED:20251205T161537Z
UID:10005013-1767425400-1767442500@stoughtoncc.com
SUMMARY:Youth Instructional Archery
DESCRIPTION:
URL:https://stoughtoncc.com/event/youth-instructional-archery/2026-01-03/
LOCATION:Indoor Archery Range
ORGANIZER;CN="Dustin Thoren":MAILTO:dustin.thoren@gmail.com
END:VEVENT
BEGIN:VEVENT
DTSTART;TZID=America/Chicago:20251222T180000
DTEND;TZID=America/Chicago:20251222T200000
DTSTAMP:20260423T171800
CREATED:20250106T230359Z
LAST-MODIFIED:20250106T230359Z
UID:10004658-1766426400-1766433600@stoughtoncc.com
SUMMARY:S3DA Archery
DESCRIPTION:
URL:https://stoughtoncc.com/event/s3da-archery/2025-12-22/
LOCATION:Indoor Archery Range
ORGANIZER;CN="Dave Rynes":MAILTO:blackdogdr@gmail.com
END:VEVENT
BEGIN:VEVENT
DTSTART;TZID=America/Chicago:20251218T170000
DTEND;TZID=America/Chicago:20251218T200000
DTSTAMP:20260423T171800
CREATED:20251216T233852Z
LAST-MODIFIED:20251216T233950Z
UID:10005068-1766077200-1766088000@stoughtoncc.com
SUMMARY:Archery Range Closed
DESCRIPTION:The Archery Range will be closed to replace the bales. \nIf you’re available stop down to help.
URL:https://stoughtoncc.com/event/archery-range-closed/
LOCATION:Indoor Archery Range
END:VEVENT
BEGIN:VEVENT
DTSTART;TZID=America/Chicago:20251216T183000
DTEND;TZID=America/Chicago:20251216T203000
DTSTAMP:20260423T171800
CREATED:20251029T175058Z
LAST-MODIFIED:20251029T175058Z
UID:10004989-1765909800-1765917000@stoughtoncc.com
SUMMARY:Indoor Archery League Meeting
DESCRIPTION:
URL:https://stoughtoncc.com/event/indoor-archery-league-meeting/
LOCATION:Indoor Archery Range
ORGANIZER;CN="Roger Kluever":MAILTO:07harley89@gmail.com
END:VEVENT
BEGIN:VEVENT
DTSTART;TZID=America/Chicago:20251215T180000
DTEND;TZID=America/Chicago:20251215T200000
DTSTAMP:20260423T171800
CREATED:20250106T214248Z
LAST-MODIFIED:20250106T230443Z
UID:10004525-1765821600-1765828800@stoughtoncc.com
SUMMARY:S3DA Archery
DESCRIPTION:
URL:https://stoughtoncc.com/event/s3da-2/2025-12-15/
LOCATION:Indoor Archery Range
ORGANIZER;CN="Dave Rynes":MAILTO:blackdogdr@gmail.com
END:VEVENT
END:VCALENDAR