BEGIN:VCALENDAR
VERSION:2.0
PRODID:-//Stoughton Conservation Club - ECPv6.15.20//NONSGML v1.0//EN
CALSCALE:GREGORIAN
METHOD:PUBLISH
X-ORIGINAL-URL:https://stoughtoncc.com
X-WR-CALDESC:Events for Stoughton Conservation Club
REFRESH-INTERVAL;VALUE=DURATION:PT1H
X-Robots-Tag:noindex
X-PUBLISHED-TTL:PT1H
BEGIN:VTIMEZONE
TZID:America/Chicago
BEGIN:DAYLIGHT
TZOFFSETFROM:-0600
TZOFFSETTO:-0500
TZNAME:CDT
DTSTART:20280312T080000
END:DAYLIGHT
BEGIN:STANDARD
TZOFFSETFROM:-0500
TZOFFSETTO:-0600
TZNAME:CST
DTSTART:20281105T070000
END:STANDARD
BEGIN:DAYLIGHT
TZOFFSETFROM:-0600
TZOFFSETTO:-0500
TZNAME:CDT
DTSTART:20290311T080000
END:DAYLIGHT
BEGIN:STANDARD
TZOFFSETFROM:-0500
TZOFFSETTO:-0600
TZNAME:CST
DTSTART:20291104T070000
END:STANDARD
BEGIN:DAYLIGHT
TZOFFSETFROM:-0600
TZOFFSETTO:-0500
TZNAME:CDT
DTSTART:20300310T080000
END:DAYLIGHT
BEGIN:STANDARD
TZOFFSETFROM:-0500
TZOFFSETTO:-0600
TZNAME:CST
DTSTART:20301103T070000
END:STANDARD
BEGIN:DAYLIGHT
TZOFFSETFROM:-0600
TZOFFSETTO:-0500
TZNAME:CDT
DTSTART:20310309T080000
END:DAYLIGHT
BEGIN:STANDARD
TZOFFSETFROM:-0500
TZOFFSETTO:-0600
TZNAME:CST
DTSTART:20311102T070000
END:STANDARD
END:VTIMEZONE
BEGIN:VEVENT
DTSTART;TZID=America/Chicago:20291217T180000
DTEND;TZID=America/Chicago:20291217T200000
DTSTAMP:20260424T062002
CREATED:20250106T214248Z
LAST-MODIFIED:20250106T230443Z
UID:10004573-1892224800-1892232000@stoughtoncc.com
SUMMARY:S3DA Archery
DESCRIPTION:
URL:https://stoughtoncc.com/event/s3da-2/2029-12-17/
LOCATION:Indoor Archery Range
ORGANIZER;CN="Dave Rynes":MAILTO:blackdogdr@gmail.com
END:VEVENT
BEGIN:VEVENT
DTSTART;TZID=America/Chicago:20300114T173000
DTEND;TZID=America/Chicago:20300114T190000
DTSTAMP:20260424T062002
CREATED:20241209T164257Z
LAST-MODIFIED:20250508T035832Z
UID:10004836-1894642200-1894647600@stoughtoncc.com
SUMMARY:Member Orientation - Indoor Archery Closed
DESCRIPTION:In-person orientation is required for new members\, and begins promptly at 6 PM before the monthly general membership meeting. \nOther membership situations can also be handled during this time. \nIndoor Archery will be CLOSED at 5:30 for setup.
URL:https://stoughtoncc.com/event/member-orientation/2030-01-14/
LOCATION:Main Clubhouse
END:VEVENT
BEGIN:VEVENT
DTSTART;TZID=America/Chicago:20300211T173000
DTEND;TZID=America/Chicago:20300211T190000
DTSTAMP:20260424T062002
CREATED:20241209T164257Z
LAST-MODIFIED:20250508T035832Z
UID:10004837-1897061400-1897066800@stoughtoncc.com
SUMMARY:Member Orientation - Indoor Archery Closed
DESCRIPTION:In-person orientation is required for new members\, and begins promptly at 6 PM before the monthly general membership meeting. \nOther membership situations can also be handled during this time. \nIndoor Archery will be CLOSED at 5:30 for setup.
URL:https://stoughtoncc.com/event/member-orientation/2030-02-11/
LOCATION:Main Clubhouse
END:VEVENT
BEGIN:VEVENT
DTSTART;TZID=America/Chicago:20300311T173000
DTEND;TZID=America/Chicago:20300311T190000
DTSTAMP:20260424T062002
CREATED:20241209T164257Z
LAST-MODIFIED:20250508T035832Z
UID:10004838-1899480600-1899486000@stoughtoncc.com
SUMMARY:Member Orientation - Indoor Archery Closed
DESCRIPTION:In-person orientation is required for new members\, and begins promptly at 6 PM before the monthly general membership meeting. \nOther membership situations can also be handled during this time. \nIndoor Archery will be CLOSED at 5:30 for setup.
URL:https://stoughtoncc.com/event/member-orientation/2030-03-11/
LOCATION:Main Clubhouse
END:VEVENT
BEGIN:VEVENT
DTSTART;TZID=America/Chicago:20300408T173000
DTEND;TZID=America/Chicago:20300408T190000
DTSTAMP:20260424T062002
CREATED:20241209T164257Z
LAST-MODIFIED:20250508T035832Z
UID:10004839-1901899800-1901905200@stoughtoncc.com
SUMMARY:Member Orientation - Indoor Archery Closed
DESCRIPTION:In-person orientation is required for new members\, and begins promptly at 6 PM before the monthly general membership meeting. \nOther membership situations can also be handled during this time. \nIndoor Archery will be CLOSED at 5:30 for setup.
URL:https://stoughtoncc.com/event/member-orientation/2030-04-08/
LOCATION:Main Clubhouse
END:VEVENT
END:VCALENDAR