BEGIN:VCALENDAR
VERSION:2.0
PRODID:-//Stoughton Conservation Club - ECPv6.15.20//NONSGML v1.0//EN
CALSCALE:GREGORIAN
METHOD:PUBLISH
X-WR-CALNAME:Stoughton Conservation Club
X-ORIGINAL-URL:https://stoughtoncc.com
X-WR-CALDESC:Events for Stoughton Conservation Club
REFRESH-INTERVAL;VALUE=DURATION:PT1H
X-Robots-Tag:noindex
X-PUBLISHED-TTL:PT1H
BEGIN:VTIMEZONE
TZID:America/Chicago
BEGIN:DAYLIGHT
TZOFFSETFROM:-0600
TZOFFSETTO:-0500
TZNAME:CDT
DTSTART:20250309T080000
END:DAYLIGHT
BEGIN:STANDARD
TZOFFSETFROM:-0500
TZOFFSETTO:-0600
TZNAME:CST
DTSTART:20251102T070000
END:STANDARD
BEGIN:DAYLIGHT
TZOFFSETFROM:-0600
TZOFFSETTO:-0500
TZNAME:CDT
DTSTART:20260308T080000
END:DAYLIGHT
BEGIN:STANDARD
TZOFFSETFROM:-0500
TZOFFSETTO:-0600
TZNAME:CST
DTSTART:20261101T070000
END:STANDARD
BEGIN:DAYLIGHT
TZOFFSETFROM:-0600
TZOFFSETTO:-0500
TZNAME:CDT
DTSTART:20270314T080000
END:DAYLIGHT
BEGIN:STANDARD
TZOFFSETFROM:-0500
TZOFFSETTO:-0600
TZNAME:CST
DTSTART:20271107T070000
END:STANDARD
BEGIN:DAYLIGHT
TZOFFSETFROM:-0600
TZOFFSETTO:-0500
TZNAME:CDT
DTSTART:20280312T080000
END:DAYLIGHT
BEGIN:STANDARD
TZOFFSETFROM:-0500
TZOFFSETTO:-0600
TZNAME:CST
DTSTART:20281105T070000
END:STANDARD
END:VTIMEZONE
BEGIN:VEVENT
DTSTART;TZID=America/Chicago:20260907T080000
DTEND;TZID=America/Chicago:20260907T110000
DTSTAMP:20260423T184033
CREATED:20241210T180811Z
LAST-MODIFIED:20250508T035024Z
UID:10004130-1788768000-1788778800@stoughtoncc.com
SUMMARY:Monday Morning Trap/Skeet
DESCRIPTION:Open trap and skeet for members. Come\, shoot\, drink coffee.
URL:https://stoughtoncc.com/event/monday-morning-trap-skeet/2026-09-07/
LOCATION:Trap & Skeet Fields
END:VEVENT
BEGIN:VEVENT
DTSTART;TZID=America/Chicago:20260914T080000
DTEND;TZID=America/Chicago:20260914T110000
DTSTAMP:20260423T184033
CREATED:20241210T180811Z
LAST-MODIFIED:20250508T035024Z
UID:10004131-1789372800-1789383600@stoughtoncc.com
SUMMARY:Monday Morning Trap/Skeet
DESCRIPTION:Open trap and skeet for members. Come\, shoot\, drink coffee.
URL:https://stoughtoncc.com/event/monday-morning-trap-skeet/2026-09-14/
LOCATION:Trap & Skeet Fields
END:VEVENT
BEGIN:VEVENT
DTSTART;TZID=America/Chicago:20260914T173000
DTEND;TZID=America/Chicago:20260914T190000
DTSTAMP:20260423T184033
CREATED:20241209T164257Z
LAST-MODIFIED:20250508T035832Z
UID:10004796-1789407000-1789412400@stoughtoncc.com
SUMMARY:Member Orientation - Indoor Archery Closed
DESCRIPTION:In-person orientation is required for new members\, and begins promptly at 6 PM before the monthly general membership meeting. \nOther membership situations can also be handled during this time. \nIndoor Archery will be CLOSED at 5:30 for setup.
URL:https://stoughtoncc.com/event/member-orientation/2026-09-14/
LOCATION:Main Clubhouse
END:VEVENT
BEGIN:VEVENT
DTSTART;TZID=America/Chicago:20260914T190000
DTEND;TZID=America/Chicago:20260914T200000
DTSTAMP:20260423T184033
CREATED:20241210T172441Z
LAST-MODIFIED:20241210T172441Z
UID:10003989-1789412400-1789416000@stoughtoncc.com
SUMMARY:Member Meeting
DESCRIPTION:
URL:https://stoughtoncc.com/event/member-meeting/2026-09-14/
LOCATION:Main Clubhouse
END:VEVENT
BEGIN:VEVENT
DTSTART;TZID=America/Chicago:20260921T080000
DTEND;TZID=America/Chicago:20260921T110000
DTSTAMP:20260423T184033
CREATED:20241210T180811Z
LAST-MODIFIED:20250508T035024Z
UID:10004132-1789977600-1789988400@stoughtoncc.com
SUMMARY:Monday Morning Trap/Skeet
DESCRIPTION:Open trap and skeet for members. Come\, shoot\, drink coffee.
URL:https://stoughtoncc.com/event/monday-morning-trap-skeet/2026-09-21/
LOCATION:Trap & Skeet Fields
END:VEVENT
BEGIN:VEVENT
DTSTART;TZID=America/Chicago:20260928T080000
DTEND;TZID=America/Chicago:20260928T110000
DTSTAMP:20260423T184033
CREATED:20241210T180811Z
LAST-MODIFIED:20250508T035024Z
UID:10004133-1790582400-1790593200@stoughtoncc.com
SUMMARY:Monday Morning Trap/Skeet
DESCRIPTION:Open trap and skeet for members. Come\, shoot\, drink coffee.
URL:https://stoughtoncc.com/event/monday-morning-trap-skeet/2026-09-28/
LOCATION:Trap & Skeet Fields
END:VEVENT
BEGIN:VEVENT
DTSTART;TZID=America/Chicago:20260928T190000
DTEND;TZID=America/Chicago:20260928T210000
DTSTAMP:20260423T184033
CREATED:20251219T162212Z
LAST-MODIFIED:20251219T162212Z
UID:10005078-1790622000-1790629200@stoughtoncc.com
SUMMARY:Board of Directors Meeting
DESCRIPTION:This is the monthly SCC Board of Directors meeting. \nContact a board member if you’d like to have a topic added to the agenda. \nThe board meets at 6:30 during standard time months and 7:00 during daylight savings time months.
URL:https://stoughtoncc.com/event/board-of-directors-meeting-4/2026-09-28/
LOCATION:Main Clubhouse
END:VEVENT
BEGIN:VEVENT
DTSTART;TZID=America/Chicago:20261005T080000
DTEND;TZID=America/Chicago:20261005T110000
DTSTAMP:20260423T184033
CREATED:20241210T180811Z
LAST-MODIFIED:20250508T035024Z
UID:10004134-1791187200-1791198000@stoughtoncc.com
SUMMARY:Monday Morning Trap/Skeet
DESCRIPTION:Open trap and skeet for members. Come\, shoot\, drink coffee.
URL:https://stoughtoncc.com/event/monday-morning-trap-skeet/2026-10-05/
LOCATION:Trap & Skeet Fields
END:VEVENT
BEGIN:VEVENT
DTSTART;TZID=America/Chicago:20261012T080000
DTEND;TZID=America/Chicago:20261012T110000
DTSTAMP:20260423T184033
CREATED:20241210T180811Z
LAST-MODIFIED:20250508T035024Z
UID:10004135-1791792000-1791802800@stoughtoncc.com
SUMMARY:Monday Morning Trap/Skeet
DESCRIPTION:Open trap and skeet for members. Come\, shoot\, drink coffee.
URL:https://stoughtoncc.com/event/monday-morning-trap-skeet/2026-10-12/
LOCATION:Trap & Skeet Fields
END:VEVENT
BEGIN:VEVENT
DTSTART;TZID=America/Chicago:20261012T173000
DTEND;TZID=America/Chicago:20261012T190000
DTSTAMP:20260423T184033
CREATED:20241209T164257Z
LAST-MODIFIED:20250508T035832Z
UID:10004797-1791826200-1791831600@stoughtoncc.com
SUMMARY:Member Orientation - Indoor Archery Closed
DESCRIPTION:In-person orientation is required for new members\, and begins promptly at 6 PM before the monthly general membership meeting. \nOther membership situations can also be handled during this time. \nIndoor Archery will be CLOSED at 5:30 for setup.
URL:https://stoughtoncc.com/event/member-orientation/2026-10-12/
LOCATION:Main Clubhouse
END:VEVENT
BEGIN:VEVENT
DTSTART;TZID=America/Chicago:20261012T190000
DTEND;TZID=America/Chicago:20261012T200000
DTSTAMP:20260423T184033
CREATED:20241210T172441Z
LAST-MODIFIED:20241210T172441Z
UID:10003990-1791831600-1791835200@stoughtoncc.com
SUMMARY:Member Meeting
DESCRIPTION:
URL:https://stoughtoncc.com/event/member-meeting/2026-10-12/
LOCATION:Main Clubhouse
END:VEVENT
BEGIN:VEVENT
DTSTART;TZID=America/Chicago:20261019T080000
DTEND;TZID=America/Chicago:20261019T110000
DTSTAMP:20260423T184033
CREATED:20241210T180811Z
LAST-MODIFIED:20250508T035024Z
UID:10004136-1792396800-1792407600@stoughtoncc.com
SUMMARY:Monday Morning Trap/Skeet
DESCRIPTION:Open trap and skeet for members. Come\, shoot\, drink coffee.
URL:https://stoughtoncc.com/event/monday-morning-trap-skeet/2026-10-19/
LOCATION:Trap & Skeet Fields
END:VEVENT
BEGIN:VEVENT
DTSTART;TZID=America/Chicago:20261026T080000
DTEND;TZID=America/Chicago:20261026T110000
DTSTAMP:20260423T184033
CREATED:20241210T180811Z
LAST-MODIFIED:20250508T035024Z
UID:10004137-1793001600-1793012400@stoughtoncc.com
SUMMARY:Monday Morning Trap/Skeet
DESCRIPTION:Open trap and skeet for members. Come\, shoot\, drink coffee.
URL:https://stoughtoncc.com/event/monday-morning-trap-skeet/2026-10-26/
LOCATION:Trap & Skeet Fields
END:VEVENT
BEGIN:VEVENT
DTSTART;TZID=America/Chicago:20261026T190000
DTEND;TZID=America/Chicago:20261026T210000
DTSTAMP:20260423T184033
CREATED:20251219T162212Z
LAST-MODIFIED:20251219T162212Z
UID:10005079-1793041200-1793048400@stoughtoncc.com
SUMMARY:Board of Directors Meeting
DESCRIPTION:This is the monthly SCC Board of Directors meeting. \nContact a board member if you’d like to have a topic added to the agenda. \nThe board meets at 6:30 during standard time months and 7:00 during daylight savings time months.
URL:https://stoughtoncc.com/event/board-of-directors-meeting-4/2026-10-26/
LOCATION:Main Clubhouse
END:VEVENT
BEGIN:VEVENT
DTSTART;TZID=America/Chicago:20261102T080000
DTEND;TZID=America/Chicago:20261102T110000
DTSTAMP:20260423T184033
CREATED:20241210T180811Z
LAST-MODIFIED:20250508T035024Z
UID:10004138-1793606400-1793617200@stoughtoncc.com
SUMMARY:Monday Morning Trap/Skeet
DESCRIPTION:Open trap and skeet for members. Come\, shoot\, drink coffee.
URL:https://stoughtoncc.com/event/monday-morning-trap-skeet/2026-11-02/
LOCATION:Trap & Skeet Fields
END:VEVENT
BEGIN:VEVENT
DTSTART;TZID=America/Chicago:20261109T080000
DTEND;TZID=America/Chicago:20261109T110000
DTSTAMP:20260423T184033
CREATED:20241210T180811Z
LAST-MODIFIED:20250508T035024Z
UID:10004139-1794211200-1794222000@stoughtoncc.com
SUMMARY:Monday Morning Trap/Skeet
DESCRIPTION:Open trap and skeet for members. Come\, shoot\, drink coffee.
URL:https://stoughtoncc.com/event/monday-morning-trap-skeet/2026-11-09/
LOCATION:Trap & Skeet Fields
END:VEVENT
BEGIN:VEVENT
DTSTART;TZID=America/Chicago:20261109T173000
DTEND;TZID=America/Chicago:20261109T190000
DTSTAMP:20260423T184033
CREATED:20241209T164257Z
LAST-MODIFIED:20250508T035832Z
UID:10004798-1794245400-1794250800@stoughtoncc.com
SUMMARY:Member Orientation - Indoor Archery Closed
DESCRIPTION:In-person orientation is required for new members\, and begins promptly at 6 PM before the monthly general membership meeting. \nOther membership situations can also be handled during this time. \nIndoor Archery will be CLOSED at 5:30 for setup.
URL:https://stoughtoncc.com/event/member-orientation/2026-11-09/
LOCATION:Main Clubhouse
END:VEVENT
BEGIN:VEVENT
DTSTART;TZID=America/Chicago:20261109T190000
DTEND;TZID=America/Chicago:20261109T200000
DTSTAMP:20260423T184033
CREATED:20241210T172441Z
LAST-MODIFIED:20241210T172441Z
UID:10003991-1794250800-1794254400@stoughtoncc.com
SUMMARY:Member Meeting
DESCRIPTION:
URL:https://stoughtoncc.com/event/member-meeting/2026-11-09/
LOCATION:Main Clubhouse
END:VEVENT
BEGIN:VEVENT
DTSTART;TZID=America/Chicago:20261116T080000
DTEND;TZID=America/Chicago:20261116T110000
DTSTAMP:20260423T184033
CREATED:20241210T180811Z
LAST-MODIFIED:20250508T035024Z
UID:10004140-1794816000-1794826800@stoughtoncc.com
SUMMARY:Monday Morning Trap/Skeet
DESCRIPTION:Open trap and skeet for members. Come\, shoot\, drink coffee.
URL:https://stoughtoncc.com/event/monday-morning-trap-skeet/2026-11-16/
LOCATION:Trap & Skeet Fields
END:VEVENT
BEGIN:VEVENT
DTSTART;TZID=America/Chicago:20261123T080000
DTEND;TZID=America/Chicago:20261123T110000
DTSTAMP:20260423T184033
CREATED:20241210T180811Z
LAST-MODIFIED:20250508T035024Z
UID:10004141-1795420800-1795431600@stoughtoncc.com
SUMMARY:Monday Morning Trap/Skeet
DESCRIPTION:Open trap and skeet for members. Come\, shoot\, drink coffee.
URL:https://stoughtoncc.com/event/monday-morning-trap-skeet/2026-11-23/
LOCATION:Trap & Skeet Fields
END:VEVENT
BEGIN:VEVENT
DTSTART;TZID=America/Chicago:20261130T080000
DTEND;TZID=America/Chicago:20261130T110000
DTSTAMP:20260423T184033
CREATED:20241210T180811Z
LAST-MODIFIED:20250508T035024Z
UID:10004142-1796025600-1796036400@stoughtoncc.com
SUMMARY:Monday Morning Trap/Skeet
DESCRIPTION:Open trap and skeet for members. Come\, shoot\, drink coffee.
URL:https://stoughtoncc.com/event/monday-morning-trap-skeet/2026-11-30/
LOCATION:Trap & Skeet Fields
END:VEVENT
BEGIN:VEVENT
DTSTART;TZID=America/Chicago:20261130T183000
DTEND;TZID=America/Chicago:20261130T210000
DTSTAMP:20260423T184033
CREATED:20251219T162212Z
LAST-MODIFIED:20251219T162212Z
UID:10005080-1796063400-1796072400@stoughtoncc.com
SUMMARY:Board of Directors Meeting
DESCRIPTION:This is the monthly SCC Board of Directors meeting. \nContact a board member if you’d like to have a topic added to the agenda. \nThe board meets at 6:30 during standard time months and 7:00 during daylight savings time months.
URL:https://stoughtoncc.com/event/board-of-directors-meeting-4/2026-11-30/
LOCATION:Main Clubhouse
END:VEVENT
BEGIN:VEVENT
DTSTART;TZID=America/Chicago:20261207T080000
DTEND;TZID=America/Chicago:20261207T110000
DTSTAMP:20260423T184033
CREATED:20241210T180811Z
LAST-MODIFIED:20250508T035024Z
UID:10004143-1796630400-1796641200@stoughtoncc.com
SUMMARY:Monday Morning Trap/Skeet
DESCRIPTION:Open trap and skeet for members. Come\, shoot\, drink coffee.
URL:https://stoughtoncc.com/event/monday-morning-trap-skeet/2026-12-07/
LOCATION:Trap & Skeet Fields
END:VEVENT
BEGIN:VEVENT
DTSTART;TZID=America/Chicago:20261214T080000
DTEND;TZID=America/Chicago:20261214T110000
DTSTAMP:20260423T184033
CREATED:20241210T180811Z
LAST-MODIFIED:20250508T035024Z
UID:10004144-1797235200-1797246000@stoughtoncc.com
SUMMARY:Monday Morning Trap/Skeet
DESCRIPTION:Open trap and skeet for members. Come\, shoot\, drink coffee.
URL:https://stoughtoncc.com/event/monday-morning-trap-skeet/2026-12-14/
LOCATION:Trap & Skeet Fields
END:VEVENT
BEGIN:VEVENT
DTSTART;TZID=America/Chicago:20261214T173000
DTEND;TZID=America/Chicago:20261214T190000
DTSTAMP:20260423T184033
CREATED:20241209T164257Z
LAST-MODIFIED:20250508T035832Z
UID:10004799-1797269400-1797274800@stoughtoncc.com
SUMMARY:Member Orientation - Indoor Archery Closed
DESCRIPTION:In-person orientation is required for new members\, and begins promptly at 6 PM before the monthly general membership meeting. \nOther membership situations can also be handled during this time. \nIndoor Archery will be CLOSED at 5:30 for setup.
URL:https://stoughtoncc.com/event/member-orientation/2026-12-14/
LOCATION:Main Clubhouse
END:VEVENT
BEGIN:VEVENT
DTSTART;TZID=America/Chicago:20261214T190000
DTEND;TZID=America/Chicago:20261214T200000
DTSTAMP:20260423T184033
CREATED:20241210T172441Z
LAST-MODIFIED:20241210T172441Z
UID:10003992-1797274800-1797278400@stoughtoncc.com
SUMMARY:Member Meeting
DESCRIPTION:
URL:https://stoughtoncc.com/event/member-meeting/2026-12-14/
LOCATION:Main Clubhouse
END:VEVENT
BEGIN:VEVENT
DTSTART;TZID=America/Chicago:20261221T080000
DTEND;TZID=America/Chicago:20261221T110000
DTSTAMP:20260423T184033
CREATED:20241210T180811Z
LAST-MODIFIED:20250508T035024Z
UID:10004145-1797840000-1797850800@stoughtoncc.com
SUMMARY:Monday Morning Trap/Skeet
DESCRIPTION:Open trap and skeet for members. Come\, shoot\, drink coffee.
URL:https://stoughtoncc.com/event/monday-morning-trap-skeet/2026-12-21/
LOCATION:Trap & Skeet Fields
END:VEVENT
BEGIN:VEVENT
DTSTART;TZID=America/Chicago:20261228T080000
DTEND;TZID=America/Chicago:20261228T110000
DTSTAMP:20260423T184033
CREATED:20241210T180811Z
LAST-MODIFIED:20250508T035024Z
UID:10004146-1798444800-1798455600@stoughtoncc.com
SUMMARY:Monday Morning Trap/Skeet
DESCRIPTION:Open trap and skeet for members. Come\, shoot\, drink coffee.
URL:https://stoughtoncc.com/event/monday-morning-trap-skeet/2026-12-28/
LOCATION:Trap & Skeet Fields
END:VEVENT
BEGIN:VEVENT
DTSTART;TZID=America/Chicago:20261228T183000
DTEND;TZID=America/Chicago:20261228T210000
DTSTAMP:20260423T184033
CREATED:20251219T162212Z
LAST-MODIFIED:20251219T162212Z
UID:10005081-1798482600-1798491600@stoughtoncc.com
SUMMARY:Board of Directors Meeting
DESCRIPTION:This is the monthly SCC Board of Directors meeting. \nContact a board member if you’d like to have a topic added to the agenda. \nThe board meets at 6:30 during standard time months and 7:00 during daylight savings time months.
URL:https://stoughtoncc.com/event/board-of-directors-meeting-4/2026-12-28/
LOCATION:Main Clubhouse
END:VEVENT
BEGIN:VEVENT
DTSTART;TZID=America/Chicago:20270104T080000
DTEND;TZID=America/Chicago:20270104T110000
DTSTAMP:20260423T184033
CREATED:20241210T180811Z
LAST-MODIFIED:20250508T035024Z
UID:10004147-1799049600-1799060400@stoughtoncc.com
SUMMARY:Monday Morning Trap/Skeet
DESCRIPTION:Open trap and skeet for members. Come\, shoot\, drink coffee.
URL:https://stoughtoncc.com/event/monday-morning-trap-skeet/2027-01-04/
LOCATION:Trap & Skeet Fields
END:VEVENT
END:VCALENDAR