BEGIN:VCALENDAR
VERSION:2.0
PRODID:-//Stoughton Conservation Club - ECPv6.15.20//NONSGML v1.0//EN
CALSCALE:GREGORIAN
METHOD:PUBLISH
X-WR-CALNAME:Stoughton Conservation Club
X-ORIGINAL-URL:https://stoughtoncc.com
X-WR-CALDESC:Events for Stoughton Conservation Club
REFRESH-INTERVAL;VALUE=DURATION:PT1H
X-Robots-Tag:noindex
X-PUBLISHED-TTL:PT1H
BEGIN:VTIMEZONE
TZID:America/Chicago
BEGIN:DAYLIGHT
TZOFFSETFROM:-0600
TZOFFSETTO:-0500
TZNAME:CDT
DTSTART:20280312T080000
END:DAYLIGHT
BEGIN:STANDARD
TZOFFSETFROM:-0500
TZOFFSETTO:-0600
TZNAME:CST
DTSTART:20281105T070000
END:STANDARD
BEGIN:DAYLIGHT
TZOFFSETFROM:-0600
TZOFFSETTO:-0500
TZNAME:CDT
DTSTART:20290311T080000
END:DAYLIGHT
BEGIN:STANDARD
TZOFFSETFROM:-0500
TZOFFSETTO:-0600
TZNAME:CST
DTSTART:20291104T070000
END:STANDARD
BEGIN:DAYLIGHT
TZOFFSETFROM:-0600
TZOFFSETTO:-0500
TZNAME:CDT
DTSTART:20300310T080000
END:DAYLIGHT
BEGIN:STANDARD
TZOFFSETFROM:-0500
TZOFFSETTO:-0600
TZNAME:CST
DTSTART:20301103T070000
END:STANDARD
END:VTIMEZONE
BEGIN:VEVENT
DTSTART;TZID=America/Chicago:20290101T080000
DTEND;TZID=America/Chicago:20290101T110000
DTSTAMP:20260424T145737
CREATED:20241210T180811Z
LAST-MODIFIED:20250508T035024Z
UID:10004251-1861948800-1861959600@stoughtoncc.com
SUMMARY:Monday Morning Trap/Skeet
DESCRIPTION:Open trap and skeet for members. Come\, shoot\, drink coffee.
URL:https://stoughtoncc.com/event/monday-morning-trap-skeet/2029-01-01/
LOCATION:Trap & Skeet Fields
END:VEVENT
BEGIN:VEVENT
DTSTART;TZID=America/Chicago:20290108T080000
DTEND;TZID=America/Chicago:20290108T110000
DTSTAMP:20260424T145737
CREATED:20241210T180811Z
LAST-MODIFIED:20250508T035024Z
UID:10004252-1862553600-1862564400@stoughtoncc.com
SUMMARY:Monday Morning Trap/Skeet
DESCRIPTION:Open trap and skeet for members. Come\, shoot\, drink coffee.
URL:https://stoughtoncc.com/event/monday-morning-trap-skeet/2029-01-08/
LOCATION:Trap & Skeet Fields
END:VEVENT
BEGIN:VEVENT
DTSTART;TZID=America/Chicago:20290108T173000
DTEND;TZID=America/Chicago:20290108T190000
DTSTAMP:20260424T145737
CREATED:20241209T164257Z
LAST-MODIFIED:20250508T035832Z
UID:10004824-1862587800-1862593200@stoughtoncc.com
SUMMARY:Member Orientation - Indoor Archery Closed
DESCRIPTION:In-person orientation is required for new members\, and begins promptly at 6 PM before the monthly general membership meeting. \nOther membership situations can also be handled during this time. \nIndoor Archery will be CLOSED at 5:30 for setup.
URL:https://stoughtoncc.com/event/member-orientation/2029-01-08/
LOCATION:Main Clubhouse
END:VEVENT
BEGIN:VEVENT
DTSTART;TZID=America/Chicago:20290108T190000
DTEND;TZID=America/Chicago:20290108T200000
DTSTAMP:20260424T145737
CREATED:20241210T172441Z
LAST-MODIFIED:20241210T172441Z
UID:10004017-1862593200-1862596800@stoughtoncc.com
SUMMARY:Member Meeting
DESCRIPTION:
URL:https://stoughtoncc.com/event/member-meeting/2029-01-08/
LOCATION:Main Clubhouse
END:VEVENT
BEGIN:VEVENT
DTSTART;TZID=America/Chicago:20290115T080000
DTEND;TZID=America/Chicago:20290115T110000
DTSTAMP:20260424T145737
CREATED:20241210T180811Z
LAST-MODIFIED:20250508T035024Z
UID:10004253-1863158400-1863169200@stoughtoncc.com
SUMMARY:Monday Morning Trap/Skeet
DESCRIPTION:Open trap and skeet for members. Come\, shoot\, drink coffee.
URL:https://stoughtoncc.com/event/monday-morning-trap-skeet/2029-01-15/
LOCATION:Trap & Skeet Fields
END:VEVENT
BEGIN:VEVENT
DTSTART;TZID=America/Chicago:20290122T080000
DTEND;TZID=America/Chicago:20290122T110000
DTSTAMP:20260424T145737
CREATED:20241210T180811Z
LAST-MODIFIED:20250508T035024Z
UID:10004254-1863763200-1863774000@stoughtoncc.com
SUMMARY:Monday Morning Trap/Skeet
DESCRIPTION:Open trap and skeet for members. Come\, shoot\, drink coffee.
URL:https://stoughtoncc.com/event/monday-morning-trap-skeet/2029-01-22/
LOCATION:Trap & Skeet Fields
END:VEVENT
BEGIN:VEVENT
DTSTART;TZID=America/Chicago:20290129T080000
DTEND;TZID=America/Chicago:20290129T110000
DTSTAMP:20260424T145737
CREATED:20241210T180811Z
LAST-MODIFIED:20250508T035024Z
UID:10004255-1864368000-1864378800@stoughtoncc.com
SUMMARY:Monday Morning Trap/Skeet
DESCRIPTION:Open trap and skeet for members. Come\, shoot\, drink coffee.
URL:https://stoughtoncc.com/event/monday-morning-trap-skeet/2029-01-29/
LOCATION:Trap & Skeet Fields
END:VEVENT
BEGIN:VEVENT
DTSTART;TZID=America/Chicago:20290205T080000
DTEND;TZID=America/Chicago:20290205T110000
DTSTAMP:20260424T145737
CREATED:20241210T180811Z
LAST-MODIFIED:20250508T035024Z
UID:10004256-1864972800-1864983600@stoughtoncc.com
SUMMARY:Monday Morning Trap/Skeet
DESCRIPTION:Open trap and skeet for members. Come\, shoot\, drink coffee.
URL:https://stoughtoncc.com/event/monday-morning-trap-skeet/2029-02-05/
LOCATION:Trap & Skeet Fields
END:VEVENT
BEGIN:VEVENT
DTSTART;TZID=America/Chicago:20290212T080000
DTEND;TZID=America/Chicago:20290212T110000
DTSTAMP:20260424T145737
CREATED:20241210T180811Z
LAST-MODIFIED:20250508T035024Z
UID:10004257-1865577600-1865588400@stoughtoncc.com
SUMMARY:Monday Morning Trap/Skeet
DESCRIPTION:Open trap and skeet for members. Come\, shoot\, drink coffee.
URL:https://stoughtoncc.com/event/monday-morning-trap-skeet/2029-02-12/
LOCATION:Trap & Skeet Fields
END:VEVENT
BEGIN:VEVENT
DTSTART;TZID=America/Chicago:20290212T173000
DTEND;TZID=America/Chicago:20290212T190000
DTSTAMP:20260424T145737
CREATED:20241209T164257Z
LAST-MODIFIED:20250508T035832Z
UID:10004825-1865611800-1865617200@stoughtoncc.com
SUMMARY:Member Orientation - Indoor Archery Closed
DESCRIPTION:In-person orientation is required for new members\, and begins promptly at 6 PM before the monthly general membership meeting. \nOther membership situations can also be handled during this time. \nIndoor Archery will be CLOSED at 5:30 for setup.
URL:https://stoughtoncc.com/event/member-orientation/2029-02-12/
LOCATION:Main Clubhouse
END:VEVENT
BEGIN:VEVENT
DTSTART;TZID=America/Chicago:20290212T190000
DTEND;TZID=America/Chicago:20290212T200000
DTSTAMP:20260424T145737
CREATED:20241210T172441Z
LAST-MODIFIED:20241210T172441Z
UID:10004018-1865617200-1865620800@stoughtoncc.com
SUMMARY:Member Meeting
DESCRIPTION:
URL:https://stoughtoncc.com/event/member-meeting/2029-02-12/
LOCATION:Main Clubhouse
END:VEVENT
BEGIN:VEVENT
DTSTART;TZID=America/Chicago:20290219T080000
DTEND;TZID=America/Chicago:20290219T110000
DTSTAMP:20260424T145737
CREATED:20241210T180811Z
LAST-MODIFIED:20250508T035024Z
UID:10004258-1866182400-1866193200@stoughtoncc.com
SUMMARY:Monday Morning Trap/Skeet
DESCRIPTION:Open trap and skeet for members. Come\, shoot\, drink coffee.
URL:https://stoughtoncc.com/event/monday-morning-trap-skeet/2029-02-19/
LOCATION:Trap & Skeet Fields
END:VEVENT
BEGIN:VEVENT
DTSTART;TZID=America/Chicago:20290226T080000
DTEND;TZID=America/Chicago:20290226T110000
DTSTAMP:20260424T145737
CREATED:20241210T180811Z
LAST-MODIFIED:20250508T035024Z
UID:10004259-1866787200-1866798000@stoughtoncc.com
SUMMARY:Monday Morning Trap/Skeet
DESCRIPTION:Open trap and skeet for members. Come\, shoot\, drink coffee.
URL:https://stoughtoncc.com/event/monday-morning-trap-skeet/2029-02-26/
LOCATION:Trap & Skeet Fields
END:VEVENT
BEGIN:VEVENT
DTSTART;TZID=America/Chicago:20290305T080000
DTEND;TZID=America/Chicago:20290305T110000
DTSTAMP:20260424T145737
CREATED:20241210T180811Z
LAST-MODIFIED:20250508T035024Z
UID:10004260-1867392000-1867402800@stoughtoncc.com
SUMMARY:Monday Morning Trap/Skeet
DESCRIPTION:Open trap and skeet for members. Come\, shoot\, drink coffee.
URL:https://stoughtoncc.com/event/monday-morning-trap-skeet/2029-03-05/
LOCATION:Trap & Skeet Fields
END:VEVENT
BEGIN:VEVENT
DTSTART;TZID=America/Chicago:20290312T080000
DTEND;TZID=America/Chicago:20290312T110000
DTSTAMP:20260424T145737
CREATED:20241210T180811Z
LAST-MODIFIED:20250508T035024Z
UID:10004261-1867996800-1868007600@stoughtoncc.com
SUMMARY:Monday Morning Trap/Skeet
DESCRIPTION:Open trap and skeet for members. Come\, shoot\, drink coffee.
URL:https://stoughtoncc.com/event/monday-morning-trap-skeet/2029-03-12/
LOCATION:Trap & Skeet Fields
END:VEVENT
BEGIN:VEVENT
DTSTART;TZID=America/Chicago:20290312T173000
DTEND;TZID=America/Chicago:20290312T190000
DTSTAMP:20260424T145737
CREATED:20241209T164257Z
LAST-MODIFIED:20250508T035832Z
UID:10004826-1868031000-1868036400@stoughtoncc.com
SUMMARY:Member Orientation - Indoor Archery Closed
DESCRIPTION:In-person orientation is required for new members\, and begins promptly at 6 PM before the monthly general membership meeting. \nOther membership situations can also be handled during this time. \nIndoor Archery will be CLOSED at 5:30 for setup.
URL:https://stoughtoncc.com/event/member-orientation/2029-03-12/
LOCATION:Main Clubhouse
END:VEVENT
BEGIN:VEVENT
DTSTART;TZID=America/Chicago:20290312T190000
DTEND;TZID=America/Chicago:20290312T200000
DTSTAMP:20260424T145737
CREATED:20241210T172441Z
LAST-MODIFIED:20241210T172441Z
UID:10004019-1868036400-1868040000@stoughtoncc.com
SUMMARY:Member Meeting
DESCRIPTION:
URL:https://stoughtoncc.com/event/member-meeting/2029-03-12/
LOCATION:Main Clubhouse
END:VEVENT
BEGIN:VEVENT
DTSTART;TZID=America/Chicago:20290319T080000
DTEND;TZID=America/Chicago:20290319T110000
DTSTAMP:20260424T145737
CREATED:20241210T180811Z
LAST-MODIFIED:20250508T035024Z
UID:10004262-1868601600-1868612400@stoughtoncc.com
SUMMARY:Monday Morning Trap/Skeet
DESCRIPTION:Open trap and skeet for members. Come\, shoot\, drink coffee.
URL:https://stoughtoncc.com/event/monday-morning-trap-skeet/2029-03-19/
LOCATION:Trap & Skeet Fields
END:VEVENT
BEGIN:VEVENT
DTSTART;TZID=America/Chicago:20290326T080000
DTEND;TZID=America/Chicago:20290326T110000
DTSTAMP:20260424T145737
CREATED:20241210T180811Z
LAST-MODIFIED:20250508T035024Z
UID:10004263-1869206400-1869217200@stoughtoncc.com
SUMMARY:Monday Morning Trap/Skeet
DESCRIPTION:Open trap and skeet for members. Come\, shoot\, drink coffee.
URL:https://stoughtoncc.com/event/monday-morning-trap-skeet/2029-03-26/
LOCATION:Trap & Skeet Fields
END:VEVENT
BEGIN:VEVENT
DTSTART;TZID=America/Chicago:20290402T080000
DTEND;TZID=America/Chicago:20290402T110000
DTSTAMP:20260424T145737
CREATED:20241210T180811Z
LAST-MODIFIED:20250508T035024Z
UID:10004264-1869811200-1869822000@stoughtoncc.com
SUMMARY:Monday Morning Trap/Skeet
DESCRIPTION:Open trap and skeet for members. Come\, shoot\, drink coffee.
URL:https://stoughtoncc.com/event/monday-morning-trap-skeet/2029-04-02/
LOCATION:Trap & Skeet Fields
END:VEVENT
BEGIN:VEVENT
DTSTART;TZID=America/Chicago:20290409T080000
DTEND;TZID=America/Chicago:20290409T110000
DTSTAMP:20260424T145737
CREATED:20241210T180811Z
LAST-MODIFIED:20250508T035024Z
UID:10004265-1870416000-1870426800@stoughtoncc.com
SUMMARY:Monday Morning Trap/Skeet
DESCRIPTION:Open trap and skeet for members. Come\, shoot\, drink coffee.
URL:https://stoughtoncc.com/event/monday-morning-trap-skeet/2029-04-09/
LOCATION:Trap & Skeet Fields
END:VEVENT
BEGIN:VEVENT
DTSTART;TZID=America/Chicago:20290409T173000
DTEND;TZID=America/Chicago:20290409T190000
DTSTAMP:20260424T145737
CREATED:20241209T164257Z
LAST-MODIFIED:20250508T035832Z
UID:10004827-1870450200-1870455600@stoughtoncc.com
SUMMARY:Member Orientation - Indoor Archery Closed
DESCRIPTION:In-person orientation is required for new members\, and begins promptly at 6 PM before the monthly general membership meeting. \nOther membership situations can also be handled during this time. \nIndoor Archery will be CLOSED at 5:30 for setup.
URL:https://stoughtoncc.com/event/member-orientation/2029-04-09/
LOCATION:Main Clubhouse
END:VEVENT
BEGIN:VEVENT
DTSTART;TZID=America/Chicago:20290409T190000
DTEND;TZID=America/Chicago:20290409T200000
DTSTAMP:20260424T145737
CREATED:20241210T172441Z
LAST-MODIFIED:20241210T172441Z
UID:10004020-1870455600-1870459200@stoughtoncc.com
SUMMARY:Member Meeting
DESCRIPTION:
URL:https://stoughtoncc.com/event/member-meeting/2029-04-09/
LOCATION:Main Clubhouse
END:VEVENT
BEGIN:VEVENT
DTSTART;TZID=America/Chicago:20290416T080000
DTEND;TZID=America/Chicago:20290416T110000
DTSTAMP:20260424T145737
CREATED:20241210T180811Z
LAST-MODIFIED:20250508T035024Z
UID:10004266-1871020800-1871031600@stoughtoncc.com
SUMMARY:Monday Morning Trap/Skeet
DESCRIPTION:Open trap and skeet for members. Come\, shoot\, drink coffee.
URL:https://stoughtoncc.com/event/monday-morning-trap-skeet/2029-04-16/
LOCATION:Trap & Skeet Fields
END:VEVENT
BEGIN:VEVENT
DTSTART;TZID=America/Chicago:20290423T080000
DTEND;TZID=America/Chicago:20290423T110000
DTSTAMP:20260424T145737
CREATED:20241210T180811Z
LAST-MODIFIED:20250508T035024Z
UID:10004267-1871625600-1871636400@stoughtoncc.com
SUMMARY:Monday Morning Trap/Skeet
DESCRIPTION:Open trap and skeet for members. Come\, shoot\, drink coffee.
URL:https://stoughtoncc.com/event/monday-morning-trap-skeet/2029-04-23/
LOCATION:Trap & Skeet Fields
END:VEVENT
BEGIN:VEVENT
DTSTART;TZID=America/Chicago:20290430T080000
DTEND;TZID=America/Chicago:20290430T110000
DTSTAMP:20260424T145737
CREATED:20241210T180811Z
LAST-MODIFIED:20250508T035024Z
UID:10004268-1872230400-1872241200@stoughtoncc.com
SUMMARY:Monday Morning Trap/Skeet
DESCRIPTION:Open trap and skeet for members. Come\, shoot\, drink coffee.
URL:https://stoughtoncc.com/event/monday-morning-trap-skeet/2029-04-30/
LOCATION:Trap & Skeet Fields
END:VEVENT
BEGIN:VEVENT
DTSTART;TZID=America/Chicago:20290507T080000
DTEND;TZID=America/Chicago:20290507T110000
DTSTAMP:20260424T145737
CREATED:20241210T180811Z
LAST-MODIFIED:20250508T035024Z
UID:10004269-1872835200-1872846000@stoughtoncc.com
SUMMARY:Monday Morning Trap/Skeet
DESCRIPTION:Open trap and skeet for members. Come\, shoot\, drink coffee.
URL:https://stoughtoncc.com/event/monday-morning-trap-skeet/2029-05-07/
LOCATION:Trap & Skeet Fields
END:VEVENT
BEGIN:VEVENT
DTSTART;TZID=America/Chicago:20290514T080000
DTEND;TZID=America/Chicago:20290514T110000
DTSTAMP:20260424T145737
CREATED:20241210T180811Z
LAST-MODIFIED:20250508T035024Z
UID:10004270-1873440000-1873450800@stoughtoncc.com
SUMMARY:Monday Morning Trap/Skeet
DESCRIPTION:Open trap and skeet for members. Come\, shoot\, drink coffee.
URL:https://stoughtoncc.com/event/monday-morning-trap-skeet/2029-05-14/
LOCATION:Trap & Skeet Fields
END:VEVENT
BEGIN:VEVENT
DTSTART;TZID=America/Chicago:20290514T173000
DTEND;TZID=America/Chicago:20290514T190000
DTSTAMP:20260424T145737
CREATED:20241209T164257Z
LAST-MODIFIED:20250508T035832Z
UID:10004828-1873474200-1873479600@stoughtoncc.com
SUMMARY:Member Orientation - Indoor Archery Closed
DESCRIPTION:In-person orientation is required for new members\, and begins promptly at 6 PM before the monthly general membership meeting. \nOther membership situations can also be handled during this time. \nIndoor Archery will be CLOSED at 5:30 for setup.
URL:https://stoughtoncc.com/event/member-orientation/2029-05-14/
LOCATION:Main Clubhouse
END:VEVENT
BEGIN:VEVENT
DTSTART;TZID=America/Chicago:20290514T190000
DTEND;TZID=America/Chicago:20290514T200000
DTSTAMP:20260424T145737
CREATED:20241210T172441Z
LAST-MODIFIED:20241210T172441Z
UID:10004021-1873479600-1873483200@stoughtoncc.com
SUMMARY:Member Meeting
DESCRIPTION:
URL:https://stoughtoncc.com/event/member-meeting/2029-05-14/
LOCATION:Main Clubhouse
END:VEVENT
END:VCALENDAR