BEGIN:VCALENDAR
VERSION:2.0
PRODID:-//Stoughton Conservation Club - ECPv6.15.20//NONSGML v1.0//EN
CALSCALE:GREGORIAN
METHOD:PUBLISH
X-WR-CALNAME:Stoughton Conservation Club
X-ORIGINAL-URL:https://stoughtoncc.com
X-WR-CALDESC:Events for Stoughton Conservation Club
REFRESH-INTERVAL;VALUE=DURATION:PT1H
X-Robots-Tag:noindex
X-PUBLISHED-TTL:PT1H
BEGIN:VTIMEZONE
TZID:America/Chicago
BEGIN:DAYLIGHT
TZOFFSETFROM:-0600
TZOFFSETTO:-0500
TZNAME:CDT
DTSTART:20230312T080000
END:DAYLIGHT
BEGIN:STANDARD
TZOFFSETFROM:-0500
TZOFFSETTO:-0600
TZNAME:CST
DTSTART:20231105T070000
END:STANDARD
BEGIN:DAYLIGHT
TZOFFSETFROM:-0600
TZOFFSETTO:-0500
TZNAME:CDT
DTSTART:20240310T080000
END:DAYLIGHT
BEGIN:STANDARD
TZOFFSETFROM:-0500
TZOFFSETTO:-0600
TZNAME:CST
DTSTART:20241103T070000
END:STANDARD
BEGIN:DAYLIGHT
TZOFFSETFROM:-0600
TZOFFSETTO:-0500
TZNAME:CDT
DTSTART:20250309T080000
END:DAYLIGHT
BEGIN:STANDARD
TZOFFSETFROM:-0500
TZOFFSETTO:-0600
TZNAME:CST
DTSTART:20251102T070000
END:STANDARD
BEGIN:DAYLIGHT
TZOFFSETFROM:-0600
TZOFFSETTO:-0500
TZNAME:CDT
DTSTART:20260308T080000
END:DAYLIGHT
BEGIN:STANDARD
TZOFFSETFROM:-0500
TZOFFSETTO:-0600
TZNAME:CST
DTSTART:20261101T070000
END:STANDARD
END:VTIMEZONE
BEGIN:VEVENT
DTSTART;TZID=America/Chicago:20250129T180000
DTEND;TZID=America/Chicago:20250129T220000
DTSTAMP:20260423T200307
CREATED:20241213T030856Z
LAST-MODIFIED:20241213T034841Z
UID:10004309-1738173600-1738188000@stoughtoncc.com
SUMMARY:Indoor Archery League - 2025
DESCRIPTION:
URL:https://stoughtoncc.com/event/indoor-archery-league-2025/2025-01-29/
ORGANIZER;CN="Roger Kluever":MAILTO:07harley89@gmail.com
END:VEVENT
BEGIN:VEVENT
DTSTART;TZID=America/Chicago:20250128T180000
DTEND;TZID=America/Chicago:20250128T220000
DTSTAMP:20260423T200307
CREATED:20241213T030856Z
LAST-MODIFIED:20241213T034841Z
UID:10004308-1738087200-1738101600@stoughtoncc.com
SUMMARY:Indoor Archery League - 2025
DESCRIPTION:
URL:https://stoughtoncc.com/event/indoor-archery-league-2025/2025-01-28/
ORGANIZER;CN="Roger Kluever":MAILTO:07harley89@gmail.com
END:VEVENT
BEGIN:VEVENT
DTSTART;TZID=America/Chicago:20250122T180000
DTEND;TZID=America/Chicago:20250122T220000
DTSTAMP:20260423T200307
CREATED:20241213T030856Z
LAST-MODIFIED:20241213T034841Z
UID:10004307-1737568800-1737583200@stoughtoncc.com
SUMMARY:Indoor Archery League - 2025
DESCRIPTION:
URL:https://stoughtoncc.com/event/indoor-archery-league-2025/2025-01-22/
ORGANIZER;CN="Roger Kluever":MAILTO:07harley89@gmail.com
END:VEVENT
BEGIN:VEVENT
DTSTART;TZID=America/Chicago:20250121T180000
DTEND;TZID=America/Chicago:20250121T220000
DTSTAMP:20260423T200307
CREATED:20241213T030856Z
LAST-MODIFIED:20241213T034841Z
UID:10004306-1737482400-1737496800@stoughtoncc.com
SUMMARY:Indoor Archery League - 2025
DESCRIPTION:
URL:https://stoughtoncc.com/event/indoor-archery-league-2025/2025-01-21/
ORGANIZER;CN="Roger Kluever":MAILTO:07harley89@gmail.com
END:VEVENT
BEGIN:VEVENT
DTSTART;TZID=America/Chicago:20250115T180000
DTEND;TZID=America/Chicago:20250115T220000
DTSTAMP:20260423T200307
CREATED:20241213T030856Z
LAST-MODIFIED:20241213T034841Z
UID:10004305-1736964000-1736978400@stoughtoncc.com
SUMMARY:Indoor Archery League - 2025
DESCRIPTION:
URL:https://stoughtoncc.com/event/indoor-archery-league-2025/2025-01-15/
ORGANIZER;CN="Roger Kluever":MAILTO:07harley89@gmail.com
END:VEVENT
BEGIN:VEVENT
DTSTART;TZID=America/Chicago:20250114T180000
DTEND;TZID=America/Chicago:20250114T220000
DTSTAMP:20260423T200307
CREATED:20241213T030856Z
LAST-MODIFIED:20241213T034841Z
UID:10004304-1736877600-1736892000@stoughtoncc.com
SUMMARY:Indoor Archery League - 2025
DESCRIPTION:
URL:https://stoughtoncc.com/event/indoor-archery-league-2025/2025-01-14/
ORGANIZER;CN="Roger Kluever":MAILTO:07harley89@gmail.com
END:VEVENT
BEGIN:VEVENT
DTSTART;TZID=America/Chicago:20250108T180000
DTEND;TZID=America/Chicago:20250108T220000
DTSTAMP:20260423T200307
CREATED:20241213T030856Z
LAST-MODIFIED:20241213T034841Z
UID:10004303-1736359200-1736373600@stoughtoncc.com
SUMMARY:Indoor Archery League - 2025
DESCRIPTION:
URL:https://stoughtoncc.com/event/indoor-archery-league-2025/2025-01-08/
ORGANIZER;CN="Roger Kluever":MAILTO:07harley89@gmail.com
END:VEVENT
BEGIN:VEVENT
DTSTART;TZID=America/Chicago:20250107T180000
DTEND;TZID=America/Chicago:20250107T220000
DTSTAMP:20260423T200307
CREATED:20241213T030856Z
LAST-MODIFIED:20241213T034841Z
UID:10004302-1736272800-1736287200@stoughtoncc.com
SUMMARY:Indoor Archery League - 2025
DESCRIPTION:
URL:https://stoughtoncc.com/event/indoor-archery-league-2025/2025-01-07/
ORGANIZER;CN="Roger Kluever":MAILTO:07harley89@gmail.com
END:VEVENT
BEGIN:VEVENT
DTSTART;TZID=America/Chicago:20241218T183000
DTEND;TZID=America/Chicago:20241218T200000
DTSTAMP:20260423T200307
CREATED:20241210T165954Z
LAST-MODIFIED:20241210T165954Z
UID:10003967-1734546600-1734552000@stoughtoncc.com
SUMMARY:Indoor Archery League Signup & Setup
DESCRIPTION:
URL:https://stoughtoncc.com/event/indoor-archery-league-signup-setup/
ORGANIZER;CN="Roger Kluever":MAILTO:07harley89@gmail.com
END:VEVENT
BEGIN:VEVENT
DTSTART;TZID=America/Chicago:20241218T070000
DTEND;TZID=America/Chicago:20241218T210000
DTSTAMP:20260423T200307
CREATED:20241213T030622Z
LAST-MODIFIED:20241213T030622Z
UID:10004301-1734505200-1734555600@stoughtoncc.com
SUMMARY:Indoor Archery Setup Meeting
DESCRIPTION:This is the setup meeting for the 2025 Indoor Archery League. \nHelp will be needed to install the new bales.
URL:https://stoughtoncc.com/event/indoor-archery-setup-meeting/
ORGANIZER;CN="Roger Kluever":MAILTO:07harley89@gmail.com
END:VEVENT
END:VCALENDAR