BEGIN:VCALENDAR
VERSION:2.0
PRODID:-//Stoughton Conservation Club - ECPv6.15.20//NONSGML v1.0//EN
CALSCALE:GREGORIAN
METHOD:PUBLISH
X-ORIGINAL-URL:https://stoughtoncc.com
X-WR-CALDESC:Events for Stoughton Conservation Club
REFRESH-INTERVAL;VALUE=DURATION:PT1H
X-Robots-Tag:noindex
X-PUBLISHED-TTL:PT1H
BEGIN:VTIMEZONE
TZID:America/Chicago
BEGIN:DAYLIGHT
TZOFFSETFROM:-0600
TZOFFSETTO:-0500
TZNAME:CDT
DTSTART:20250309T080000
END:DAYLIGHT
BEGIN:STANDARD
TZOFFSETFROM:-0500
TZOFFSETTO:-0600
TZNAME:CST
DTSTART:20251102T070000
END:STANDARD
BEGIN:DAYLIGHT
TZOFFSETFROM:-0600
TZOFFSETTO:-0500
TZNAME:CDT
DTSTART:20260308T080000
END:DAYLIGHT
BEGIN:STANDARD
TZOFFSETFROM:-0500
TZOFFSETTO:-0600
TZNAME:CST
DTSTART:20261101T070000
END:STANDARD
BEGIN:DAYLIGHT
TZOFFSETFROM:-0600
TZOFFSETTO:-0500
TZNAME:CDT
DTSTART:20270314T080000
END:DAYLIGHT
BEGIN:STANDARD
TZOFFSETFROM:-0500
TZOFFSETTO:-0600
TZNAME:CST
DTSTART:20271107T070000
END:STANDARD
END:VTIMEZONE
BEGIN:VEVENT
DTSTART;TZID=America/Chicago:20260903T173000
DTEND;TZID=America/Chicago:20260903T213000
DTSTAMP:20260423T110820
CREATED:20260416T200557Z
LAST-MODIFIED:20260416T200557Z
UID:10005147-1788456600-1788471000@stoughtoncc.com
SUMMARY:Centerfire Pistol League - 2026
DESCRIPTION:
URL:https://stoughtoncc.com/event/centerfire-pistol-league-2026/2026-09-03/
LOCATION:Pistol Building
ORGANIZER;CN="Merlin Kotajarvi":MAILTO:merlinkotajarvi@gmail.com
END:VEVENT
BEGIN:VEVENT
DTSTART;TZID=America/Chicago:20260910T173000
DTEND;TZID=America/Chicago:20260910T213000
DTSTAMP:20260423T110820
CREATED:20260416T200557Z
LAST-MODIFIED:20260416T200557Z
UID:10005148-1789061400-1789075800@stoughtoncc.com
SUMMARY:Centerfire Pistol League - 2026
DESCRIPTION:
URL:https://stoughtoncc.com/event/centerfire-pistol-league-2026/2026-09-10/
LOCATION:Pistol Building
ORGANIZER;CN="Merlin Kotajarvi":MAILTO:merlinkotajarvi@gmail.com
END:VEVENT
BEGIN:VEVENT
DTSTART;TZID=America/Chicago:20260917T173000
DTEND;TZID=America/Chicago:20260917T213000
DTSTAMP:20260423T110820
CREATED:20260416T200557Z
LAST-MODIFIED:20260416T200557Z
UID:10005149-1789666200-1789680600@stoughtoncc.com
SUMMARY:Centerfire Pistol League - 2026
DESCRIPTION:
URL:https://stoughtoncc.com/event/centerfire-pistol-league-2026/2026-09-17/
LOCATION:Pistol Building
ORGANIZER;CN="Merlin Kotajarvi":MAILTO:merlinkotajarvi@gmail.com
END:VEVENT
BEGIN:VEVENT
DTSTART;TZID=America/Chicago:20260924T173000
DTEND;TZID=America/Chicago:20260924T213000
DTSTAMP:20260423T110820
CREATED:20260416T200557Z
LAST-MODIFIED:20260416T200557Z
UID:10005150-1790271000-1790285400@stoughtoncc.com
SUMMARY:Centerfire Pistol League - 2026
DESCRIPTION:
URL:https://stoughtoncc.com/event/centerfire-pistol-league-2026/2026-09-24/
LOCATION:Pistol Building
ORGANIZER;CN="Merlin Kotajarvi":MAILTO:merlinkotajarvi@gmail.com
END:VEVENT
BEGIN:VEVENT
DTSTART;TZID=America/Chicago:20261001T173000
DTEND;TZID=America/Chicago:20261001T213000
DTSTAMP:20260423T110820
CREATED:20260416T200557Z
LAST-MODIFIED:20260416T200557Z
UID:10005151-1790875800-1790890200@stoughtoncc.com
SUMMARY:Centerfire Pistol League - 2026
DESCRIPTION:
URL:https://stoughtoncc.com/event/centerfire-pistol-league-2026/2026-10-01/
LOCATION:Pistol Building
ORGANIZER;CN="Merlin Kotajarvi":MAILTO:merlinkotajarvi@gmail.com
END:VEVENT
BEGIN:VEVENT
DTSTART;TZID=America/Chicago:20261008T173000
DTEND;TZID=America/Chicago:20261008T213000
DTSTAMP:20260423T110820
CREATED:20260416T200557Z
LAST-MODIFIED:20260416T200557Z
UID:10005152-1791480600-1791495000@stoughtoncc.com
SUMMARY:Centerfire Pistol League - 2026
DESCRIPTION:
URL:https://stoughtoncc.com/event/centerfire-pistol-league-2026/2026-10-08/
LOCATION:Pistol Building
ORGANIZER;CN="Merlin Kotajarvi":MAILTO:merlinkotajarvi@gmail.com
END:VEVENT
BEGIN:VEVENT
DTSTART;TZID=America/Chicago:20261015T173000
DTEND;TZID=America/Chicago:20261015T213000
DTSTAMP:20260423T110820
CREATED:20260416T200557Z
LAST-MODIFIED:20260416T200557Z
UID:10005153-1792085400-1792099800@stoughtoncc.com
SUMMARY:Centerfire Pistol League - 2026
DESCRIPTION:
URL:https://stoughtoncc.com/event/centerfire-pistol-league-2026/2026-10-15/
LOCATION:Pistol Building
ORGANIZER;CN="Merlin Kotajarvi":MAILTO:merlinkotajarvi@gmail.com
END:VEVENT
BEGIN:VEVENT
DTSTART;TZID=America/Chicago:20261022T173000
DTEND;TZID=America/Chicago:20261022T213000
DTSTAMP:20260423T110820
CREATED:20260416T200557Z
LAST-MODIFIED:20260416T200557Z
UID:10005154-1792690200-1792704600@stoughtoncc.com
SUMMARY:Centerfire Pistol League - 2026
DESCRIPTION:
URL:https://stoughtoncc.com/event/centerfire-pistol-league-2026/2026-10-22/
LOCATION:Pistol Building
ORGANIZER;CN="Merlin Kotajarvi":MAILTO:merlinkotajarvi@gmail.com
END:VEVENT
BEGIN:VEVENT
DTSTART;TZID=America/Chicago:20261029T173000
DTEND;TZID=America/Chicago:20261029T213000
DTSTAMP:20260423T110820
CREATED:20260416T200557Z
LAST-MODIFIED:20260416T200557Z
UID:10005155-1793295000-1793309400@stoughtoncc.com
SUMMARY:Centerfire Pistol League - 2026
DESCRIPTION:
URL:https://stoughtoncc.com/event/centerfire-pistol-league-2026/2026-10-29/
LOCATION:Pistol Building
ORGANIZER;CN="Merlin Kotajarvi":MAILTO:merlinkotajarvi@gmail.com
END:VEVENT
BEGIN:VEVENT
DTSTART;TZID=America/Chicago:20261105T173000
DTEND;TZID=America/Chicago:20261105T213000
DTSTAMP:20260423T110820
CREATED:20260416T200557Z
LAST-MODIFIED:20260416T200557Z
UID:10005156-1793899800-1793914200@stoughtoncc.com
SUMMARY:Centerfire Pistol League - 2026
DESCRIPTION:
URL:https://stoughtoncc.com/event/centerfire-pistol-league-2026/2026-11-05/
LOCATION:Pistol Building
ORGANIZER;CN="Merlin Kotajarvi":MAILTO:merlinkotajarvi@gmail.com
END:VEVENT
BEGIN:VEVENT
DTSTART;TZID=America/Chicago:20261112T173000
DTEND;TZID=America/Chicago:20261112T213000
DTSTAMP:20260423T110820
CREATED:20260416T200557Z
LAST-MODIFIED:20260416T200557Z
UID:10005157-1794504600-1794519000@stoughtoncc.com
SUMMARY:Centerfire Pistol League - 2026
DESCRIPTION:
URL:https://stoughtoncc.com/event/centerfire-pistol-league-2026/2026-11-12/
LOCATION:Pistol Building
ORGANIZER;CN="Merlin Kotajarvi":MAILTO:merlinkotajarvi@gmail.com
END:VEVENT
BEGIN:VEVENT
DTSTART;TZID=America/Chicago:20261119T173000
DTEND;TZID=America/Chicago:20261119T213000
DTSTAMP:20260423T110820
CREATED:20260416T200712Z
LAST-MODIFIED:20260416T200712Z
UID:10005158-1795109400-1795123800@stoughtoncc.com
SUMMARY:Centerfire Pistol League Banquet/Fun Night
DESCRIPTION:
URL:https://stoughtoncc.com/event/centerfire-pistol-league-banquet-fun-night/
LOCATION:Pistol Building
ORGANIZER;CN="Merlin Kotajarvi":MAILTO:merlinkotajarvi@gmail.com
END:VEVENT
END:VCALENDAR