BEGIN:VCALENDAR
VERSION:2.0
PRODID:-//Stoughton Conservation Club - ECPv6.15.20//NONSGML v1.0//EN
CALSCALE:GREGORIAN
METHOD:PUBLISH
X-ORIGINAL-URL:https://stoughtoncc.com
X-WR-CALDESC:Events for Stoughton Conservation Club
REFRESH-INTERVAL;VALUE=DURATION:PT1H
X-Robots-Tag:noindex
X-PUBLISHED-TTL:PT1H
BEGIN:VTIMEZONE
TZID:America/Chicago
BEGIN:DAYLIGHT
TZOFFSETFROM:-0600
TZOFFSETTO:-0500
TZNAME:CDT
DTSTART:20230312T080000
END:DAYLIGHT
BEGIN:STANDARD
TZOFFSETFROM:-0500
TZOFFSETTO:-0600
TZNAME:CST
DTSTART:20231105T070000
END:STANDARD
BEGIN:DAYLIGHT
TZOFFSETFROM:-0600
TZOFFSETTO:-0500
TZNAME:CDT
DTSTART:20240310T080000
END:DAYLIGHT
BEGIN:STANDARD
TZOFFSETFROM:-0500
TZOFFSETTO:-0600
TZNAME:CST
DTSTART:20241103T070000
END:STANDARD
BEGIN:DAYLIGHT
TZOFFSETFROM:-0600
TZOFFSETTO:-0500
TZNAME:CDT
DTSTART:20250309T080000
END:DAYLIGHT
BEGIN:STANDARD
TZOFFSETFROM:-0500
TZOFFSETTO:-0600
TZNAME:CST
DTSTART:20251102T070000
END:STANDARD
BEGIN:DAYLIGHT
TZOFFSETFROM:-0600
TZOFFSETTO:-0500
TZNAME:CDT
DTSTART:20260308T080000
END:DAYLIGHT
BEGIN:STANDARD
TZOFFSETFROM:-0500
TZOFFSETTO:-0600
TZNAME:CST
DTSTART:20261101T070000
END:STANDARD
BEGIN:DAYLIGHT
TZOFFSETFROM:-0600
TZOFFSETTO:-0500
TZNAME:CDT
DTSTART:20270314T080000
END:DAYLIGHT
BEGIN:STANDARD
TZOFFSETFROM:-0500
TZOFFSETTO:-0600
TZNAME:CST
DTSTART:20271107T070000
END:STANDARD
END:VTIMEZONE
BEGIN:VEVENT
DTSTART;TZID=America/Chicago:20260406T183000
DTEND;TZID=America/Chicago:20260406T213000
DTSTAMP:20260423T122704
CREATED:20260331T132624Z
LAST-MODIFIED:20260331T132624Z
UID:10005131-1775500200-1775511000@stoughtoncc.com
SUMMARY:Pistol Range Cleaning
DESCRIPTION:The Indoor Pistol Range will be closed on Monday\, April 6 at 6:30 PM for cleaning. It will reopen Tuesday morning. \nVolunteer help is needed. Just show up between 6 and 6:30 and talk to Merlin.
URL:https://stoughtoncc.com/event/pistol-range-cleaning-2/
LOCATION:Pistol Range
ORGANIZER;CN="Merlin Kotajarvi":MAILTO:merlinkotajarvi@gmail.com
END:VEVENT
BEGIN:VEVENT
DTSTART;TZID=America/Chicago:20260302T180000
DTEND;TZID=America/Chicago:20260302T220000
DTSTAMP:20260423T122704
CREATED:20260227T185401Z
LAST-MODIFIED:20260227T185411Z
UID:10005111-1772474400-1772488800@stoughtoncc.com
SUMMARY:Pistol Range Maintenance
DESCRIPTION:The Pistol Range will be closed for maintenance on Monday\, March 2 starting at 6:00 PM. It will reopen on Tuesday morning. \nIf you want to help with the maintenance contact Merlin Kotajarvi.
URL:https://stoughtoncc.com/event/pistol-range-maintenance-2/
ORGANIZER;CN="Merlin Kotajarvi":MAILTO:merlinkotajarvi@gmail.com
END:VEVENT
BEGIN:VEVENT
DTSTART;TZID=America/Chicago:20251225T080000
DTEND;TZID=America/Chicago:20251225T150000
DTSTAMP:20260423T122704
CREATED:20251212T180854Z
LAST-MODIFIED:20251212T180854Z
UID:10005067-1766649600-1766674800@stoughtoncc.com
SUMMARY:Pistol Range Maintenance
DESCRIPTION:Merry Christmas! \nThe pistol range will be closed for maintenance and cleaning.
URL:https://stoughtoncc.com/event/pistol-range-maintenance/
LOCATION:Pistol Range
ORGANIZER;CN="Merlin Kotajarvi":MAILTO:merlinkotajarvi@gmail.com
END:VEVENT
BEGIN:VEVENT
DTSTART;TZID=America/Chicago:20250410T110000
DTEND;TZID=America/Chicago:20250410T160000
DTSTAMP:20260423T122704
CREATED:20250410T140144Z
LAST-MODIFIED:20250410T140309Z
UID:10004715-1744282800-1744300800@stoughtoncc.com
SUMMARY:Pistol Range Cleaning
DESCRIPTION:The pistol range will be cleaned. Volunteers are needed.
URL:https://stoughtoncc.com/event/pistol-range-cleaning/
LOCATION:Pistol Range
ORGANIZER;CN="Merlin Kotajarvi":MAILTO:merlinkotajarvi@gmail.com
END:VEVENT
BEGIN:VEVENT
DTSTART;TZID=America/Chicago:20241202T073000
DTEND;TZID=America/Chicago:20241224T120000
DTSTAMP:20260423T122704
CREATED:20241209T165536Z
LAST-MODIFIED:20241221T142527Z
UID:10003944-1733124600-1735041600@stoughtoncc.com
SUMMARY:Roof Repairs - Pistol Range Closed During Day
DESCRIPTION:Roof repairs!\n\n\nBA Stanton Construction will be at the pistol building repairing the roof damage from back in June.\n\n\n\nThe Indoor Pistol Range will be closed from 7:45AM-4:00PM each weekday this (Tuesday\, December 3-Saturday\, December 24) while they’re working on the repairs.\n\nThey are planning to work on the roof on Saturday\, December 21\, until about noon. They should wrap up the work by December 24.\n\n\n\n\n\nThe range should be open after 4:00 each day.
URL:https://stoughtoncc.com/event/roof-repairs-pistol-range-closed/
LOCATION:Pistol Range
ORGANIZER;CN="Merlin Kotajarvi":MAILTO:merlinkotajarvi@gmail.com
END:VEVENT
BEGIN:VEVENT
DTSTART;TZID=America/Chicago:20241121T083000
DTEND;TZID=America/Chicago:20241121T150000
DTSTAMP:20260423T122704
CREATED:20240814T044305Z
LAST-MODIFIED:20240912T182929Z
UID:10003776-1732177800-1732201200@stoughtoncc.com
SUMMARY:2024 Sight-In Clinic
DESCRIPTION:2024 Sight-In Clinic\n$10 Per gun \nNovember 9-10\, 16-21. \n8:30AM-3PM Daily. (no shooting after 3) \nOutdoor Rifle Range is closed daily for the Sight-In Clinic. \nThis is a cash only event. \n  \n \n  \n 
URL:https://stoughtoncc.com/event/sight-in-clinic/2024-11-21/
LOCATION:Rifle Range
ORGANIZER;CN="Merlin Kotajarvi":MAILTO:merlinkotajarvi@gmail.com
END:VEVENT
BEGIN:VEVENT
DTSTART;TZID=America/Chicago:20241120T083000
DTEND;TZID=America/Chicago:20241120T150000
DTSTAMP:20260423T122704
CREATED:20240814T044305Z
LAST-MODIFIED:20240912T182929Z
UID:10003775-1732091400-1732114800@stoughtoncc.com
SUMMARY:2024 Sight-In Clinic
DESCRIPTION:2024 Sight-In Clinic\n$10 Per gun \nNovember 9-10\, 16-21. \n8:30AM-3PM Daily. (no shooting after 3) \nOutdoor Rifle Range is closed daily for the Sight-In Clinic. \nThis is a cash only event. \n  \n \n  \n 
URL:https://stoughtoncc.com/event/sight-in-clinic/2024-11-20/
LOCATION:Rifle Range
ORGANIZER;CN="Merlin Kotajarvi":MAILTO:merlinkotajarvi@gmail.com
END:VEVENT
BEGIN:VEVENT
DTSTART;TZID=America/Chicago:20241119T083000
DTEND;TZID=America/Chicago:20241119T150000
DTSTAMP:20260423T122704
CREATED:20240814T044305Z
LAST-MODIFIED:20240912T182929Z
UID:10003774-1732005000-1732028400@stoughtoncc.com
SUMMARY:2024 Sight-In Clinic
DESCRIPTION:2024 Sight-In Clinic\n$10 Per gun \nNovember 9-10\, 16-21. \n8:30AM-3PM Daily. (no shooting after 3) \nOutdoor Rifle Range is closed daily for the Sight-In Clinic. \nThis is a cash only event. \n  \n \n  \n 
URL:https://stoughtoncc.com/event/sight-in-clinic/2024-11-19/
LOCATION:Rifle Range
ORGANIZER;CN="Merlin Kotajarvi":MAILTO:merlinkotajarvi@gmail.com
END:VEVENT
BEGIN:VEVENT
DTSTART;TZID=America/Chicago:20241118T083000
DTEND;TZID=America/Chicago:20241118T150000
DTSTAMP:20260423T122704
CREATED:20240814T044305Z
LAST-MODIFIED:20240912T182929Z
UID:10003773-1731918600-1731942000@stoughtoncc.com
SUMMARY:2024 Sight-In Clinic
DESCRIPTION:2024 Sight-In Clinic\n$10 Per gun \nNovember 9-10\, 16-21. \n8:30AM-3PM Daily. (no shooting after 3) \nOutdoor Rifle Range is closed daily for the Sight-In Clinic. \nThis is a cash only event. \n  \n \n  \n 
URL:https://stoughtoncc.com/event/sight-in-clinic/2024-11-18/
LOCATION:Rifle Range
ORGANIZER;CN="Merlin Kotajarvi":MAILTO:merlinkotajarvi@gmail.com
END:VEVENT
BEGIN:VEVENT
DTSTART;TZID=America/Chicago:20241117T083000
DTEND;TZID=America/Chicago:20241117T150000
DTSTAMP:20260423T122704
CREATED:20240814T044305Z
LAST-MODIFIED:20240912T182929Z
UID:10003772-1731832200-1731855600@stoughtoncc.com
SUMMARY:2024 Sight-In Clinic
DESCRIPTION:2024 Sight-In Clinic\n$10 Per gun \nNovember 9-10\, 16-21. \n8:30AM-3PM Daily. (no shooting after 3) \nOutdoor Rifle Range is closed daily for the Sight-In Clinic. \nThis is a cash only event. \n  \n \n  \n 
URL:https://stoughtoncc.com/event/sight-in-clinic/2024-11-17/
LOCATION:Rifle Range
ORGANIZER;CN="Merlin Kotajarvi":MAILTO:merlinkotajarvi@gmail.com
END:VEVENT
BEGIN:VEVENT
DTSTART;TZID=America/Chicago:20241116T083000
DTEND;TZID=America/Chicago:20241116T150000
DTSTAMP:20260423T122704
CREATED:20240814T044305Z
LAST-MODIFIED:20240912T182929Z
UID:10003771-1731745800-1731769200@stoughtoncc.com
SUMMARY:2024 Sight-In Clinic
DESCRIPTION:2024 Sight-In Clinic\n$10 Per gun \nNovember 9-10\, 16-21. \n8:30AM-3PM Daily. (no shooting after 3) \nOutdoor Rifle Range is closed daily for the Sight-In Clinic. \nThis is a cash only event. \n  \n \n  \n 
URL:https://stoughtoncc.com/event/sight-in-clinic/2024-11-16/
LOCATION:Rifle Range
ORGANIZER;CN="Merlin Kotajarvi":MAILTO:merlinkotajarvi@gmail.com
END:VEVENT
BEGIN:VEVENT
DTSTART;TZID=America/Chicago:20241110T083000
DTEND;TZID=America/Chicago:20241110T150000
DTSTAMP:20260423T122704
CREATED:20240814T044305Z
LAST-MODIFIED:20240912T182929Z
UID:10003770-1731227400-1731250800@stoughtoncc.com
SUMMARY:2024 Sight-In Clinic
DESCRIPTION:2024 Sight-In Clinic\n$10 Per gun \nNovember 9-10\, 16-21. \n8:30AM-3PM Daily. (no shooting after 3) \nOutdoor Rifle Range is closed daily for the Sight-In Clinic. \nThis is a cash only event. \n  \n \n  \n 
URL:https://stoughtoncc.com/event/sight-in-clinic/2024-11-10/
LOCATION:Rifle Range
ORGANIZER;CN="Merlin Kotajarvi":MAILTO:merlinkotajarvi@gmail.com
END:VEVENT
BEGIN:VEVENT
DTSTART;TZID=America/Chicago:20241109T083000
DTEND;TZID=America/Chicago:20241109T150000
DTSTAMP:20260423T122704
CREATED:20240814T044305Z
LAST-MODIFIED:20240912T182929Z
UID:10003769-1731141000-1731164400@stoughtoncc.com
SUMMARY:2024 Sight-In Clinic
DESCRIPTION:2024 Sight-In Clinic\n$10 Per gun \nNovember 9-10\, 16-21. \n8:30AM-3PM Daily. (no shooting after 3) \nOutdoor Rifle Range is closed daily for the Sight-In Clinic. \nThis is a cash only event. \n  \n \n  \n 
URL:https://stoughtoncc.com/event/sight-in-clinic/2024-11-09/
LOCATION:Rifle Range
ORGANIZER;CN="Merlin Kotajarvi":MAILTO:merlinkotajarvi@gmail.com
END:VEVENT
END:VCALENDAR