BEGIN:VCALENDAR
VERSION:2.0
PRODID:-//Stoughton Conservation Club - ECPv6.15.20//NONSGML v1.0//EN
CALSCALE:GREGORIAN
METHOD:PUBLISH
X-WR-CALNAME:Stoughton Conservation Club
X-ORIGINAL-URL:https://stoughtoncc.com
X-WR-CALDESC:Events for Stoughton Conservation Club
REFRESH-INTERVAL;VALUE=DURATION:PT1H
X-Robots-Tag:noindex
X-PUBLISHED-TTL:PT1H
BEGIN:VTIMEZONE
TZID:America/Chicago
BEGIN:DAYLIGHT
TZOFFSETFROM:-0600
TZOFFSETTO:-0500
TZNAME:CDT
DTSTART:20240310T080000
END:DAYLIGHT
BEGIN:STANDARD
TZOFFSETFROM:-0500
TZOFFSETTO:-0600
TZNAME:CST
DTSTART:20241103T070000
END:STANDARD
BEGIN:DAYLIGHT
TZOFFSETFROM:-0600
TZOFFSETTO:-0500
TZNAME:CDT
DTSTART:20250309T080000
END:DAYLIGHT
BEGIN:STANDARD
TZOFFSETFROM:-0500
TZOFFSETTO:-0600
TZNAME:CST
DTSTART:20251102T070000
END:STANDARD
BEGIN:DAYLIGHT
TZOFFSETFROM:-0600
TZOFFSETTO:-0500
TZNAME:CDT
DTSTART:20260308T080000
END:DAYLIGHT
BEGIN:STANDARD
TZOFFSETFROM:-0500
TZOFFSETTO:-0600
TZNAME:CST
DTSTART:20261101T070000
END:STANDARD
BEGIN:DAYLIGHT
TZOFFSETFROM:-0600
TZOFFSETTO:-0500
TZNAME:CDT
DTSTART:20270314T080000
END:DAYLIGHT
BEGIN:STANDARD
TZOFFSETFROM:-0500
TZOFFSETTO:-0600
TZNAME:CST
DTSTART:20271107T070000
END:STANDARD
END:VTIMEZONE
BEGIN:VEVENT
DTSTART;TZID=America/Chicago:20260308T093000
DTEND;TZID=America/Chicago:20260308T110000
DTSTAMP:20260423T133451
CREATED:20260301T142645Z
LAST-MODIFIED:20260301T184606Z
UID:10005113-1772962200-1772967600@stoughtoncc.com
SUMMARY:VLS Gun Fitting
DESCRIPTION:
URL:https://stoughtoncc.com/event/vls-gun-fitting/2026-03-08/
LOCATION:Indoor Archery Range
ORGANIZER;CN="Kevin Kettner":MAILTO:kkettner@gmail.com
END:VEVENT
BEGIN:VEVENT
DTSTART;TZID=America/Chicago:20260308T090000
DTEND;TZID=America/Chicago:20260308T140000
DTSTAMP:20260423T133451
CREATED:20250905T132306Z
LAST-MODIFIED:20250905T132306Z
UID:10004924-1772960400-1772978400@stoughtoncc.com
SUMMARY:VLS Trap/Skeet Practice
DESCRIPTION:
URL:https://stoughtoncc.com/event/vls-trap-skeet-practice/2026-03-08/
LOCATION:Trap & Skeet Fields
ORGANIZER;CN="Kevin Kettner":MAILTO:kkettner@gmail.com
END:VEVENT
BEGIN:VEVENT
DTSTART;TZID=America/Chicago:20260301T090000
DTEND;TZID=America/Chicago:20260301T140000
DTSTAMP:20260423T133451
CREATED:20250905T132306Z
LAST-MODIFIED:20250905T132306Z
UID:10004923-1772355600-1772373600@stoughtoncc.com
SUMMARY:VLS Trap/Skeet Practice
DESCRIPTION:
URL:https://stoughtoncc.com/event/vls-trap-skeet-practice/2026-03-01/
LOCATION:Trap & Skeet Fields
ORGANIZER;CN="Kevin Kettner":MAILTO:kkettner@gmail.com
END:VEVENT
BEGIN:VEVENT
DTSTART;TZID=America/Chicago:20260301T080000
DTEND;TZID=America/Chicago:20260301T113000
DTSTAMP:20260423T133451
CREATED:20260301T142645Z
LAST-MODIFIED:20260301T184606Z
UID:10005112-1772352000-1772364600@stoughtoncc.com
SUMMARY:VLS Gun Fitting
DESCRIPTION:
URL:https://stoughtoncc.com/event/vls-gun-fitting/2026-03-01/
LOCATION:Indoor Archery Range
ORGANIZER;CN="Kevin Kettner":MAILTO:kkettner@gmail.com
END:VEVENT
BEGIN:VEVENT
DTSTART;TZID=America/Chicago:20260118T110000
DTEND;TZID=America/Chicago:20260118T130000
DTSTAMP:20260423T133451
CREATED:20260114T005833Z
LAST-MODIFIED:20260114T005833Z
UID:10005084-1768734000-1768741200@stoughtoncc.com
SUMMARY:Viking Lead Slingers New Athlete Orientation
DESCRIPTION:New VLS athletes should arrive before 11 for the new athlete presentation. \nIndoor Archery is closed. 10-2.
URL:https://stoughtoncc.com/event/viking-lead-slingers-new-athlete-orientation/
LOCATION:Main Clubhouse
ORGANIZER;CN="Kevin Kettner":MAILTO:kkettner@gmail.com
END:VEVENT
BEGIN:VEVENT
DTSTART;TZID=America/Chicago:20260118T100000
DTEND;TZID=America/Chicago:20260118T140000
DTSTAMP:20260423T133451
CREATED:20260114T010303Z
LAST-MODIFIED:20260114T010303Z
UID:10005085-1768730400-1768744800@stoughtoncc.com
SUMMARY:Viking Lead Slingers Sign-up
DESCRIPTION:Returning VLS athletes should arrive sometime between 10 and 1 to sign up and pay. \nIndoor Archery is closed. 10-2.
URL:https://stoughtoncc.com/event/viking-lead-slingers-sign-up/
LOCATION:Main Clubhouse
ORGANIZER;CN="Kevin Kettner":MAILTO:kkettner@gmail.com
END:VEVENT
BEGIN:VEVENT
DTSTART;TZID=America/Chicago:20251120T173000
DTEND;TZID=America/Chicago:20251120T223000
DTSTAMP:20260423T133451
CREATED:20250430T222424Z
LAST-MODIFIED:20250508T034413Z
UID:10004739-1763659800-1763677800@stoughtoncc.com
SUMMARY:Centerfire Pistol League Banquet
DESCRIPTION:
URL:https://stoughtoncc.com/event/centerfire-pistol-league-banquet/
LOCATION:Pistol Building
ORGANIZER;CN="Kevin Kettner":MAILTO:kkettner@gmail.com
END:VEVENT
BEGIN:VEVENT
DTSTART;TZID=America/Chicago:20251113T173000
DTEND;TZID=America/Chicago:20251113T213000
DTSTAMP:20260423T133451
CREATED:20250430T222317Z
LAST-MODIFIED:20250508T034346Z
UID:10004738-1763055000-1763069400@stoughtoncc.com
SUMMARY:Centerfire Pistol League
DESCRIPTION:
URL:https://stoughtoncc.com/event/centerfire-pistol-league/2025-11-13/
LOCATION:Pistol Building
ORGANIZER;CN="Kevin Kettner":MAILTO:kkettner@gmail.com
END:VEVENT
BEGIN:VEVENT
DTSTART;TZID=America/Chicago:20251106T180000
DTEND;TZID=America/Chicago:20251106T220000
DTSTAMP:20260423T133451
CREATED:20250430T222608Z
LAST-MODIFIED:20250508T035219Z
UID:10004749-1762452000-1762466400@stoughtoncc.com
SUMMARY:Fall Trap League
DESCRIPTION:
URL:https://stoughtoncc.com/event/fall-trap-league/2025-11-06/
LOCATION:Trap & Skeet Fields
ORGANIZER;CN="Kevin Kettner":MAILTO:kkettner@gmail.com
END:VEVENT
BEGIN:VEVENT
DTSTART;TZID=America/Chicago:20251106T173000
DTEND;TZID=America/Chicago:20251106T213000
DTSTAMP:20260423T133451
CREATED:20250430T222317Z
LAST-MODIFIED:20250508T034346Z
UID:10004737-1762450200-1762464600@stoughtoncc.com
SUMMARY:Centerfire Pistol League
DESCRIPTION:
URL:https://stoughtoncc.com/event/centerfire-pistol-league/2025-11-06/
LOCATION:Pistol Building
ORGANIZER;CN="Kevin Kettner":MAILTO:kkettner@gmail.com
END:VEVENT
BEGIN:VEVENT
DTSTART;TZID=America/Chicago:20251030T180000
DTEND;TZID=America/Chicago:20251030T220000
DTSTAMP:20260423T133451
CREATED:20250430T222608Z
LAST-MODIFIED:20250508T035219Z
UID:10004748-1761847200-1761861600@stoughtoncc.com
SUMMARY:Fall Trap League
DESCRIPTION:
URL:https://stoughtoncc.com/event/fall-trap-league/2025-10-30/
LOCATION:Trap & Skeet Fields
ORGANIZER;CN="Kevin Kettner":MAILTO:kkettner@gmail.com
END:VEVENT
BEGIN:VEVENT
DTSTART;TZID=America/Chicago:20251030T173000
DTEND;TZID=America/Chicago:20251030T213000
DTSTAMP:20260423T133451
CREATED:20250430T222317Z
LAST-MODIFIED:20250508T034346Z
UID:10004736-1761845400-1761859800@stoughtoncc.com
SUMMARY:Centerfire Pistol League
DESCRIPTION:
URL:https://stoughtoncc.com/event/centerfire-pistol-league/2025-10-30/
LOCATION:Pistol Building
ORGANIZER;CN="Kevin Kettner":MAILTO:kkettner@gmail.com
END:VEVENT
BEGIN:VEVENT
DTSTART;TZID=America/Chicago:20251023T180000
DTEND;TZID=America/Chicago:20251023T220000
DTSTAMP:20260423T133451
CREATED:20250430T222608Z
LAST-MODIFIED:20250508T035219Z
UID:10004747-1761242400-1761256800@stoughtoncc.com
SUMMARY:Fall Trap League
DESCRIPTION:
URL:https://stoughtoncc.com/event/fall-trap-league/2025-10-23/
LOCATION:Trap & Skeet Fields
ORGANIZER;CN="Kevin Kettner":MAILTO:kkettner@gmail.com
END:VEVENT
BEGIN:VEVENT
DTSTART;TZID=America/Chicago:20251023T173000
DTEND;TZID=America/Chicago:20251023T213000
DTSTAMP:20260423T133451
CREATED:20250430T222317Z
LAST-MODIFIED:20250508T034346Z
UID:10004735-1761240600-1761255000@stoughtoncc.com
SUMMARY:Centerfire Pistol League
DESCRIPTION:
URL:https://stoughtoncc.com/event/centerfire-pistol-league/2025-10-23/
LOCATION:Pistol Building
ORGANIZER;CN="Kevin Kettner":MAILTO:kkettner@gmail.com
END:VEVENT
BEGIN:VEVENT
DTSTART;TZID=America/Chicago:20251017T173000
DTEND;TZID=America/Chicago:20251017T183000
DTSTAMP:20260423T133451
CREATED:20251013T011114Z
LAST-MODIFIED:20251013T011114Z
UID:10004964-1760722200-1760725800@stoughtoncc.com
SUMMARY:Long Range Orientation
DESCRIPTION:This orientation will teach you how to use the self service trap and skeet system. \nNo sign up is required. Please be there by 5:30. This training should take between 30 and 45 minutes.
URL:https://stoughtoncc.com/event/long-range-orientation-6/
LOCATION:Trap & Skeet Fields
ORGANIZER;CN="Kevin Kettner":MAILTO:kkettner@gmail.com
END:VEVENT
BEGIN:VEVENT
DTSTART;TZID=America/Chicago:20251016T180000
DTEND;TZID=America/Chicago:20251016T220000
DTSTAMP:20260423T133451
CREATED:20250430T222608Z
LAST-MODIFIED:20250508T035219Z
UID:10004746-1760637600-1760652000@stoughtoncc.com
SUMMARY:Fall Trap League
DESCRIPTION:
URL:https://stoughtoncc.com/event/fall-trap-league/2025-10-16/
LOCATION:Trap & Skeet Fields
ORGANIZER;CN="Kevin Kettner":MAILTO:kkettner@gmail.com
END:VEVENT
BEGIN:VEVENT
DTSTART;TZID=America/Chicago:20251016T173000
DTEND;TZID=America/Chicago:20251016T213000
DTSTAMP:20260423T133451
CREATED:20250430T222317Z
LAST-MODIFIED:20250508T034346Z
UID:10004734-1760635800-1760650200@stoughtoncc.com
SUMMARY:Centerfire Pistol League
DESCRIPTION:
URL:https://stoughtoncc.com/event/centerfire-pistol-league/2025-10-16/
LOCATION:Pistol Building
ORGANIZER;CN="Kevin Kettner":MAILTO:kkettner@gmail.com
END:VEVENT
BEGIN:VEVENT
DTSTART;TZID=America/Chicago:20251014T180000
DTEND;TZID=America/Chicago:20251014T200000
DTSTAMP:20260423T133451
CREATED:20250708T220429Z
LAST-MODIFIED:20250806T030721Z
UID:10004849-1760464800-1760472000@stoughtoncc.com
SUMMARY:CPR and AED Training
DESCRIPTION:The CPR/AED training class will teach you how to perform CPR and how to use AEDs. Did you know that SCC has AEDs in our two main buildings? We’d like our members to know how to use them\, just in case.\n\n\n\nSpace is limited. Please sign up ASAP!\n\n\nMembers only!\n\n\nPlease sign up here:\nhttps://www.signupgenius.com/go/30E0949A4AB28A1F94-57494480-scccpraed#/
URL:https://stoughtoncc.com/event/cpr-and-aed-training/
LOCATION:Indoor Archery Range
ORGANIZER;CN="Kevin Kettner":MAILTO:kkettner@gmail.com
END:VEVENT
BEGIN:VEVENT
DTSTART;TZID=America/Chicago:20251009T180000
DTEND;TZID=America/Chicago:20251009T220000
DTSTAMP:20260423T133451
CREATED:20250430T222608Z
LAST-MODIFIED:20250508T035219Z
UID:10004745-1760032800-1760047200@stoughtoncc.com
SUMMARY:Fall Trap League
DESCRIPTION:
URL:https://stoughtoncc.com/event/fall-trap-league/2025-10-09/
LOCATION:Trap & Skeet Fields
ORGANIZER;CN="Kevin Kettner":MAILTO:kkettner@gmail.com
END:VEVENT
BEGIN:VEVENT
DTSTART;TZID=America/Chicago:20251009T173000
DTEND;TZID=America/Chicago:20251009T213000
DTSTAMP:20260423T133451
CREATED:20250430T222317Z
LAST-MODIFIED:20250508T034346Z
UID:10004733-1760031000-1760045400@stoughtoncc.com
SUMMARY:Centerfire Pistol League
DESCRIPTION:
URL:https://stoughtoncc.com/event/centerfire-pistol-league/2025-10-09/
LOCATION:Pistol Building
ORGANIZER;CN="Kevin Kettner":MAILTO:kkettner@gmail.com
END:VEVENT
BEGIN:VEVENT
DTSTART;TZID=America/Chicago:20251005T130000
DTEND;TZID=America/Chicago:20251005T150000
DTSTAMP:20260423T133451
CREATED:20250617T175813Z
LAST-MODIFIED:20250617T175813Z
UID:10004848-1759669200-1759676400@stoughtoncc.com
SUMMARY:MANA - Trap Shoot
DESCRIPTION:SCC will host the Madison Area Network of Amputees group. The group will try shooting trap or skeet.
URL:https://stoughtoncc.com/event/mana-trap-shoot/
LOCATION:Trap & Skeet Fields
ORGANIZER;CN="Kevin Kettner":MAILTO:kkettner@gmail.com
END:VEVENT
BEGIN:VEVENT
DTSTART;TZID=America/Chicago:20251002T180000
DTEND;TZID=America/Chicago:20251002T220000
DTSTAMP:20260423T133451
CREATED:20250430T222608Z
LAST-MODIFIED:20250508T035219Z
UID:10004744-1759428000-1759442400@stoughtoncc.com
SUMMARY:Fall Trap League
DESCRIPTION:
URL:https://stoughtoncc.com/event/fall-trap-league/2025-10-02/
LOCATION:Trap & Skeet Fields
ORGANIZER;CN="Kevin Kettner":MAILTO:kkettner@gmail.com
END:VEVENT
BEGIN:VEVENT
DTSTART;TZID=America/Chicago:20251002T173000
DTEND;TZID=America/Chicago:20251002T213000
DTSTAMP:20260423T133451
CREATED:20250430T222317Z
LAST-MODIFIED:20250508T034346Z
UID:10004732-1759426200-1759440600@stoughtoncc.com
SUMMARY:Centerfire Pistol League
DESCRIPTION:
URL:https://stoughtoncc.com/event/centerfire-pistol-league/2025-10-02/
LOCATION:Pistol Building
ORGANIZER;CN="Kevin Kettner":MAILTO:kkettner@gmail.com
END:VEVENT
BEGIN:VEVENT
DTSTART;TZID=America/Chicago:20250925T180000
DTEND;TZID=America/Chicago:20250925T220000
DTSTAMP:20260423T133451
CREATED:20250430T222608Z
LAST-MODIFIED:20250508T035219Z
UID:10004743-1758823200-1758837600@stoughtoncc.com
SUMMARY:Fall Trap League
DESCRIPTION:
URL:https://stoughtoncc.com/event/fall-trap-league/2025-09-25/
LOCATION:Trap & Skeet Fields
ORGANIZER;CN="Kevin Kettner":MAILTO:kkettner@gmail.com
END:VEVENT
BEGIN:VEVENT
DTSTART;TZID=America/Chicago:20250925T173000
DTEND;TZID=America/Chicago:20250925T213000
DTSTAMP:20260423T133451
CREATED:20250430T222317Z
LAST-MODIFIED:20250508T034346Z
UID:10004731-1758821400-1758835800@stoughtoncc.com
SUMMARY:Centerfire Pistol League
DESCRIPTION:
URL:https://stoughtoncc.com/event/centerfire-pistol-league/2025-09-25/
LOCATION:Pistol Building
ORGANIZER;CN="Kevin Kettner":MAILTO:kkettner@gmail.com
END:VEVENT
BEGIN:VEVENT
DTSTART;TZID=America/Chicago:20250918T180000
DTEND;TZID=America/Chicago:20250918T220000
DTSTAMP:20260423T133451
CREATED:20250430T222608Z
LAST-MODIFIED:20250508T035219Z
UID:10004742-1758218400-1758232800@stoughtoncc.com
SUMMARY:Fall Trap League
DESCRIPTION:
URL:https://stoughtoncc.com/event/fall-trap-league/2025-09-18/
LOCATION:Trap & Skeet Fields
ORGANIZER;CN="Kevin Kettner":MAILTO:kkettner@gmail.com
END:VEVENT
BEGIN:VEVENT
DTSTART;TZID=America/Chicago:20250918T173000
DTEND;TZID=America/Chicago:20250918T213000
DTSTAMP:20260423T133451
CREATED:20250430T222317Z
LAST-MODIFIED:20250508T034346Z
UID:10004730-1758216600-1758231000@stoughtoncc.com
SUMMARY:Centerfire Pistol League
DESCRIPTION:
URL:https://stoughtoncc.com/event/centerfire-pistol-league/2025-09-18/
LOCATION:Pistol Building
ORGANIZER;CN="Kevin Kettner":MAILTO:kkettner@gmail.com
END:VEVENT
BEGIN:VEVENT
DTSTART;TZID=America/Chicago:20250911T180000
DTEND;TZID=America/Chicago:20250911T220000
DTSTAMP:20260423T133451
CREATED:20250430T222608Z
LAST-MODIFIED:20250508T035219Z
UID:10004741-1757613600-1757628000@stoughtoncc.com
SUMMARY:Fall Trap League
DESCRIPTION:
URL:https://stoughtoncc.com/event/fall-trap-league/2025-09-11/
LOCATION:Trap & Skeet Fields
ORGANIZER;CN="Kevin Kettner":MAILTO:kkettner@gmail.com
END:VEVENT
BEGIN:VEVENT
DTSTART;TZID=America/Chicago:20250911T173000
DTEND;TZID=America/Chicago:20250911T213000
DTSTAMP:20260423T133451
CREATED:20250430T222317Z
LAST-MODIFIED:20250508T034346Z
UID:10004729-1757611800-1757626200@stoughtoncc.com
SUMMARY:Centerfire Pistol League
DESCRIPTION:
URL:https://stoughtoncc.com/event/centerfire-pistol-league/2025-09-11/
LOCATION:Pistol Building
ORGANIZER;CN="Kevin Kettner":MAILTO:kkettner@gmail.com
END:VEVENT
BEGIN:VEVENT
DTSTART;TZID=America/Chicago:20250907T110000
DTEND;TZID=America/Chicago:20250907T140000
DTSTAMP:20260423T133451
CREATED:20250617T175424Z
LAST-MODIFIED:20250812T032408Z
UID:10004846-1757242800-1757253600@stoughtoncc.com
SUMMARY:Try Trap (Public)
DESCRIPTION:This event is for kids who are interested in learning to shoot trap or skeet. \n\n\n\n\n\n\n\nThe Viking Lead Slingers are hosting TRY TRAP FOR FREE!\n\nSunday September 7th\, 2025 from 11:00 AM – 2:00 PM at the Stoughton Conservation Club.\n\nThank you to BA Stanton Construction LLC for sponsoring our event!
URL:https://stoughtoncc.com/event/try-trap/
LOCATION:Main Clubhouse
ORGANIZER;CN="Kevin Kettner":MAILTO:kkettner@gmail.com
END:VEVENT
END:VCALENDAR