BEGIN:VCALENDAR
VERSION:2.0
PRODID:-//Stoughton Conservation Club - ECPv6.15.20//NONSGML v1.0//EN
CALSCALE:GREGORIAN
METHOD:PUBLISH
X-WR-CALNAME:Stoughton Conservation Club
X-ORIGINAL-URL:https://stoughtoncc.com
X-WR-CALDESC:Events for Stoughton Conservation Club
REFRESH-INTERVAL;VALUE=DURATION:PT1H
X-Robots-Tag:noindex
X-PUBLISHED-TTL:PT1H
BEGIN:VTIMEZONE
TZID:America/Chicago
BEGIN:DAYLIGHT
TZOFFSETFROM:-0600
TZOFFSETTO:-0500
TZNAME:CDT
DTSTART:20240310T080000
END:DAYLIGHT
BEGIN:STANDARD
TZOFFSETFROM:-0500
TZOFFSETTO:-0600
TZNAME:CST
DTSTART:20241103T070000
END:STANDARD
BEGIN:DAYLIGHT
TZOFFSETFROM:-0600
TZOFFSETTO:-0500
TZNAME:CDT
DTSTART:20250309T080000
END:DAYLIGHT
BEGIN:STANDARD
TZOFFSETFROM:-0500
TZOFFSETTO:-0600
TZNAME:CST
DTSTART:20251102T070000
END:STANDARD
BEGIN:DAYLIGHT
TZOFFSETFROM:-0600
TZOFFSETTO:-0500
TZNAME:CDT
DTSTART:20260308T080000
END:DAYLIGHT
BEGIN:STANDARD
TZOFFSETFROM:-0500
TZOFFSETTO:-0600
TZNAME:CST
DTSTART:20261101T070000
END:STANDARD
END:VTIMEZONE
BEGIN:VEVENT
DTSTART;TZID=America/Chicago:20250315T113000
DTEND;TZID=America/Chicago:20250315T143000
DTSTAMP:20260423T160413
CREATED:20241002T191429Z
LAST-MODIFIED:20241213T032114Z
UID:10003824-1742038200-1742049000@stoughtoncc.com
SUMMARY:Youth Archery League
DESCRIPTION:For more information about Youth Archery League see here: \nhttps://stoughtoncc.com/leagues/archery-league/youth-archery/ \nNo youth archery league on January 25th.
URL:https://stoughtoncc.com/event/youth-archery-league-2/2025-03-15/
ORGANIZER;CN="Dustin Thoren":MAILTO:dustin.thoren@gmail.com
END:VEVENT
BEGIN:VEVENT
DTSTART;TZID=America/Chicago:20250315T080000
DTEND;TZID=America/Chicago:20250315T233000
DTSTAMP:20260423T160413
CREATED:20241002T191219Z
LAST-MODIFIED:20241213T032001Z
UID:10003813-1742025600-1742081400@stoughtoncc.com
SUMMARY:Youth Instructional Archery
DESCRIPTION:See here for info about the Youth Instructional Archery Program: \nhttps://stoughtoncc.com/youth-training/youth-instructional-archery-league/ \nNo youth archery on January 25th.
URL:https://stoughtoncc.com/event/youth-instructional-archery-2025/2025-03-15/
ORGANIZER;CN="Dustin Thoren":MAILTO:dustin.thoren@gmail.com
END:VEVENT
BEGIN:VEVENT
DTSTART;TZID=America/Chicago:20250308T113000
DTEND;TZID=America/Chicago:20250308T143000
DTSTAMP:20260423T160413
CREATED:20241002T191429Z
LAST-MODIFIED:20241213T032114Z
UID:10003823-1741433400-1741444200@stoughtoncc.com
SUMMARY:Youth Archery League
DESCRIPTION:For more information about Youth Archery League see here: \nhttps://stoughtoncc.com/leagues/archery-league/youth-archery/ \nNo youth archery league on January 25th.
URL:https://stoughtoncc.com/event/youth-archery-league-2/2025-03-08/
ORGANIZER;CN="Dustin Thoren":MAILTO:dustin.thoren@gmail.com
END:VEVENT
BEGIN:VEVENT
DTSTART;TZID=America/Chicago:20250308T080000
DTEND;TZID=America/Chicago:20250308T233000
DTSTAMP:20260423T160413
CREATED:20241002T191219Z
LAST-MODIFIED:20241213T032001Z
UID:10003812-1741420800-1741476600@stoughtoncc.com
SUMMARY:Youth Instructional Archery
DESCRIPTION:See here for info about the Youth Instructional Archery Program: \nhttps://stoughtoncc.com/youth-training/youth-instructional-archery-league/ \nNo youth archery on January 25th.
URL:https://stoughtoncc.com/event/youth-instructional-archery-2025/2025-03-08/
ORGANIZER;CN="Dustin Thoren":MAILTO:dustin.thoren@gmail.com
END:VEVENT
BEGIN:VEVENT
DTSTART;TZID=America/Chicago:20250301T113000
DTEND;TZID=America/Chicago:20250301T143000
DTSTAMP:20260423T160413
CREATED:20241002T191429Z
LAST-MODIFIED:20241213T032114Z
UID:10003822-1740828600-1740839400@stoughtoncc.com
SUMMARY:Youth Archery League
DESCRIPTION:For more information about Youth Archery League see here: \nhttps://stoughtoncc.com/leagues/archery-league/youth-archery/ \nNo youth archery league on January 25th.
URL:https://stoughtoncc.com/event/youth-archery-league-2/2025-03-01/
ORGANIZER;CN="Dustin Thoren":MAILTO:dustin.thoren@gmail.com
END:VEVENT
BEGIN:VEVENT
DTSTART;TZID=America/Chicago:20250301T080000
DTEND;TZID=America/Chicago:20250301T233000
DTSTAMP:20260423T160413
CREATED:20241002T191219Z
LAST-MODIFIED:20241213T032001Z
UID:10003811-1740816000-1740871800@stoughtoncc.com
SUMMARY:Youth Instructional Archery
DESCRIPTION:See here for info about the Youth Instructional Archery Program: \nhttps://stoughtoncc.com/youth-training/youth-instructional-archery-league/ \nNo youth archery on January 25th.
URL:https://stoughtoncc.com/event/youth-instructional-archery-2025/2025-03-01/
ORGANIZER;CN="Dustin Thoren":MAILTO:dustin.thoren@gmail.com
END:VEVENT
BEGIN:VEVENT
DTSTART;TZID=America/Chicago:20250222T113000
DTEND;TZID=America/Chicago:20250222T143000
DTSTAMP:20260423T160413
CREATED:20241002T191429Z
LAST-MODIFIED:20241213T032114Z
UID:10003821-1740223800-1740234600@stoughtoncc.com
SUMMARY:Youth Archery League
DESCRIPTION:For more information about Youth Archery League see here: \nhttps://stoughtoncc.com/leagues/archery-league/youth-archery/ \nNo youth archery league on January 25th.
URL:https://stoughtoncc.com/event/youth-archery-league-2/2025-02-22/
ORGANIZER;CN="Dustin Thoren":MAILTO:dustin.thoren@gmail.com
END:VEVENT
BEGIN:VEVENT
DTSTART;TZID=America/Chicago:20250222T080000
DTEND;TZID=America/Chicago:20250222T233000
DTSTAMP:20260423T160413
CREATED:20241002T191219Z
LAST-MODIFIED:20241213T032001Z
UID:10003810-1740211200-1740267000@stoughtoncc.com
SUMMARY:Youth Instructional Archery
DESCRIPTION:See here for info about the Youth Instructional Archery Program: \nhttps://stoughtoncc.com/youth-training/youth-instructional-archery-league/ \nNo youth archery on January 25th.
URL:https://stoughtoncc.com/event/youth-instructional-archery-2025/2025-02-22/
ORGANIZER;CN="Dustin Thoren":MAILTO:dustin.thoren@gmail.com
END:VEVENT
BEGIN:VEVENT
DTSTART;TZID=America/Chicago:20250215T113000
DTEND;TZID=America/Chicago:20250215T143000
DTSTAMP:20260423T160413
CREATED:20241002T191429Z
LAST-MODIFIED:20241213T032114Z
UID:10003820-1739619000-1739629800@stoughtoncc.com
SUMMARY:Youth Archery League
DESCRIPTION:For more information about Youth Archery League see here: \nhttps://stoughtoncc.com/leagues/archery-league/youth-archery/ \nNo youth archery league on January 25th.
URL:https://stoughtoncc.com/event/youth-archery-league-2/2025-02-15/
ORGANIZER;CN="Dustin Thoren":MAILTO:dustin.thoren@gmail.com
END:VEVENT
BEGIN:VEVENT
DTSTART;TZID=America/Chicago:20250215T080000
DTEND;TZID=America/Chicago:20250215T233000
DTSTAMP:20260423T160413
CREATED:20241002T191219Z
LAST-MODIFIED:20241213T032001Z
UID:10003809-1739606400-1739662200@stoughtoncc.com
SUMMARY:Youth Instructional Archery
DESCRIPTION:See here for info about the Youth Instructional Archery Program: \nhttps://stoughtoncc.com/youth-training/youth-instructional-archery-league/ \nNo youth archery on January 25th.
URL:https://stoughtoncc.com/event/youth-instructional-archery-2025/2025-02-15/
ORGANIZER;CN="Dustin Thoren":MAILTO:dustin.thoren@gmail.com
END:VEVENT
BEGIN:VEVENT
DTSTART;TZID=America/Chicago:20250208T113000
DTEND;TZID=America/Chicago:20250208T143000
DTSTAMP:20260423T160413
CREATED:20241002T191429Z
LAST-MODIFIED:20241213T032114Z
UID:10003819-1739014200-1739025000@stoughtoncc.com
SUMMARY:Youth Archery League
DESCRIPTION:For more information about Youth Archery League see here: \nhttps://stoughtoncc.com/leagues/archery-league/youth-archery/ \nNo youth archery league on January 25th.
URL:https://stoughtoncc.com/event/youth-archery-league-2/2025-02-08/
ORGANIZER;CN="Dustin Thoren":MAILTO:dustin.thoren@gmail.com
END:VEVENT
BEGIN:VEVENT
DTSTART;TZID=America/Chicago:20250208T080000
DTEND;TZID=America/Chicago:20250208T233000
DTSTAMP:20260423T160413
CREATED:20241002T191219Z
LAST-MODIFIED:20241213T032001Z
UID:10003808-1739001600-1739057400@stoughtoncc.com
SUMMARY:Youth Instructional Archery
DESCRIPTION:See here for info about the Youth Instructional Archery Program: \nhttps://stoughtoncc.com/youth-training/youth-instructional-archery-league/ \nNo youth archery on January 25th.
URL:https://stoughtoncc.com/event/youth-instructional-archery-2025/2025-02-08/
ORGANIZER;CN="Dustin Thoren":MAILTO:dustin.thoren@gmail.com
END:VEVENT
BEGIN:VEVENT
DTSTART;TZID=America/Chicago:20250201T113000
DTEND;TZID=America/Chicago:20250201T143000
DTSTAMP:20260423T160413
CREATED:20241002T191429Z
LAST-MODIFIED:20241213T032114Z
UID:10003818-1738409400-1738420200@stoughtoncc.com
SUMMARY:Youth Archery League
DESCRIPTION:For more information about Youth Archery League see here: \nhttps://stoughtoncc.com/leagues/archery-league/youth-archery/ \nNo youth archery league on January 25th.
URL:https://stoughtoncc.com/event/youth-archery-league-2/2025-02-01/
ORGANIZER;CN="Dustin Thoren":MAILTO:dustin.thoren@gmail.com
END:VEVENT
BEGIN:VEVENT
DTSTART;TZID=America/Chicago:20250201T080000
DTEND;TZID=America/Chicago:20250201T233000
DTSTAMP:20260423T160413
CREATED:20241002T191219Z
LAST-MODIFIED:20241213T032001Z
UID:10003807-1738396800-1738452600@stoughtoncc.com
SUMMARY:Youth Instructional Archery
DESCRIPTION:See here for info about the Youth Instructional Archery Program: \nhttps://stoughtoncc.com/youth-training/youth-instructional-archery-league/ \nNo youth archery on January 25th.
URL:https://stoughtoncc.com/event/youth-instructional-archery-2025/2025-02-01/
ORGANIZER;CN="Dustin Thoren":MAILTO:dustin.thoren@gmail.com
END:VEVENT
BEGIN:VEVENT
DTSTART;TZID=America/Chicago:20250118T113000
DTEND;TZID=America/Chicago:20250118T143000
DTSTAMP:20260423T160413
CREATED:20241002T191429Z
LAST-MODIFIED:20241213T032114Z
UID:10003816-1737199800-1737210600@stoughtoncc.com
SUMMARY:Youth Archery League
DESCRIPTION:For more information about Youth Archery League see here: \nhttps://stoughtoncc.com/leagues/archery-league/youth-archery/ \nNo youth archery league on January 25th.
URL:https://stoughtoncc.com/event/youth-archery-league-2/2025-01-18/
ORGANIZER;CN="Dustin Thoren":MAILTO:dustin.thoren@gmail.com
END:VEVENT
BEGIN:VEVENT
DTSTART;TZID=America/Chicago:20250118T080000
DTEND;TZID=America/Chicago:20250118T233000
DTSTAMP:20260423T160413
CREATED:20241002T191219Z
LAST-MODIFIED:20241213T032001Z
UID:10003805-1737187200-1737243000@stoughtoncc.com
SUMMARY:Youth Instructional Archery
DESCRIPTION:See here for info about the Youth Instructional Archery Program: \nhttps://stoughtoncc.com/youth-training/youth-instructional-archery-league/ \nNo youth archery on January 25th.
URL:https://stoughtoncc.com/event/youth-instructional-archery-2025/2025-01-18/
ORGANIZER;CN="Dustin Thoren":MAILTO:dustin.thoren@gmail.com
END:VEVENT
BEGIN:VEVENT
DTSTART;TZID=America/Chicago:20250111T113000
DTEND;TZID=America/Chicago:20250111T143000
DTSTAMP:20260423T160413
CREATED:20241002T191429Z
LAST-MODIFIED:20241213T032114Z
UID:10003815-1736595000-1736605800@stoughtoncc.com
SUMMARY:Youth Archery League
DESCRIPTION:For more information about Youth Archery League see here: \nhttps://stoughtoncc.com/leagues/archery-league/youth-archery/ \nNo youth archery league on January 25th.
URL:https://stoughtoncc.com/event/youth-archery-league-2/2025-01-11/
ORGANIZER;CN="Dustin Thoren":MAILTO:dustin.thoren@gmail.com
END:VEVENT
BEGIN:VEVENT
DTSTART;TZID=America/Chicago:20250111T080000
DTEND;TZID=America/Chicago:20250111T233000
DTSTAMP:20260423T160413
CREATED:20241002T191219Z
LAST-MODIFIED:20241213T032001Z
UID:10003804-1736582400-1736638200@stoughtoncc.com
SUMMARY:Youth Instructional Archery
DESCRIPTION:See here for info about the Youth Instructional Archery Program: \nhttps://stoughtoncc.com/youth-training/youth-instructional-archery-league/ \nNo youth archery on January 25th.
URL:https://stoughtoncc.com/event/youth-instructional-archery-2025/2025-01-11/
ORGANIZER;CN="Dustin Thoren":MAILTO:dustin.thoren@gmail.com
END:VEVENT
BEGIN:VEVENT
DTSTART;TZID=America/Chicago:20250104T113000
DTEND;TZID=America/Chicago:20250104T143000
DTSTAMP:20260423T160413
CREATED:20241002T191429Z
LAST-MODIFIED:20241213T032114Z
UID:10003814-1735990200-1736001000@stoughtoncc.com
SUMMARY:Youth Archery League
DESCRIPTION:For more information about Youth Archery League see here: \nhttps://stoughtoncc.com/leagues/archery-league/youth-archery/ \nNo youth archery league on January 25th.
URL:https://stoughtoncc.com/event/youth-archery-league-2/2025-01-04/
ORGANIZER;CN="Dustin Thoren":MAILTO:dustin.thoren@gmail.com
END:VEVENT
BEGIN:VEVENT
DTSTART;TZID=America/Chicago:20250104T080000
DTEND;TZID=America/Chicago:20250104T233000
DTSTAMP:20260423T160413
CREATED:20241002T191219Z
LAST-MODIFIED:20241213T032001Z
UID:10003803-1735977600-1736033400@stoughtoncc.com
SUMMARY:Youth Instructional Archery
DESCRIPTION:See here for info about the Youth Instructional Archery Program: \nhttps://stoughtoncc.com/youth-training/youth-instructional-archery-league/ \nNo youth archery on January 25th.
URL:https://stoughtoncc.com/event/youth-instructional-archery-2025/2025-01-04/
ORGANIZER;CN="Dustin Thoren":MAILTO:dustin.thoren@gmail.com
END:VEVENT
END:VCALENDAR