BEGIN:VCALENDAR
VERSION:2.0
PRODID:-//Stoughton Conservation Club - ECPv6.15.20//NONSGML v1.0//EN
CALSCALE:GREGORIAN
METHOD:PUBLISH
X-WR-CALNAME:Stoughton Conservation Club
X-ORIGINAL-URL:https://stoughtoncc.com
X-WR-CALDESC:Events for Stoughton Conservation Club
REFRESH-INTERVAL;VALUE=DURATION:PT1H
X-Robots-Tag:noindex
X-PUBLISHED-TTL:PT1H
BEGIN:VTIMEZONE
TZID:America/Chicago
BEGIN:DAYLIGHT
TZOFFSETFROM:-0600
TZOFFSETTO:-0500
TZNAME:CDT
DTSTART:20250309T080000
END:DAYLIGHT
BEGIN:STANDARD
TZOFFSETFROM:-0500
TZOFFSETTO:-0600
TZNAME:CST
DTSTART:20251102T070000
END:STANDARD
BEGIN:DAYLIGHT
TZOFFSETFROM:-0600
TZOFFSETTO:-0500
TZNAME:CDT
DTSTART:20260308T080000
END:DAYLIGHT
BEGIN:STANDARD
TZOFFSETFROM:-0500
TZOFFSETTO:-0600
TZNAME:CST
DTSTART:20261101T070000
END:STANDARD
BEGIN:DAYLIGHT
TZOFFSETFROM:-0600
TZOFFSETTO:-0500
TZNAME:CDT
DTSTART:20270314T080000
END:DAYLIGHT
BEGIN:STANDARD
TZOFFSETFROM:-0500
TZOFFSETTO:-0600
TZNAME:CST
DTSTART:20271107T070000
END:STANDARD
END:VTIMEZONE
BEGIN:VEVENT
DTSTART;TZID=America/Chicago:20260427T190000
DTEND;TZID=America/Chicago:20260427T210000
DTSTAMP:20260423T110341
CREATED:20251219T162212Z
LAST-MODIFIED:20251219T162212Z
UID:10005073-1777316400-1777323600@stoughtoncc.com
SUMMARY:Board of Directors Meeting
DESCRIPTION:This is the monthly SCC Board of Directors meeting. \nContact a board member if you’d like to have a topic added to the agenda. \nThe board meets at 6:30 during standard time months and 7:00 during daylight savings time months.
URL:https://stoughtoncc.com/event/board-of-directors-meeting-4/2026-04-27/
LOCATION:Main Clubhouse
END:VEVENT
BEGIN:VEVENT
DTSTART;TZID=America/Chicago:20260525T190000
DTEND;TZID=America/Chicago:20260525T210000
DTSTAMP:20260423T110341
CREATED:20251219T162212Z
LAST-MODIFIED:20251219T162212Z
UID:10005074-1779735600-1779742800@stoughtoncc.com
SUMMARY:Board of Directors Meeting
DESCRIPTION:This is the monthly SCC Board of Directors meeting. \nContact a board member if you’d like to have a topic added to the agenda. \nThe board meets at 6:30 during standard time months and 7:00 during daylight savings time months.
URL:https://stoughtoncc.com/event/board-of-directors-meeting-4/2026-05-25/
LOCATION:Main Clubhouse
END:VEVENT
BEGIN:VEVENT
DTSTART;TZID=America/Chicago:20260629T190000
DTEND;TZID=America/Chicago:20260629T210000
DTSTAMP:20260423T110341
CREATED:20251219T162212Z
LAST-MODIFIED:20251219T162212Z
UID:10005075-1782759600-1782766800@stoughtoncc.com
SUMMARY:Board of Directors Meeting
DESCRIPTION:This is the monthly SCC Board of Directors meeting. \nContact a board member if you’d like to have a topic added to the agenda. \nThe board meets at 6:30 during standard time months and 7:00 during daylight savings time months.
URL:https://stoughtoncc.com/event/board-of-directors-meeting-4/2026-06-29/
LOCATION:Main Clubhouse
END:VEVENT
BEGIN:VEVENT
DTSTART;TZID=America/Chicago:20260727T190000
DTEND;TZID=America/Chicago:20260727T210000
DTSTAMP:20260423T110341
CREATED:20251219T162212Z
LAST-MODIFIED:20251219T162212Z
UID:10005076-1785178800-1785186000@stoughtoncc.com
SUMMARY:Board of Directors Meeting
DESCRIPTION:This is the monthly SCC Board of Directors meeting. \nContact a board member if you’d like to have a topic added to the agenda. \nThe board meets at 6:30 during standard time months and 7:00 during daylight savings time months.
URL:https://stoughtoncc.com/event/board-of-directors-meeting-4/2026-07-27/
LOCATION:Main Clubhouse
END:VEVENT
BEGIN:VEVENT
DTSTART;TZID=America/Chicago:20260831T190000
DTEND;TZID=America/Chicago:20260831T210000
DTSTAMP:20260423T110341
CREATED:20251219T162212Z
LAST-MODIFIED:20251219T162212Z
UID:10005077-1788202800-1788210000@stoughtoncc.com
SUMMARY:Board of Directors Meeting
DESCRIPTION:This is the monthly SCC Board of Directors meeting. \nContact a board member if you’d like to have a topic added to the agenda. \nThe board meets at 6:30 during standard time months and 7:00 during daylight savings time months.
URL:https://stoughtoncc.com/event/board-of-directors-meeting-4/2026-08-31/
LOCATION:Main Clubhouse
END:VEVENT
BEGIN:VEVENT
DTSTART;TZID=America/Chicago:20260928T190000
DTEND;TZID=America/Chicago:20260928T210000
DTSTAMP:20260423T110341
CREATED:20251219T162212Z
LAST-MODIFIED:20251219T162212Z
UID:10005078-1790622000-1790629200@stoughtoncc.com
SUMMARY:Board of Directors Meeting
DESCRIPTION:This is the monthly SCC Board of Directors meeting. \nContact a board member if you’d like to have a topic added to the agenda. \nThe board meets at 6:30 during standard time months and 7:00 during daylight savings time months.
URL:https://stoughtoncc.com/event/board-of-directors-meeting-4/2026-09-28/
LOCATION:Main Clubhouse
END:VEVENT
BEGIN:VEVENT
DTSTART;TZID=America/Chicago:20261026T190000
DTEND;TZID=America/Chicago:20261026T210000
DTSTAMP:20260423T110341
CREATED:20251219T162212Z
LAST-MODIFIED:20251219T162212Z
UID:10005079-1793041200-1793048400@stoughtoncc.com
SUMMARY:Board of Directors Meeting
DESCRIPTION:This is the monthly SCC Board of Directors meeting. \nContact a board member if you’d like to have a topic added to the agenda. \nThe board meets at 6:30 during standard time months and 7:00 during daylight savings time months.
URL:https://stoughtoncc.com/event/board-of-directors-meeting-4/2026-10-26/
LOCATION:Main Clubhouse
END:VEVENT
BEGIN:VEVENT
DTSTART;TZID=America/Chicago:20261130T183000
DTEND;TZID=America/Chicago:20261130T210000
DTSTAMP:20260423T110341
CREATED:20251219T162212Z
LAST-MODIFIED:20251219T162212Z
UID:10005080-1796063400-1796072400@stoughtoncc.com
SUMMARY:Board of Directors Meeting
DESCRIPTION:This is the monthly SCC Board of Directors meeting. \nContact a board member if you’d like to have a topic added to the agenda. \nThe board meets at 6:30 during standard time months and 7:00 during daylight savings time months.
URL:https://stoughtoncc.com/event/board-of-directors-meeting-4/2026-11-30/
LOCATION:Main Clubhouse
END:VEVENT
BEGIN:VEVENT
DTSTART;TZID=America/Chicago:20261228T183000
DTEND;TZID=America/Chicago:20261228T210000
DTSTAMP:20260423T110341
CREATED:20251219T162212Z
LAST-MODIFIED:20251219T162212Z
UID:10005081-1798482600-1798491600@stoughtoncc.com
SUMMARY:Board of Directors Meeting
DESCRIPTION:This is the monthly SCC Board of Directors meeting. \nContact a board member if you’d like to have a topic added to the agenda. \nThe board meets at 6:30 during standard time months and 7:00 during daylight savings time months.
URL:https://stoughtoncc.com/event/board-of-directors-meeting-4/2026-12-28/
LOCATION:Main Clubhouse
END:VEVENT
END:VCALENDAR