BEGIN:VCALENDAR
VERSION:2.0
PRODID:-//Stoughton Conservation Club - ECPv6.15.20//NONSGML v1.0//EN
CALSCALE:GREGORIAN
METHOD:PUBLISH
X-WR-CALNAME:Stoughton Conservation Club
X-ORIGINAL-URL:https://stoughtoncc.com
X-WR-CALDESC:Events for Stoughton Conservation Club
REFRESH-INTERVAL;VALUE=DURATION:PT1H
X-Robots-Tag:noindex
X-PUBLISHED-TTL:PT1H
BEGIN:VTIMEZONE
TZID:America/Chicago
BEGIN:DAYLIGHT
TZOFFSETFROM:-0600
TZOFFSETTO:-0500
TZNAME:CDT
DTSTART:20240310T080000
END:DAYLIGHT
BEGIN:STANDARD
TZOFFSETFROM:-0500
TZOFFSETTO:-0600
TZNAME:CST
DTSTART:20241103T070000
END:STANDARD
BEGIN:DAYLIGHT
TZOFFSETFROM:-0600
TZOFFSETTO:-0500
TZNAME:CDT
DTSTART:20250309T080000
END:DAYLIGHT
BEGIN:STANDARD
TZOFFSETFROM:-0500
TZOFFSETTO:-0600
TZNAME:CST
DTSTART:20251102T070000
END:STANDARD
BEGIN:DAYLIGHT
TZOFFSETFROM:-0600
TZOFFSETTO:-0500
TZNAME:CDT
DTSTART:20260308T080000
END:DAYLIGHT
BEGIN:STANDARD
TZOFFSETFROM:-0500
TZOFFSETTO:-0600
TZNAME:CST
DTSTART:20261101T070000
END:STANDARD
BEGIN:DAYLIGHT
TZOFFSETFROM:-0600
TZOFFSETTO:-0500
TZNAME:CDT
DTSTART:20270314T080000
END:DAYLIGHT
BEGIN:STANDARD
TZOFFSETFROM:-0500
TZOFFSETTO:-0600
TZNAME:CST
DTSTART:20271107T070000
END:STANDARD
END:VTIMEZONE
BEGIN:VEVENT
DTSTART;TZID=America/Chicago:20260131T000000
DTEND;TZID=America/Chicago:20260131T160000
DTSTAMP:20260423T160355
CREATED:20251205T161804Z
LAST-MODIFIED:20251205T161958Z
UID:10005031-1769817600-1769875200@stoughtoncc.com
SUMMARY:Ice Fisheree - 2026
DESCRIPTION:  \n \n 
URL:https://stoughtoncc.com/event/ice-fisheree-2026/
LOCATION:Lake Kegonsa/Springers\, 3097 Sunnyside Street\, Stoughton\, 53589\, United States
END:VEVENT
BEGIN:VEVENT
DTSTART;TZID=America/Chicago:20250321T170000
DTEND;TZID=America/Chicago:20250321T230000
DTSTAMP:20260423T160355
CREATED:20241213T033848Z
LAST-MODIFIED:20241213T033848Z
UID:10004436-1742576400-1742598000@stoughtoncc.com
SUMMARY:NWTF (Turkey) Banquet
DESCRIPTION:National Wild Turkey Federation Banquet.
URL:https://stoughtoncc.com/event/nwtf-turkey-banquet/
END:VEVENT
BEGIN:VEVENT
DTSTART;TZID=America/Chicago:20250125T000000
DTEND;TZID=America/Chicago:20250125T160000
DTSTAMP:20260423T160355
CREATED:20241107T222432Z
LAST-MODIFIED:20241107T222432Z
UID:10003877-1737763200-1737820800@stoughtoncc.com
SUMMARY:2025 Ice Fisheree
DESCRIPTION:2025 Ice Fisheree\n  \n  \n \n  \n 
URL:https://stoughtoncc.com/event/2025-ice-fisheree/
LOCATION:Lake Kegonsa/Springers\, 3097 Sunnyside Street\, Stoughton\, 53589\, United States
ATTACH;FMTTYPE=image/png:https://stoughtoncc.com/wp-content/uploads/2022/02/2022-Fisheree.png
END:VEVENT
END:VCALENDAR