BEGIN:VCALENDAR
VERSION:2.0
PRODID:-//Stoughton Conservation Club - ECPv6.15.20//NONSGML v1.0//EN
CALSCALE:GREGORIAN
METHOD:PUBLISH
X-WR-CALNAME:Stoughton Conservation Club
X-ORIGINAL-URL:https://stoughtoncc.com
X-WR-CALDESC:Events for Stoughton Conservation Club
REFRESH-INTERVAL;VALUE=DURATION:PT1H
X-Robots-Tag:noindex
X-PUBLISHED-TTL:PT1H
BEGIN:VTIMEZONE
TZID:America/Chicago
BEGIN:DAYLIGHT
TZOFFSETFROM:-0600
TZOFFSETTO:-0500
TZNAME:CDT
DTSTART:20250309T080000
END:DAYLIGHT
BEGIN:STANDARD
TZOFFSETFROM:-0500
TZOFFSETTO:-0600
TZNAME:CST
DTSTART:20251102T070000
END:STANDARD
BEGIN:DAYLIGHT
TZOFFSETFROM:-0600
TZOFFSETTO:-0500
TZNAME:CDT
DTSTART:20260308T080000
END:DAYLIGHT
BEGIN:STANDARD
TZOFFSETFROM:-0500
TZOFFSETTO:-0600
TZNAME:CST
DTSTART:20261101T070000
END:STANDARD
BEGIN:DAYLIGHT
TZOFFSETFROM:-0600
TZOFFSETTO:-0500
TZNAME:CDT
DTSTART:20270314T080000
END:DAYLIGHT
BEGIN:STANDARD
TZOFFSETFROM:-0500
TZOFFSETTO:-0600
TZNAME:CST
DTSTART:20271107T070000
END:STANDARD
END:VTIMEZONE
BEGIN:VEVENT
DTSTART;TZID=America/Chicago:20260621T090000
DTEND;TZID=America/Chicago:20260621T140000
DTSTAMP:20260423T145221
CREATED:20250905T132306Z
LAST-MODIFIED:20250905T132306Z
UID:10004938-1782032400-1782050400@stoughtoncc.com
SUMMARY:VLS Trap/Skeet Practice
DESCRIPTION:
URL:https://stoughtoncc.com/event/vls-trap-skeet-practice/2026-06-21/
LOCATION:Trap & Skeet Fields
ORGANIZER;CN="Kevin Kettner":MAILTO:kkettner@gmail.com
END:VEVENT
BEGIN:VEVENT
DTSTART;TZID=America/Chicago:20260622T080000
DTEND;TZID=America/Chicago:20260622T110000
DTSTAMP:20260423T145221
CREATED:20241210T180811Z
LAST-MODIFIED:20250508T035024Z
UID:10004119-1782115200-1782126000@stoughtoncc.com
SUMMARY:Monday Morning Trap/Skeet
DESCRIPTION:Open trap and skeet for members. Come\, shoot\, drink coffee.
URL:https://stoughtoncc.com/event/monday-morning-trap-skeet/2026-06-22/
LOCATION:Trap & Skeet Fields
END:VEVENT
BEGIN:VEVENT
DTSTART;TZID=America/Chicago:20260625T173000
DTEND;TZID=America/Chicago:20260625T220000
DTSTAMP:20260423T145221
CREATED:20250903T195739Z
LAST-MODIFIED:20250903T195849Z
UID:10004916-1782408600-1782424800@stoughtoncc.com
SUMMARY:Trap League - 2026
DESCRIPTION:
URL:https://stoughtoncc.com/event/trap-league-2026/2026-06-25/
LOCATION:Trap & Skeet Fields
ORGANIZER;CN="Kevin Kettner":MAILTO:kkettner@gmail.com
END:VEVENT
BEGIN:VEVENT
DTSTART;TZID=America/Chicago:20260627T070000
DTEND;TZID=America/Chicago:20260627T170000
DTSTAMP:20260423T145221
CREATED:20260120T143416Z
LAST-MODIFIED:20260120T143459Z
UID:10005086-1782543600-1782579600@stoughtoncc.com
SUMMARY:4H Fair Shoot 2026
DESCRIPTION:4H will be using all of the ranges for their fair shoots. \n\nTrap and Skeet fields\nRifle Range\nIndoor Archery\nOutdoor Archery\nWoods Course\nPistol Range\n\nThe specific shooting schedule won’t be set until closer to the date\, so we are reserving the whole facility all day.
URL:https://stoughtoncc.com/event/4h-fair-shoot-2/
LOCATION:Whole SCC Facility
ORGANIZER;CN="Shawn Cannon":MAILTO:shawndeannacannon@gmail.com
END:VEVENT
END:VCALENDAR