BEGIN:VCALENDAR
VERSION:2.0
PRODID:-//Stoughton Conservation Club - ECPv6.15.20//NONSGML v1.0//EN
CALSCALE:GREGORIAN
METHOD:PUBLISH
X-ORIGINAL-URL:https://stoughtoncc.com
X-WR-CALDESC:Events for Stoughton Conservation Club
REFRESH-INTERVAL;VALUE=DURATION:PT1H
X-Robots-Tag:noindex
X-PUBLISHED-TTL:PT1H
BEGIN:VTIMEZONE
TZID:America/Chicago
BEGIN:DAYLIGHT
TZOFFSETFROM:-0600
TZOFFSETTO:-0500
TZNAME:CDT
DTSTART:20250309T080000
END:DAYLIGHT
BEGIN:STANDARD
TZOFFSETFROM:-0500
TZOFFSETTO:-0600
TZNAME:CST
DTSTART:20251102T070000
END:STANDARD
BEGIN:DAYLIGHT
TZOFFSETFROM:-0600
TZOFFSETTO:-0500
TZNAME:CDT
DTSTART:20260308T080000
END:DAYLIGHT
BEGIN:STANDARD
TZOFFSETFROM:-0500
TZOFFSETTO:-0600
TZNAME:CST
DTSTART:20261101T070000
END:STANDARD
BEGIN:DAYLIGHT
TZOFFSETFROM:-0600
TZOFFSETTO:-0500
TZNAME:CDT
DTSTART:20270314T080000
END:DAYLIGHT
BEGIN:STANDARD
TZOFFSETFROM:-0500
TZOFFSETTO:-0600
TZNAME:CST
DTSTART:20271107T070000
END:STANDARD
END:VTIMEZONE
BEGIN:VEVENT
DTSTART;TZID=America/Chicago:20260517T090000
DTEND;TZID=America/Chicago:20260517T140000
DTSTAMP:20260423T122452
CREATED:20250905T132306Z
LAST-MODIFIED:20250905T132306Z
UID:10004933-1779008400-1779026400@stoughtoncc.com
SUMMARY:VLS Trap/Skeet Practice
DESCRIPTION:
URL:https://stoughtoncc.com/event/vls-trap-skeet-practice/2026-05-17/
LOCATION:Trap & Skeet Fields
ORGANIZER;CN="Kevin Kettner":MAILTO:kkettner@gmail.com
END:VEVENT
BEGIN:VEVENT
DTSTART;TZID=America/Chicago:20260518T080000
DTEND;TZID=America/Chicago:20260518T110000
DTSTAMP:20260423T122452
CREATED:20241210T180811Z
LAST-MODIFIED:20250508T035024Z
UID:10004114-1779091200-1779102000@stoughtoncc.com
SUMMARY:Monday Morning Trap/Skeet
DESCRIPTION:Open trap and skeet for members. Come\, shoot\, drink coffee.
URL:https://stoughtoncc.com/event/monday-morning-trap-skeet/2026-05-18/
LOCATION:Trap & Skeet Fields
END:VEVENT
BEGIN:VEVENT
DTSTART;TZID=America/Chicago:20260518T180000
DTEND;TZID=America/Chicago:20260518T200000
DTSTAMP:20260423T122452
CREATED:20250106T214248Z
LAST-MODIFIED:20250106T230443Z
UID:10004530-1779127200-1779134400@stoughtoncc.com
SUMMARY:S3DA Archery
DESCRIPTION:
URL:https://stoughtoncc.com/event/s3da-2/2026-05-18/
LOCATION:Indoor Archery Range
ORGANIZER;CN="Dave Rynes":MAILTO:blackdogdr@gmail.com
END:VEVENT
BEGIN:VEVENT
DTSTART;TZID=America/Chicago:20260519T050000
DTEND;TZID=America/Chicago:20260519T210000
DTSTAMP:20260423T122452
CREATED:20260324T224429Z
LAST-MODIFIED:20260324T224429Z
UID:10005127-1779166800-1779224400@stoughtoncc.com
SUMMARY:3D Archery League - 2026
DESCRIPTION:
URL:https://stoughtoncc.com/event/3d-archery-league-2026/2026-05-19/
LOCATION:Woods Trail Archery Course\, WI
ORGANIZER;CN="Dave Rynes":MAILTO:blackdogdr@gmail.com
END:VEVENT
BEGIN:VEVENT
DTSTART;TZID=America/Chicago:20260519T173000
DTEND;TZID=America/Chicago:20260519T193000
DTSTAMP:20260423T122452
CREATED:20251209T044618Z
LAST-MODIFIED:20251209T044618Z
UID:10005039-1779211800-1779219000@stoughtoncc.com
SUMMARY:4H Trap/Skeet/Indoor Archery
DESCRIPTION:The 4H Shooting Sports program will use the trap/skeet fields and indoor archery range to practice.
URL:https://stoughtoncc.com/event/4h-trap-skeet-indoor-archery/2026-05-19/
LOCATION:Trap & Skeet Fields
ORGANIZER;CN="Shawn Cannon":MAILTO:shawndeannacannon@gmail.com
END:VEVENT
BEGIN:VEVENT
DTSTART;TZID=America/Chicago:20260521T160000
DTEND;TZID=America/Chicago:20260521T190000
DTSTAMP:20260423T122452
CREATED:20251209T044947Z
LAST-MODIFIED:20251209T044947Z
UID:10005046-1779379200-1779390000@stoughtoncc.com
SUMMARY:4H Muzzle Loader
DESCRIPTION:The 4H Shooting Sports program will use the rifle range to practice shooting muzzle loaders.
URL:https://stoughtoncc.com/event/4h-muzzle-loader/2026-05-21/
LOCATION:Rifle Range
ORGANIZER;CN="Shawn Cannon":MAILTO:shawndeannacannon@gmail.com
END:VEVENT
BEGIN:VEVENT
DTSTART;TZID=America/Chicago:20260521T173000
DTEND;TZID=America/Chicago:20260521T220000
DTSTAMP:20260423T122452
CREATED:20250903T195739Z
LAST-MODIFIED:20250903T195849Z
UID:10004911-1779384600-1779400800@stoughtoncc.com
SUMMARY:Trap League - 2026
DESCRIPTION:
URL:https://stoughtoncc.com/event/trap-league-2026/2026-05-21/
LOCATION:Trap & Skeet Fields
ORGANIZER;CN="Kevin Kettner":MAILTO:kkettner@gmail.com
END:VEVENT
BEGIN:VEVENT
DTSTART;TZID=America/Chicago:20260523T080000
DTEND;TZID=America/Chicago:20260523T120000
DTSTAMP:20260423T122452
CREATED:20251209T051202Z
LAST-MODIFIED:20251209T052220Z
UID:10005055-1779523200-1779537600@stoughtoncc.com
SUMMARY:4H Pistol
DESCRIPTION:Air Pistol (8:30-10:00am) and .22 Pistol (10-11:30am)
URL:https://stoughtoncc.com/event/4h-air-and-22-pistol/2026-05-23/
LOCATION:Pistol Range
ORGANIZER;CN="Shawn Cannon":MAILTO:shawndeannacannon@gmail.com
END:VEVENT
END:VCALENDAR