BEGIN:VCALENDAR
VERSION:2.0
PRODID:-//Stoughton Conservation Club - ECPv6.15.20//NONSGML v1.0//EN
CALSCALE:GREGORIAN
METHOD:PUBLISH
X-WR-CALNAME:Stoughton Conservation Club
X-ORIGINAL-URL:https://stoughtoncc.com
X-WR-CALDESC:Events for Stoughton Conservation Club
REFRESH-INTERVAL;VALUE=DURATION:PT1H
X-Robots-Tag:noindex
X-PUBLISHED-TTL:PT1H
BEGIN:VTIMEZONE
TZID:America/Chicago
BEGIN:DAYLIGHT
TZOFFSETFROM:-0600
TZOFFSETTO:-0500
TZNAME:CDT
DTSTART:20250309T080000
END:DAYLIGHT
BEGIN:STANDARD
TZOFFSETFROM:-0500
TZOFFSETTO:-0600
TZNAME:CST
DTSTART:20251102T070000
END:STANDARD
BEGIN:DAYLIGHT
TZOFFSETFROM:-0600
TZOFFSETTO:-0500
TZNAME:CDT
DTSTART:20260308T080000
END:DAYLIGHT
BEGIN:STANDARD
TZOFFSETFROM:-0500
TZOFFSETTO:-0600
TZNAME:CST
DTSTART:20261101T070000
END:STANDARD
BEGIN:DAYLIGHT
TZOFFSETFROM:-0600
TZOFFSETTO:-0500
TZNAME:CDT
DTSTART:20270314T080000
END:DAYLIGHT
BEGIN:STANDARD
TZOFFSETFROM:-0500
TZOFFSETTO:-0600
TZNAME:CST
DTSTART:20271107T070000
END:STANDARD
END:VTIMEZONE
BEGIN:VEVENT
DTSTART;TZID=America/Chicago:20260419T090000
DTEND;TZID=America/Chicago:20260419T140000
DTSTAMP:20260423T110656
CREATED:20250905T132306Z
LAST-MODIFIED:20250905T132306Z
UID:10004929-1776589200-1776607200@stoughtoncc.com
SUMMARY:VLS Trap/Skeet Practice
DESCRIPTION:
URL:https://stoughtoncc.com/event/vls-trap-skeet-practice/2026-04-19/
LOCATION:Trap & Skeet Fields
ORGANIZER;CN="Kevin Kettner":MAILTO:kkettner@gmail.com
END:VEVENT
BEGIN:VEVENT
DTSTART;TZID=America/Chicago:20260420T080000
DTEND;TZID=America/Chicago:20260420T110000
DTSTAMP:20260423T110656
CREATED:20241210T180811Z
LAST-MODIFIED:20250508T035024Z
UID:10004110-1776672000-1776682800@stoughtoncc.com
SUMMARY:Monday Morning Trap/Skeet
DESCRIPTION:Open trap and skeet for members. Come\, shoot\, drink coffee.
URL:https://stoughtoncc.com/event/monday-morning-trap-skeet/2026-04-20/
LOCATION:Trap & Skeet Fields
END:VEVENT
BEGIN:VEVENT
DTSTART;TZID=America/Chicago:20260420T180000
DTEND;TZID=America/Chicago:20260420T200000
DTSTAMP:20260423T110656
CREATED:20250106T214248Z
LAST-MODIFIED:20250106T230443Z
UID:10004529-1776708000-1776715200@stoughtoncc.com
SUMMARY:S3DA Archery
DESCRIPTION:
URL:https://stoughtoncc.com/event/s3da-2/2026-04-20/
LOCATION:Indoor Archery Range
ORGANIZER;CN="Dave Rynes":MAILTO:blackdogdr@gmail.com
END:VEVENT
BEGIN:VEVENT
DTSTART;TZID=America/Chicago:20260421T050000
DTEND;TZID=America/Chicago:20260421T210000
DTSTAMP:20260423T110656
CREATED:20260324T224429Z
LAST-MODIFIED:20260324T224429Z
UID:10005123-1776747600-1776805200@stoughtoncc.com
SUMMARY:3D Archery League - 2026
DESCRIPTION:
URL:https://stoughtoncc.com/event/3d-archery-league-2026/2026-04-21/
LOCATION:Woods Trail Archery Course\, WI
ORGANIZER;CN="Dave Rynes":MAILTO:blackdogdr@gmail.com
END:VEVENT
BEGIN:VEVENT
DTSTART;TZID=America/Chicago:20260423T180000
DTEND;TZID=America/Chicago:20260423T203000
DTSTAMP:20260423T110656
CREATED:20251209T052117Z
LAST-MODIFIED:20251209T052117Z
UID:10005063-1776967200-1776976200@stoughtoncc.com
SUMMARY:Trap League Practice Night
DESCRIPTION:
URL:https://stoughtoncc.com/event/trap-league-practice-night-2/2026-04-23/
LOCATION:Main Clubhouse
ORGANIZER;CN="Kevin Kettner":MAILTO:kkettner@gmail.com
END:VEVENT
BEGIN:VEVENT
DTSTART;TZID=America/Chicago:20260425T080000
DTEND;TZID=America/Chicago:20260425T120000
DTSTAMP:20260423T110656
CREATED:20251209T051202Z
LAST-MODIFIED:20251209T052220Z
UID:10005053-1777104000-1777118400@stoughtoncc.com
SUMMARY:4H Pistol
DESCRIPTION:Air Pistol (8:30-10:00am) and .22 Pistol (10-11:30am)
URL:https://stoughtoncc.com/event/4h-air-and-22-pistol/2026-04-25/
LOCATION:Pistol Range
ORGANIZER;CN="Shawn Cannon":MAILTO:shawndeannacannon@gmail.com
END:VEVENT
END:VCALENDAR