BEGIN:VCALENDAR
VERSION:2.0
PRODID:-//Stoughton Conservation Club - ECPv6.15.20//NONSGML v1.0//EN
CALSCALE:GREGORIAN
METHOD:PUBLISH
X-ORIGINAL-URL:https://stoughtoncc.com
X-WR-CALDESC:Events for Stoughton Conservation Club
REFRESH-INTERVAL;VALUE=DURATION:PT1H
X-Robots-Tag:noindex
X-PUBLISHED-TTL:PT1H
BEGIN:VTIMEZONE
TZID:America/Chicago
BEGIN:DAYLIGHT
TZOFFSETFROM:-0600
TZOFFSETTO:-0500
TZNAME:CDT
DTSTART:20250309T080000
END:DAYLIGHT
BEGIN:STANDARD
TZOFFSETFROM:-0500
TZOFFSETTO:-0600
TZNAME:CST
DTSTART:20251102T070000
END:STANDARD
BEGIN:DAYLIGHT
TZOFFSETFROM:-0600
TZOFFSETTO:-0500
TZNAME:CDT
DTSTART:20260308T080000
END:DAYLIGHT
BEGIN:STANDARD
TZOFFSETFROM:-0500
TZOFFSETTO:-0600
TZNAME:CST
DTSTART:20261101T070000
END:STANDARD
BEGIN:DAYLIGHT
TZOFFSETFROM:-0600
TZOFFSETTO:-0500
TZNAME:CDT
DTSTART:20270314T080000
END:DAYLIGHT
BEGIN:STANDARD
TZOFFSETFROM:-0500
TZOFFSETTO:-0600
TZNAME:CST
DTSTART:20271107T070000
END:STANDARD
END:VTIMEZONE
BEGIN:VEVENT
DTSTART;TZID=America/Chicago:20260406T080000
DTEND;TZID=America/Chicago:20260406T110000
DTSTAMP:20260423T122432
CREATED:20241210T180811Z
LAST-MODIFIED:20250508T035024Z
UID:10004108-1775462400-1775473200@stoughtoncc.com
SUMMARY:Monday Morning Trap/Skeet
DESCRIPTION:Open trap and skeet for members. Come\, shoot\, drink coffee.
URL:https://stoughtoncc.com/event/monday-morning-trap-skeet/2026-04-06/
LOCATION:Trap & Skeet Fields
END:VEVENT
BEGIN:VEVENT
DTSTART;TZID=America/Chicago:20260406T180000
DTEND;TZID=America/Chicago:20260406T200000
DTSTAMP:20260423T122432
CREATED:20250106T214651Z
LAST-MODIFIED:20250106T230453Z
UID:10004610-1775498400-1775505600@stoughtoncc.com
SUMMARY:S3DA Archery
DESCRIPTION:
URL:https://stoughtoncc.com/event/s3da/2026-04-06/
LOCATION:Indoor Archery Range
ORGANIZER;CN="Dave Rynes":MAILTO:blackdogdr@gmail.com
END:VEVENT
BEGIN:VEVENT
DTSTART;TZID=America/Chicago:20260406T183000
DTEND;TZID=America/Chicago:20260406T213000
DTSTAMP:20260423T122432
CREATED:20260331T132624Z
LAST-MODIFIED:20260331T132624Z
UID:10005131-1775500200-1775511000@stoughtoncc.com
SUMMARY:Pistol Range Cleaning
DESCRIPTION:The Indoor Pistol Range will be closed on Monday\, April 6 at 6:30 PM for cleaning. It will reopen Tuesday morning. \nVolunteer help is needed. Just show up between 6 and 6:30 and talk to Merlin.
URL:https://stoughtoncc.com/event/pistol-range-cleaning-2/
LOCATION:Pistol Range
ORGANIZER;CN="Merlin Kotajarvi":MAILTO:merlinkotajarvi@gmail.com
END:VEVENT
BEGIN:VEVENT
DTSTART;TZID=America/Chicago:20260407T050000
DTEND;TZID=America/Chicago:20260407T210000
DTSTAMP:20260423T122432
CREATED:20260324T224429Z
LAST-MODIFIED:20260324T224429Z
UID:10005121-1775538000-1775595600@stoughtoncc.com
SUMMARY:3D Archery League - 2026
DESCRIPTION:
URL:https://stoughtoncc.com/event/3d-archery-league-2026/2026-04-07/
LOCATION:Woods Trail Archery Course\, WI
ORGANIZER;CN="Dave Rynes":MAILTO:blackdogdr@gmail.com
END:VEVENT
BEGIN:VEVENT
DTSTART;TZID=America/Chicago:20260407T170000
DTEND;TZID=America/Chicago:20260407T210000
DTSTAMP:20260423T122432
CREATED:20251209T051909Z
LAST-MODIFIED:20260326T050856Z
UID:10005130-1775581200-1775595600@stoughtoncc.com
SUMMARY:4H Air/22 Rifle
DESCRIPTION:The 4H Shooting Sports program will use the indoor pistol range to shoot air rifles.
URL:https://stoughtoncc.com/event/4h-air-rifle-2/2026-04-07/
LOCATION:Pistol Range
ORGANIZER;CN="Shawn Cannon":MAILTO:shawndeannacannon@gmail.com
END:VEVENT
BEGIN:VEVENT
DTSTART;TZID=America/Chicago:20260409T170000
DTEND;TZID=America/Chicago:20260409T213000
DTSTAMP:20260423T122432
CREATED:20260409T132522Z
LAST-MODIFIED:20260409T132522Z
UID:10005134-1775754000-1775770200@stoughtoncc.com
SUMMARY:Pistol League Fun Night
DESCRIPTION:The Rimfire Pistol League will be using the main clubhouse and indoor archery range for their banquet. They will use the pistol range until around 6:30 or so for the fun night shoot.
URL:https://stoughtoncc.com/event/pistol-league-fun-night/
LOCATION:Main Clubhouse
ORGANIZER;CN="Kevin Kettner":MAILTO:kkettner@gmail.com
END:VEVENT
BEGIN:VEVENT
DTSTART;TZID=America/Chicago:20260409T173000
DTEND;TZID=America/Chicago:20260409T213000
DTSTAMP:20260423T122432
CREATED:20250903T193444Z
LAST-MODIFIED:20250903T193444Z
UID:10004907-1775755800-1775770200@stoughtoncc.com
SUMMARY:Rimfire Pistol League - 2026
DESCRIPTION:
URL:https://stoughtoncc.com/event/rimfire-pistol-league-2026/2026-04-09/
END:VEVENT
BEGIN:VEVENT
DTSTART;TZID=America/Chicago:20260411T080000
DTEND;TZID=America/Chicago:20260411T120000
DTSTAMP:20260423T122432
CREATED:20251209T051202Z
LAST-MODIFIED:20251209T052220Z
UID:10005052-1775894400-1775908800@stoughtoncc.com
SUMMARY:4H Pistol
DESCRIPTION:Air Pistol (8:30-10:00am) and .22 Pistol (10-11:30am)
URL:https://stoughtoncc.com/event/4h-air-and-22-pistol/2026-04-11/
LOCATION:Pistol Range
ORGANIZER;CN="Shawn Cannon":MAILTO:shawndeannacannon@gmail.com
END:VEVENT
BEGIN:VEVENT
DTSTART;TZID=America/Chicago:20260411T160000
DTEND;TZID=America/Chicago:20260411T230000
DTSTAMP:20260423T122432
CREATED:20260310T154805Z
LAST-MODIFIED:20260310T154805Z
UID:10005117-1775923200-1775948400@stoughtoncc.com
SUMMARY:Indoor Archery Banquet
DESCRIPTION:
URL:https://stoughtoncc.com/event/indoor-archery-banquet/
LOCATION:Indoor Archery Range
ORGANIZER;CN="Roger Kluever":MAILTO:07harley89@gmail.com
END:VEVENT
END:VCALENDAR