BEGIN:VCALENDAR
VERSION:2.0
PRODID:-//Stoughton Conservation Club - ECPv6.15.20//NONSGML v1.0//EN
CALSCALE:GREGORIAN
METHOD:PUBLISH
X-ORIGINAL-URL:https://stoughtoncc.com
X-WR-CALDESC:Events for Stoughton Conservation Club
REFRESH-INTERVAL;VALUE=DURATION:PT1H
X-Robots-Tag:noindex
X-PUBLISHED-TTL:PT1H
BEGIN:VTIMEZONE
TZID:America/Chicago
BEGIN:DAYLIGHT
TZOFFSETFROM:-0600
TZOFFSETTO:-0500
TZNAME:CDT
DTSTART:20250309T080000
END:DAYLIGHT
BEGIN:STANDARD
TZOFFSETFROM:-0500
TZOFFSETTO:-0600
TZNAME:CST
DTSTART:20251102T070000
END:STANDARD
BEGIN:DAYLIGHT
TZOFFSETFROM:-0600
TZOFFSETTO:-0500
TZNAME:CDT
DTSTART:20260308T080000
END:DAYLIGHT
BEGIN:STANDARD
TZOFFSETFROM:-0500
TZOFFSETTO:-0600
TZNAME:CST
DTSTART:20261101T070000
END:STANDARD
BEGIN:DAYLIGHT
TZOFFSETFROM:-0600
TZOFFSETTO:-0500
TZNAME:CDT
DTSTART:20270314T080000
END:DAYLIGHT
BEGIN:STANDARD
TZOFFSETFROM:-0500
TZOFFSETTO:-0600
TZNAME:CST
DTSTART:20271107T070000
END:STANDARD
END:VTIMEZONE
BEGIN:VEVENT
DTSTART;TZID=America/Chicago:20260202T080000
DTEND;TZID=America/Chicago:20260202T110000
DTSTAMP:20260423T133444
CREATED:20241210T180811Z
LAST-MODIFIED:20250508T035024Z
UID:10004099-1770019200-1770030000@stoughtoncc.com
SUMMARY:Monday Morning Trap/Skeet
DESCRIPTION:Open trap and skeet for members. Come\, shoot\, drink coffee.
URL:https://stoughtoncc.com/event/monday-morning-trap-skeet/2026-02-02/
LOCATION:Trap & Skeet Fields
END:VEVENT
BEGIN:VEVENT
DTSTART;TZID=America/Chicago:20260202T180000
DTEND;TZID=America/Chicago:20260202T200000
DTSTAMP:20260423T133444
CREATED:20250106T214651Z
LAST-MODIFIED:20250106T230453Z
UID:10004608-1770055200-1770062400@stoughtoncc.com
SUMMARY:S3DA Archery
DESCRIPTION:
URL:https://stoughtoncc.com/event/s3da/2026-02-02/
LOCATION:Indoor Archery Range
ORGANIZER;CN="Dave Rynes":MAILTO:blackdogdr@gmail.com
END:VEVENT
BEGIN:VEVENT
DTSTART;TZID=America/Chicago:20260203T173000
DTEND;TZID=America/Chicago:20260203T223000
DTSTAMP:20260423T133444
CREATED:20251029T174859Z
LAST-MODIFIED:20251029T174859Z
UID:10004973-1770139800-1770157800@stoughtoncc.com
SUMMARY:Indoor Archery League - 2026
DESCRIPTION:
URL:https://stoughtoncc.com/event/indoor-archery-league-2026/2026-02-03/
LOCATION:Indoor Archery Range
ORGANIZER;CN="Roger Kluever":MAILTO:07harley89@gmail.com
END:VEVENT
BEGIN:VEVENT
DTSTART;TZID=America/Chicago:20260204T173000
DTEND;TZID=America/Chicago:20260204T213000
DTSTAMP:20260423T133444
CREATED:20260120T144016Z
LAST-MODIFIED:20260212T003807Z
UID:10005102-1770226200-1770240600@stoughtoncc.com
SUMMARY:Black Sheep Pistol League - 2026
DESCRIPTION:
URL:https://stoughtoncc.com/event/black-sheep-pistol-league-2026/2026-02-04/
LOCATION:Pistol Range
END:VEVENT
BEGIN:VEVENT
DTSTART;TZID=America/Chicago:20260204T173000
DTEND;TZID=America/Chicago:20260204T223000
DTSTAMP:20260423T133444
CREATED:20251029T174859Z
LAST-MODIFIED:20251029T174859Z
UID:10004974-1770226200-1770244200@stoughtoncc.com
SUMMARY:Indoor Archery League - 2026
DESCRIPTION:
URL:https://stoughtoncc.com/event/indoor-archery-league-2026/2026-02-04/
LOCATION:Indoor Archery Range
ORGANIZER;CN="Roger Kluever":MAILTO:07harley89@gmail.com
END:VEVENT
BEGIN:VEVENT
DTSTART;TZID=America/Chicago:20260205T173000
DTEND;TZID=America/Chicago:20260205T213000
DTSTAMP:20260423T133444
CREATED:20250903T193444Z
LAST-MODIFIED:20250903T193444Z
UID:10004898-1770312600-1770327000@stoughtoncc.com
SUMMARY:Rimfire Pistol League - 2026
DESCRIPTION:
URL:https://stoughtoncc.com/event/rimfire-pistol-league-2026/2026-02-05/
END:VEVENT
BEGIN:VEVENT
DTSTART;TZID=America/Chicago:20260207T073000
DTEND;TZID=America/Chicago:20260207T121500
DTSTAMP:20260423T133444
CREATED:20250905T132542Z
LAST-MODIFIED:20251205T161537Z
UID:10005017-1770449400-1770466500@stoughtoncc.com
SUMMARY:Youth Instructional Archery
DESCRIPTION:
URL:https://stoughtoncc.com/event/youth-instructional-archery/2026-02-07/
LOCATION:Indoor Archery Range
ORGANIZER;CN="Dustin Thoren":MAILTO:dustin.thoren@gmail.com
END:VEVENT
BEGIN:VEVENT
DTSTART;TZID=America/Chicago:20260207T121500
DTEND;TZID=America/Chicago:20260207T150000
DTSTAMP:20260423T133444
CREATED:20250905T132711Z
LAST-MODIFIED:20251205T161609Z
UID:10005006-1770466500-1770476400@stoughtoncc.com
SUMMARY:Youth Archery League
DESCRIPTION:
URL:https://stoughtoncc.com/event/youth-archery-league/2026-02-07/
LOCATION:Main Clubhouse
ORGANIZER;CN="Dustin Thoren":MAILTO:dustin.thoren@gmail.com
END:VEVENT
END:VCALENDAR