BEGIN:VCALENDAR
VERSION:2.0
PRODID:-//Stoughton Conservation Club - ECPv6.15.20//NONSGML v1.0//EN
CALSCALE:GREGORIAN
METHOD:PUBLISH
X-ORIGINAL-URL:https://stoughtoncc.com
X-WR-CALDESC:Events for Stoughton Conservation Club
REFRESH-INTERVAL;VALUE=DURATION:PT1H
X-Robots-Tag:noindex
X-PUBLISHED-TTL:PT1H
BEGIN:VTIMEZONE
TZID:America/Chicago
BEGIN:DAYLIGHT
TZOFFSETFROM:-0600
TZOFFSETTO:-0500
TZNAME:CDT
DTSTART:20240310T080000
END:DAYLIGHT
BEGIN:STANDARD
TZOFFSETFROM:-0500
TZOFFSETTO:-0600
TZNAME:CST
DTSTART:20241103T070000
END:STANDARD
BEGIN:DAYLIGHT
TZOFFSETFROM:-0600
TZOFFSETTO:-0500
TZNAME:CDT
DTSTART:20250309T080000
END:DAYLIGHT
BEGIN:STANDARD
TZOFFSETFROM:-0500
TZOFFSETTO:-0600
TZNAME:CST
DTSTART:20251102T070000
END:STANDARD
BEGIN:DAYLIGHT
TZOFFSETFROM:-0600
TZOFFSETTO:-0500
TZNAME:CDT
DTSTART:20260308T080000
END:DAYLIGHT
BEGIN:STANDARD
TZOFFSETFROM:-0500
TZOFFSETTO:-0600
TZNAME:CST
DTSTART:20261101T070000
END:STANDARD
END:VTIMEZONE
BEGIN:VEVENT
DTSTART;TZID=America/Chicago:20251005T130000
DTEND;TZID=America/Chicago:20251005T150000
DTSTAMP:20260423T184052
CREATED:20250617T175813Z
LAST-MODIFIED:20250617T175813Z
UID:10004848-1759669200-1759676400@stoughtoncc.com
SUMMARY:MANA - Trap Shoot
DESCRIPTION:SCC will host the Madison Area Network of Amputees group. The group will try shooting trap or skeet.
URL:https://stoughtoncc.com/event/mana-trap-shoot/
LOCATION:Trap & Skeet Fields
ORGANIZER;CN="Kevin Kettner":MAILTO:kkettner@gmail.com
END:VEVENT
BEGIN:VEVENT
DTSTART;TZID=America/Chicago:20251006T080000
DTEND;TZID=America/Chicago:20251006T110000
DTSTAMP:20260423T184052
CREATED:20241210T180811Z
LAST-MODIFIED:20250508T035024Z
UID:10004082-1759737600-1759748400@stoughtoncc.com
SUMMARY:Monday Morning Trap/Skeet
DESCRIPTION:Open trap and skeet for members. Come\, shoot\, drink coffee.
URL:https://stoughtoncc.com/event/monday-morning-trap-skeet/2025-10-06/
LOCATION:Trap & Skeet Fields
END:VEVENT
BEGIN:VEVENT
DTSTART;TZID=America/Chicago:20251006T180000
DTEND;TZID=America/Chicago:20251006T200000
DTSTAMP:20260423T184052
CREATED:20250106T214651Z
LAST-MODIFIED:20250106T230453Z
UID:10004604-1759773600-1759780800@stoughtoncc.com
SUMMARY:S3DA Archery
DESCRIPTION:
URL:https://stoughtoncc.com/event/s3da/2025-10-06/
LOCATION:Indoor Archery Range
ORGANIZER;CN="Dave Rynes":MAILTO:blackdogdr@gmail.com
END:VEVENT
BEGIN:VEVENT
DTSTART;TZID=America/Chicago:20251008T173000
DTEND;TZID=America/Chicago:20251008T213000
DTSTAMP:20260423T184052
CREATED:20250812T025509Z
LAST-MODIFIED:20250812T025509Z
UID:10004859-1759944600-1759959000@stoughtoncc.com
SUMMARY:Black Sheep Pistol League
DESCRIPTION:
URL:https://stoughtoncc.com/event/black-sheep-pistol-league-2/2025-10-08/
LOCATION:Pistol Range
END:VEVENT
BEGIN:VEVENT
DTSTART;TZID=America/Chicago:20251009T173000
DTEND;TZID=America/Chicago:20251009T213000
DTSTAMP:20260423T184052
CREATED:20250430T222317Z
LAST-MODIFIED:20250508T034346Z
UID:10004733-1760031000-1760045400@stoughtoncc.com
SUMMARY:Centerfire Pistol League
DESCRIPTION:
URL:https://stoughtoncc.com/event/centerfire-pistol-league/2025-10-09/
LOCATION:Pistol Building
ORGANIZER;CN="Kevin Kettner":MAILTO:kkettner@gmail.com
END:VEVENT
BEGIN:VEVENT
DTSTART;TZID=America/Chicago:20251009T180000
DTEND;TZID=America/Chicago:20251009T220000
DTSTAMP:20260423T184052
CREATED:20250430T222608Z
LAST-MODIFIED:20250508T035219Z
UID:10004745-1760032800-1760047200@stoughtoncc.com
SUMMARY:Fall Trap League
DESCRIPTION:
URL:https://stoughtoncc.com/event/fall-trap-league/2025-10-09/
LOCATION:Trap & Skeet Fields
ORGANIZER;CN="Kevin Kettner":MAILTO:kkettner@gmail.com
END:VEVENT
END:VCALENDAR