BEGIN:VCALENDAR
VERSION:2.0
PRODID:-//Stoughton Conservation Club - ECPv6.15.20//NONSGML v1.0//EN
CALSCALE:GREGORIAN
METHOD:PUBLISH
X-ORIGINAL-URL:https://stoughtoncc.com
X-WR-CALDESC:Events for Stoughton Conservation Club
REFRESH-INTERVAL;VALUE=DURATION:PT1H
X-Robots-Tag:noindex
X-PUBLISHED-TTL:PT1H
BEGIN:VTIMEZONE
TZID:America/Chicago
BEGIN:DAYLIGHT
TZOFFSETFROM:-0600
TZOFFSETTO:-0500
TZNAME:CDT
DTSTART:20240310T080000
END:DAYLIGHT
BEGIN:STANDARD
TZOFFSETFROM:-0500
TZOFFSETTO:-0600
TZNAME:CST
DTSTART:20241103T070000
END:STANDARD
BEGIN:DAYLIGHT
TZOFFSETFROM:-0600
TZOFFSETTO:-0500
TZNAME:CDT
DTSTART:20250309T080000
END:DAYLIGHT
BEGIN:STANDARD
TZOFFSETFROM:-0500
TZOFFSETTO:-0600
TZNAME:CST
DTSTART:20251102T070000
END:STANDARD
BEGIN:DAYLIGHT
TZOFFSETFROM:-0600
TZOFFSETTO:-0500
TZNAME:CDT
DTSTART:20260308T080000
END:DAYLIGHT
BEGIN:STANDARD
TZOFFSETFROM:-0500
TZOFFSETTO:-0600
TZNAME:CST
DTSTART:20261101T070000
END:STANDARD
END:VTIMEZONE
BEGIN:VEVENT
DTSTART;TZID=America/Chicago:20250525T090000
DTEND;TZID=America/Chicago:20250525T140000
DTSTAMP:20260424T011431
CREATED:20241102T215509Z
LAST-MODIFIED:20250610T203144Z
UID:10003838-1748163600-1748181600@stoughtoncc.com
SUMMARY:VLS Practice
DESCRIPTION:Trap and Skeet Fields will be closed for Viking Lead Slingers Youth Trap/Skeet practice.
URL:https://stoughtoncc.com/event/vls-practice-2/2025-05-25/
LOCATION:Trap & Skeet Fields
ORGANIZER;CN="Kevin Kettner":MAILTO:kkettner@gmail.com
END:VEVENT
BEGIN:VEVENT
DTSTART;TZID=America/Chicago:20250526T080000
DTEND;TZID=America/Chicago:20250526T110000
DTSTAMP:20260424T011431
CREATED:20241210T180811Z
LAST-MODIFIED:20250508T035024Z
UID:10004063-1748246400-1748257200@stoughtoncc.com
SUMMARY:Monday Morning Trap/Skeet
DESCRIPTION:Open trap and skeet for members. Come\, shoot\, drink coffee.
URL:https://stoughtoncc.com/event/monday-morning-trap-skeet/2025-05-26/
LOCATION:Trap & Skeet Fields
END:VEVENT
BEGIN:VEVENT
DTSTART;TZID=America/Chicago:20250527T190000
DTEND;TZID=America/Chicago:20250527T210000
DTSTAMP:20260424T011431
CREATED:20250521T042624Z
LAST-MODIFIED:20250521T042624Z
UID:10004841-1748372400-1748379600@stoughtoncc.com
SUMMARY:Board of Directors Meeting
DESCRIPTION:
URL:https://stoughtoncc.com/event/board-of-directors-meeting-3/
LOCATION:Main Clubhouse
END:VEVENT
BEGIN:VEVENT
DTSTART;TZID=America/Chicago:20250528T180000
DTEND;TZID=America/Chicago:20250528T213000
DTSTAMP:20260424T011431
CREATED:20250401T200213Z
LAST-MODIFIED:20250508T033951Z
UID:10004701-1748455200-1748467800@stoughtoncc.com
SUMMARY:Black Sheep Pistol League
DESCRIPTION:
URL:https://stoughtoncc.com/event/black-sheep-pistol-league/2025-05-28/
LOCATION:Pistol Building
END:VEVENT
BEGIN:VEVENT
DTSTART;TZID=America/Chicago:20250529T173000
DTEND;TZID=America/Chicago:20250529T223000
DTSTAMP:20260424T011431
CREATED:20241106T233617Z
LAST-MODIFIED:20250508T035011Z
UID:10003866-1748539800-1748557800@stoughtoncc.com
SUMMARY:Summer Trap League
DESCRIPTION:
URL:https://stoughtoncc.com/event/2025-summer-trap-league/2025-05-29/
LOCATION:Trap & Skeet Fields
ORGANIZER;CN="Kevin Kettner":MAILTO:kkettner@gmail.com
END:VEVENT
END:VCALENDAR