BEGIN:VCALENDAR
VERSION:2.0
PRODID:-//Stoughton Conservation Club - ECPv6.15.20//NONSGML v1.0//EN
CALSCALE:GREGORIAN
METHOD:PUBLISH
X-ORIGINAL-URL:https://stoughtoncc.com
X-WR-CALDESC:Events for Stoughton Conservation Club
REFRESH-INTERVAL;VALUE=DURATION:PT1H
X-Robots-Tag:noindex
X-PUBLISHED-TTL:PT1H
BEGIN:VTIMEZONE
TZID:America/Chicago
BEGIN:DAYLIGHT
TZOFFSETFROM:-0600
TZOFFSETTO:-0500
TZNAME:CDT
DTSTART:20240310T080000
END:DAYLIGHT
BEGIN:STANDARD
TZOFFSETFROM:-0500
TZOFFSETTO:-0600
TZNAME:CST
DTSTART:20241103T070000
END:STANDARD
BEGIN:DAYLIGHT
TZOFFSETFROM:-0600
TZOFFSETTO:-0500
TZNAME:CDT
DTSTART:20250309T080000
END:DAYLIGHT
BEGIN:STANDARD
TZOFFSETFROM:-0500
TZOFFSETTO:-0600
TZNAME:CST
DTSTART:20251102T070000
END:STANDARD
BEGIN:DAYLIGHT
TZOFFSETFROM:-0600
TZOFFSETTO:-0500
TZNAME:CDT
DTSTART:20260308T080000
END:DAYLIGHT
BEGIN:STANDARD
TZOFFSETFROM:-0500
TZOFFSETTO:-0600
TZNAME:CST
DTSTART:20261101T070000
END:STANDARD
END:VTIMEZONE
BEGIN:VEVENT
DTSTART;TZID=America/Chicago:20250420T090000
DTEND;TZID=America/Chicago:20250420T140000
DTSTAMP:20260424T022600
CREATED:20241102T215509Z
LAST-MODIFIED:20250610T203144Z
UID:10003833-1745139600-1745157600@stoughtoncc.com
SUMMARY:VLS Practice
DESCRIPTION:Trap and Skeet Fields will be closed for Viking Lead Slingers Youth Trap/Skeet practice.
URL:https://stoughtoncc.com/event/vls-practice-2/2025-04-20/
LOCATION:Trap & Skeet Fields
ORGANIZER;CN="Kevin Kettner":MAILTO:kkettner@gmail.com
END:VEVENT
BEGIN:VEVENT
DTSTART;TZID=America/Chicago:20250421T080000
DTEND;TZID=America/Chicago:20250421T110000
DTSTAMP:20260424T022600
CREATED:20241210T180811Z
LAST-MODIFIED:20250508T035024Z
UID:10004058-1745222400-1745233200@stoughtoncc.com
SUMMARY:Monday Morning Trap/Skeet
DESCRIPTION:Open trap and skeet for members. Come\, shoot\, drink coffee.
URL:https://stoughtoncc.com/event/monday-morning-trap-skeet/2025-04-21/
LOCATION:Trap & Skeet Fields
END:VEVENT
BEGIN:VEVENT
DTSTART;TZID=America/Chicago:20250421T180000
DTEND;TZID=America/Chicago:20250421T200000
DTSTAMP:20260424T022600
CREATED:20250106T214248Z
LAST-MODIFIED:20250106T230443Z
UID:10004517-1745258400-1745265600@stoughtoncc.com
SUMMARY:S3DA Archery
DESCRIPTION:
URL:https://stoughtoncc.com/event/s3da-2/2025-04-21/
LOCATION:Indoor Archery Range
ORGANIZER;CN="Dave Rynes":MAILTO:blackdogdr@gmail.com
END:VEVENT
BEGIN:VEVENT
DTSTART;TZID=America/Chicago:20250422T170000
DTEND;TZID=America/Chicago:20250422T200000
DTSTAMP:20260424T022600
CREATED:20241213T034344Z
LAST-MODIFIED:20241213T034344Z
UID:10004444-1745341200-1745352000@stoughtoncc.com
SUMMARY:4H Air Rifle
DESCRIPTION:4H will use the Indoor Pistol Range.
URL:https://stoughtoncc.com/event/4h-air-rifle/2025-04-22/
ORGANIZER;CN="Chad Xander":MAILTO:cmxander70@gmail.com
END:VEVENT
BEGIN:VEVENT
DTSTART;TZID=America/Chicago:20250423T170000
DTEND;TZID=America/Chicago:20250423T210000
DTSTAMP:20260424T022600
CREATED:20250401T200055Z
LAST-MODIFIED:20250508T035359Z
UID:10004689-1745427600-1745442000@stoughtoncc.com
SUMMARY:3D Archery League
DESCRIPTION:
URL:https://stoughtoncc.com/event/3d-archery-league/2025-04-23/
LOCATION:Pistol Building
ORGANIZER;CN="Dave Rynes":MAILTO:blackdogdr@gmail.com
END:VEVENT
BEGIN:VEVENT
DTSTART;TZID=America/Chicago:20250423T180000
DTEND;TZID=America/Chicago:20250423T213000
DTSTAMP:20260424T022600
CREATED:20250401T200213Z
LAST-MODIFIED:20250508T033951Z
UID:10004696-1745431200-1745443800@stoughtoncc.com
SUMMARY:Black Sheep Pistol League
DESCRIPTION:
URL:https://stoughtoncc.com/event/black-sheep-pistol-league/2025-04-23/
LOCATION:Pistol Building
END:VEVENT
BEGIN:VEVENT
DTSTART;TZID=America/Chicago:20250424T080000
DTEND;TZID=America/Chicago:20250424T170000
DTSTAMP:20260424T022600
CREATED:20250419T014030Z
LAST-MODIFIED:20250419T014030Z
UID:10004720-1745481600-1745514000@stoughtoncc.com
SUMMARY:Spring Cleaning - Clubhouse Closed
DESCRIPTION:Our cleaning service will be doing deep cleaning at the main clubhouse. \nThe clubhouse and indoor archery range will be closed from 8:00 AM-5:00 PM on April 24 and 25.
URL:https://stoughtoncc.com/event/spring-cleaning-clubhouse-closed/2025-04-24/
ATTACH;FMTTYPE=image/jpeg:https://stoughtoncc.com/wp-content/uploads/2024/04/Spring-Cleaning.jpg
END:VEVENT
BEGIN:VEVENT
DTSTART;TZID=America/Chicago:20250424T173000
DTEND;TZID=America/Chicago:20250424T220000
DTSTAMP:20260424T022600
CREATED:20250107T215142Z
LAST-MODIFIED:20250107T215142Z
UID:10004662-1745515800-1745532000@stoughtoncc.com
SUMMARY:Trap League Practice Night
DESCRIPTION:
URL:https://stoughtoncc.com/event/trap-league-practice-night/2025-04-24/
END:VEVENT
BEGIN:VEVENT
DTSTART;TZID=America/Chicago:20250425T080000
DTEND;TZID=America/Chicago:20250425T170000
DTSTAMP:20260424T022600
CREATED:20250419T014030Z
LAST-MODIFIED:20250419T014030Z
UID:10004721-1745568000-1745600400@stoughtoncc.com
SUMMARY:Spring Cleaning - Clubhouse Closed
DESCRIPTION:Our cleaning service will be doing deep cleaning at the main clubhouse. \nThe clubhouse and indoor archery range will be closed from 8:00 AM-5:00 PM on April 24 and 25.
URL:https://stoughtoncc.com/event/spring-cleaning-clubhouse-closed/2025-04-25/
ATTACH;FMTTYPE=image/jpeg:https://stoughtoncc.com/wp-content/uploads/2024/04/Spring-Cleaning.jpg
END:VEVENT
BEGIN:VEVENT
DTSTART;TZID=America/Chicago:20250425T120000
DTEND;TZID=America/Chicago:20250425T210000
DTSTAMP:20260424T022600
CREATED:20250124T065120Z
LAST-MODIFIED:20250124T065120Z
UID:10004669-1745582400-1745614800@stoughtoncc.com
SUMMARY:HHA 3D Archery Shoot Setup
DESCRIPTION:
URL:https://stoughtoncc.com/event/hha-3d-archery-shoot-setup/
ORGANIZER;CN="Dave Rynes":MAILTO:blackdogdr@gmail.com
END:VEVENT
BEGIN:VEVENT
DTSTART;TZID=America/Chicago:20250426T070000
DTEND;TZID=America/Chicago:20250426T200000
DTSTAMP:20260424T022600
CREATED:20250124T064921Z
LAST-MODIFIED:20250124T064921Z
UID:10004668-1745650800-1745697600@stoughtoncc.com
SUMMARY:HHA 3D Archery Shoot
DESCRIPTION:This is a 3D archery shoot benefiting veterans. \nWe will reserve the full facility and shut down all gun ranges for the day to accommodate veterans who may be sensitive to gun shots.
URL:https://stoughtoncc.com/event/hha-3d-archery-shoot/
LOCATION:Whole SCC Facility
ORGANIZER;CN="Dave Rynes":MAILTO:blackdogdr@gmail.com
END:VEVENT
END:VCALENDAR