BEGIN:VCALENDAR
VERSION:2.0
PRODID:-//Stoughton Conservation Club - ECPv6.15.20//NONSGML v1.0//EN
CALSCALE:GREGORIAN
METHOD:PUBLISH
X-WR-CALNAME:Stoughton Conservation Club
X-ORIGINAL-URL:https://stoughtoncc.com
X-WR-CALDESC:Events for Stoughton Conservation Club
REFRESH-INTERVAL;VALUE=DURATION:PT1H
X-Robots-Tag:noindex
X-PUBLISHED-TTL:PT1H
BEGIN:VTIMEZONE
TZID:America/Chicago
BEGIN:DAYLIGHT
TZOFFSETFROM:-0600
TZOFFSETTO:-0500
TZNAME:CDT
DTSTART:20240310T080000
END:DAYLIGHT
BEGIN:STANDARD
TZOFFSETFROM:-0500
TZOFFSETTO:-0600
TZNAME:CST
DTSTART:20241103T070000
END:STANDARD
BEGIN:DAYLIGHT
TZOFFSETFROM:-0600
TZOFFSETTO:-0500
TZNAME:CDT
DTSTART:20250309T080000
END:DAYLIGHT
BEGIN:STANDARD
TZOFFSETFROM:-0500
TZOFFSETTO:-0600
TZNAME:CST
DTSTART:20251102T070000
END:STANDARD
BEGIN:DAYLIGHT
TZOFFSETFROM:-0600
TZOFFSETTO:-0500
TZNAME:CDT
DTSTART:20260308T080000
END:DAYLIGHT
BEGIN:STANDARD
TZOFFSETFROM:-0500
TZOFFSETTO:-0600
TZNAME:CST
DTSTART:20261101T070000
END:STANDARD
END:VTIMEZONE
BEGIN:VEVENT
DTSTART;TZID=America/Chicago:20250209T100000
DTEND;TZID=America/Chicago:20250209T113000
DTSTAMP:20260424T061853
CREATED:20250202T014143Z
LAST-MODIFIED:20250202T014143Z
UID:10004673-1739095200-1739100600@stoughtoncc.com
SUMMARY:VLS Coaches Meeting
DESCRIPTION:
URL:https://stoughtoncc.com/event/vls-coaches-meeting/
LOCATION:Main Clubhouse
END:VEVENT
BEGIN:VEVENT
DTSTART;TZID=America/Chicago:20250209T130000
DTEND;TZID=America/Chicago:20250209T150000
DTSTAMP:20260424T061853
CREATED:20241119T211422Z
LAST-MODIFIED:20260413T182358Z
UID:10004433-1739106000-1739113200@stoughtoncc.com
SUMMARY:Women's Open Pistol Shoot (Public)
DESCRIPTION:Dates:\nSunday\, May 10: 12-2pm – Cancelled due to Mother’s Day\nSunday\, June 14: 12-2pm\nSunday\, July 12: 12-2pm\nSunday\, August 9: 12-2pm\nSunday\, September 13: 12-2pm\nSunday\, October 11: 12-2pm\nSunday\, November 8: 12-2pm\n  \n\n\nOrganizer:\nMarla Waugh:  MarlaLFish@gmail.com\n\nDetails:\nWomen club members and non-members are welcome to attend the Women’s Open Shoot.  Event fee of $5 for non-members.  Cash only.\n\nBring your pistol\, ammo\, eye and ear protection\, and targets and come to the Women’s Open Shoot.  Meet other women club members or experience the club first hand!  A female NRA certified range safety officer and pistol instructor will be onsite during the Women’s Open Shoot for guidance if needed.\n\nNon-members do not need to accompany a member during these Women Open Shoot events. Special event fee of $5 for every non-member each shoot.
URL:https://stoughtoncc.com/event/womens-open-shoot/2025-02-09/
LOCATION:Pistol Building
ORGANIZER;CN="Marla Waugh":MAILTO:marlalfish@gmail.com
END:VEVENT
BEGIN:VEVENT
DTSTART;TZID=America/Chicago:20250210T080000
DTEND;TZID=America/Chicago:20250210T110000
DTSTAMP:20260424T061853
CREATED:20241210T180811Z
LAST-MODIFIED:20250508T035024Z
UID:10004048-1739174400-1739185200@stoughtoncc.com
SUMMARY:Monday Morning Trap/Skeet
DESCRIPTION:Open trap and skeet for members. Come\, shoot\, drink coffee.
URL:https://stoughtoncc.com/event/monday-morning-trap-skeet/2025-02-10/
LOCATION:Trap & Skeet Fields
END:VEVENT
BEGIN:VEVENT
DTSTART;TZID=America/Chicago:20250210T173000
DTEND;TZID=America/Chicago:20250210T190000
DTSTAMP:20260424T061853
CREATED:20241209T164257Z
LAST-MODIFIED:20250508T035832Z
UID:10004777-1739208600-1739214000@stoughtoncc.com
SUMMARY:Member Orientation - Indoor Archery Closed
DESCRIPTION:In-person orientation is required for new members\, and begins promptly at 6 PM before the monthly general membership meeting. \nOther membership situations can also be handled during this time. \nIndoor Archery will be CLOSED at 5:30 for setup.
URL:https://stoughtoncc.com/event/member-orientation/2025-02-10/
LOCATION:Main Clubhouse
END:VEVENT
BEGIN:VEVENT
DTSTART;TZID=America/Chicago:20250210T190000
DTEND;TZID=America/Chicago:20250210T200000
DTSTAMP:20260424T061853
CREATED:20241210T172441Z
LAST-MODIFIED:20241210T172441Z
UID:10003970-1739214000-1739217600@stoughtoncc.com
SUMMARY:Member Meeting
DESCRIPTION:
URL:https://stoughtoncc.com/event/member-meeting/2025-02-10/
LOCATION:Main Clubhouse
END:VEVENT
BEGIN:VEVENT
DTSTART;TZID=America/Chicago:20250211T180000
DTEND;TZID=America/Chicago:20250211T220000
DTSTAMP:20260424T061853
CREATED:20241213T030856Z
LAST-MODIFIED:20241213T034841Z
UID:10004312-1739296800-1739311200@stoughtoncc.com
SUMMARY:Indoor Archery League - 2025
DESCRIPTION:
URL:https://stoughtoncc.com/event/indoor-archery-league-2025/2025-02-11/
ORGANIZER;CN="Roger Kluever":MAILTO:07harley89@gmail.com
END:VEVENT
BEGIN:VEVENT
DTSTART;TZID=America/Chicago:20250212T180000
DTEND;TZID=America/Chicago:20250212T220000
DTSTAMP:20260424T061853
CREATED:20241213T030856Z
LAST-MODIFIED:20241213T034841Z
UID:10004313-1739383200-1739397600@stoughtoncc.com
SUMMARY:Indoor Archery League - 2025
DESCRIPTION:
URL:https://stoughtoncc.com/event/indoor-archery-league-2025/2025-02-12/
ORGANIZER;CN="Roger Kluever":MAILTO:07harley89@gmail.com
END:VEVENT
BEGIN:VEVENT
DTSTART;TZID=America/Chicago:20250213T173000
DTEND;TZID=America/Chicago:20250213T213000
DTSTAMP:20260424T061853
CREATED:20240812T223727Z
LAST-MODIFIED:20241210T172610Z
UID:10003762-1739467800-1739482200@stoughtoncc.com
SUMMARY:Rimfire Pistol League
DESCRIPTION:The first week is the setup meeting and practice night. Any new shooters should attend. The meeting is usually around 6:30. \nLeague scoring starts January 9th. \nLeague runs for 12 weeks. \nLeague Fun Night/Banquet is April 3\, 2025
URL:https://stoughtoncc.com/event/rimfire-pistol-league-2025/2025-02-13/
END:VEVENT
BEGIN:VEVENT
DTSTART;TZID=America/Chicago:20250215T080000
DTEND;TZID=America/Chicago:20250215T233000
DTSTAMP:20260424T061853
CREATED:20241002T191219Z
LAST-MODIFIED:20241213T032001Z
UID:10003809-1739606400-1739662200@stoughtoncc.com
SUMMARY:Youth Instructional Archery
DESCRIPTION:See here for info about the Youth Instructional Archery Program: \nhttps://stoughtoncc.com/youth-training/youth-instructional-archery-league/ \nNo youth archery on January 25th.
URL:https://stoughtoncc.com/event/youth-instructional-archery-2025/2025-02-15/
ORGANIZER;CN="Dustin Thoren":MAILTO:dustin.thoren@gmail.com
END:VEVENT
BEGIN:VEVENT
DTSTART;TZID=America/Chicago:20250215T113000
DTEND;TZID=America/Chicago:20250215T143000
DTSTAMP:20260424T061853
CREATED:20241002T191429Z
LAST-MODIFIED:20241213T032114Z
UID:10003820-1739619000-1739629800@stoughtoncc.com
SUMMARY:Youth Archery League
DESCRIPTION:For more information about Youth Archery League see here: \nhttps://stoughtoncc.com/leagues/archery-league/youth-archery/ \nNo youth archery league on January 25th.
URL:https://stoughtoncc.com/event/youth-archery-league-2/2025-02-15/
ORGANIZER;CN="Dustin Thoren":MAILTO:dustin.thoren@gmail.com
END:VEVENT
END:VCALENDAR