BEGIN:VCALENDAR
VERSION:2.0
PRODID:-//Stoughton Conservation Club - ECPv6.15.20//NONSGML v1.0//EN
CALSCALE:GREGORIAN
METHOD:PUBLISH
X-WR-CALNAME:Stoughton Conservation Club
X-ORIGINAL-URL:https://stoughtoncc.com
X-WR-CALDESC:Events for Stoughton Conservation Club
REFRESH-INTERVAL;VALUE=DURATION:PT1H
X-Robots-Tag:noindex
X-PUBLISHED-TTL:PT1H
BEGIN:VTIMEZONE
TZID:America/Chicago
BEGIN:DAYLIGHT
TZOFFSETFROM:-0600
TZOFFSETTO:-0500
TZNAME:CDT
DTSTART:20240310T080000
END:DAYLIGHT
BEGIN:STANDARD
TZOFFSETFROM:-0500
TZOFFSETTO:-0600
TZNAME:CST
DTSTART:20241103T070000
END:STANDARD
BEGIN:DAYLIGHT
TZOFFSETFROM:-0600
TZOFFSETTO:-0500
TZNAME:CDT
DTSTART:20250309T080000
END:DAYLIGHT
BEGIN:STANDARD
TZOFFSETFROM:-0500
TZOFFSETTO:-0600
TZNAME:CST
DTSTART:20251102T070000
END:STANDARD
BEGIN:DAYLIGHT
TZOFFSETFROM:-0600
TZOFFSETTO:-0500
TZNAME:CDT
DTSTART:20260308T080000
END:DAYLIGHT
BEGIN:STANDARD
TZOFFSETFROM:-0500
TZOFFSETTO:-0600
TZNAME:CST
DTSTART:20261101T070000
END:STANDARD
END:VTIMEZONE
BEGIN:VEVENT
DTSTART;TZID=America/Chicago:20250203T080000
DTEND;TZID=America/Chicago:20250203T110000
DTSTAMP:20260424T050306
CREATED:20241210T180811Z
LAST-MODIFIED:20250508T035024Z
UID:10004047-1738569600-1738580400@stoughtoncc.com
SUMMARY:Monday Morning Trap/Skeet
DESCRIPTION:Open trap and skeet for members. Come\, shoot\, drink coffee.
URL:https://stoughtoncc.com/event/monday-morning-trap-skeet/2025-02-03/
LOCATION:Trap & Skeet Fields
END:VEVENT
BEGIN:VEVENT
DTSTART;TZID=America/Chicago:20250203T180000
DTEND;TZID=America/Chicago:20250203T200000
DTSTAMP:20260424T050306
CREATED:20250106T214651Z
LAST-MODIFIED:20250106T230453Z
UID:10004596-1738605600-1738612800@stoughtoncc.com
SUMMARY:S3DA Archery
DESCRIPTION:
URL:https://stoughtoncc.com/event/s3da/2025-02-03/
LOCATION:Indoor Archery Range
ORGANIZER;CN="Dave Rynes":MAILTO:blackdogdr@gmail.com
END:VEVENT
BEGIN:VEVENT
DTSTART;TZID=America/Chicago:20250204T180000
DTEND;TZID=America/Chicago:20250204T220000
DTSTAMP:20260424T050306
CREATED:20241213T030856Z
LAST-MODIFIED:20241213T034841Z
UID:10004310-1738692000-1738706400@stoughtoncc.com
SUMMARY:Indoor Archery League - 2025
DESCRIPTION:
URL:https://stoughtoncc.com/event/indoor-archery-league-2025/2025-02-04/
ORGANIZER;CN="Roger Kluever":MAILTO:07harley89@gmail.com
END:VEVENT
BEGIN:VEVENT
DTSTART;TZID=America/Chicago:20250205T180000
DTEND;TZID=America/Chicago:20250205T220000
DTSTAMP:20260424T050306
CREATED:20241213T030856Z
LAST-MODIFIED:20241213T034841Z
UID:10004311-1738778400-1738792800@stoughtoncc.com
SUMMARY:Indoor Archery League - 2025
DESCRIPTION:
URL:https://stoughtoncc.com/event/indoor-archery-league-2025/2025-02-05/
ORGANIZER;CN="Roger Kluever":MAILTO:07harley89@gmail.com
END:VEVENT
BEGIN:VEVENT
DTSTART;TZID=America/Chicago:20250206T173000
DTEND;TZID=America/Chicago:20250206T213000
DTSTAMP:20260424T050306
CREATED:20240812T223727Z
LAST-MODIFIED:20241210T172610Z
UID:10003761-1738863000-1738877400@stoughtoncc.com
SUMMARY:Rimfire Pistol League
DESCRIPTION:The first week is the setup meeting and practice night. Any new shooters should attend. The meeting is usually around 6:30. \nLeague scoring starts January 9th. \nLeague runs for 12 weeks. \nLeague Fun Night/Banquet is April 3\, 2025
URL:https://stoughtoncc.com/event/rimfire-pistol-league-2025/2025-02-06/
END:VEVENT
BEGIN:VEVENT
DTSTART;TZID=America/Chicago:20250208T080000
DTEND;TZID=America/Chicago:20250208T233000
DTSTAMP:20260424T050306
CREATED:20241002T191219Z
LAST-MODIFIED:20241213T032001Z
UID:10003808-1739001600-1739057400@stoughtoncc.com
SUMMARY:Youth Instructional Archery
DESCRIPTION:See here for info about the Youth Instructional Archery Program: \nhttps://stoughtoncc.com/youth-training/youth-instructional-archery-league/ \nNo youth archery on January 25th.
URL:https://stoughtoncc.com/event/youth-instructional-archery-2025/2025-02-08/
ORGANIZER;CN="Dustin Thoren":MAILTO:dustin.thoren@gmail.com
END:VEVENT
BEGIN:VEVENT
DTSTART;TZID=America/Chicago:20250208T113000
DTEND;TZID=America/Chicago:20250208T143000
DTSTAMP:20260424T050306
CREATED:20241002T191429Z
LAST-MODIFIED:20241213T032114Z
UID:10003819-1739014200-1739025000@stoughtoncc.com
SUMMARY:Youth Archery League
DESCRIPTION:For more information about Youth Archery League see here: \nhttps://stoughtoncc.com/leagues/archery-league/youth-archery/ \nNo youth archery league on January 25th.
URL:https://stoughtoncc.com/event/youth-archery-league-2/2025-02-08/
ORGANIZER;CN="Dustin Thoren":MAILTO:dustin.thoren@gmail.com
END:VEVENT
END:VCALENDAR