BEGIN:VCALENDAR
VERSION:2.0
PRODID:-//Stoughton Conservation Club - ECPv6.15.20//NONSGML v1.0//EN
CALSCALE:GREGORIAN
METHOD:PUBLISH
X-WR-CALNAME:Stoughton Conservation Club
X-ORIGINAL-URL:https://stoughtoncc.com
X-WR-CALDESC:Events for Stoughton Conservation Club
REFRESH-INTERVAL;VALUE=DURATION:PT1H
X-Robots-Tag:noindex
X-PUBLISHED-TTL:PT1H
BEGIN:VTIMEZONE
TZID:America/Chicago
BEGIN:DAYLIGHT
TZOFFSETFROM:-0600
TZOFFSETTO:-0500
TZNAME:CDT
DTSTART:20250309T080000
END:DAYLIGHT
BEGIN:STANDARD
TZOFFSETFROM:-0500
TZOFFSETTO:-0600
TZNAME:CST
DTSTART:20251102T070000
END:STANDARD
BEGIN:DAYLIGHT
TZOFFSETFROM:-0600
TZOFFSETTO:-0500
TZNAME:CDT
DTSTART:20260308T080000
END:DAYLIGHT
BEGIN:STANDARD
TZOFFSETFROM:-0500
TZOFFSETTO:-0600
TZNAME:CST
DTSTART:20261101T070000
END:STANDARD
BEGIN:DAYLIGHT
TZOFFSETFROM:-0600
TZOFFSETTO:-0500
TZNAME:CDT
DTSTART:20270314T080000
END:DAYLIGHT
BEGIN:STANDARD
TZOFFSETFROM:-0500
TZOFFSETTO:-0600
TZNAME:CST
DTSTART:20271107T070000
END:STANDARD
BEGIN:DAYLIGHT
TZOFFSETFROM:-0600
TZOFFSETTO:-0500
TZNAME:CDT
DTSTART:20280312T080000
END:DAYLIGHT
BEGIN:STANDARD
TZOFFSETFROM:-0500
TZOFFSETTO:-0600
TZNAME:CST
DTSTART:20281105T070000
END:STANDARD
BEGIN:DAYLIGHT
TZOFFSETFROM:-0600
TZOFFSETTO:-0500
TZNAME:CDT
DTSTART:20290311T080000
END:DAYLIGHT
BEGIN:STANDARD
TZOFFSETFROM:-0500
TZOFFSETTO:-0600
TZNAME:CST
DTSTART:20291104T070000
END:STANDARD
END:VTIMEZONE
BEGIN:VEVENT
DTSTART;TZID=America/Chicago:20260511T173000
DTEND;TZID=America/Chicago:20260511T190000
DTSTAMP:20260423T110657
CREATED:20241209T164257Z
LAST-MODIFIED:20250508T035832Z
UID:10004792-1778520600-1778526000@stoughtoncc.com
SUMMARY:Member Orientation - Indoor Archery Closed
DESCRIPTION:In-person orientation is required for new members\, and begins promptly at 6 PM before the monthly general membership meeting. \nOther membership situations can also be handled during this time. \nIndoor Archery will be CLOSED at 5:30 for setup.
URL:https://stoughtoncc.com/event/member-orientation/2026-05-11/
LOCATION:Main Clubhouse
END:VEVENT
BEGIN:VEVENT
DTSTART;TZID=America/Chicago:20260608T173000
DTEND;TZID=America/Chicago:20260608T190000
DTSTAMP:20260423T110657
CREATED:20241209T164257Z
LAST-MODIFIED:20250508T035832Z
UID:10004793-1780939800-1780945200@stoughtoncc.com
SUMMARY:Member Orientation - Indoor Archery Closed
DESCRIPTION:In-person orientation is required for new members\, and begins promptly at 6 PM before the monthly general membership meeting. \nOther membership situations can also be handled during this time. \nIndoor Archery will be CLOSED at 5:30 for setup.
URL:https://stoughtoncc.com/event/member-orientation/2026-06-08/
LOCATION:Main Clubhouse
END:VEVENT
BEGIN:VEVENT
DTSTART;TZID=America/Chicago:20260713T173000
DTEND;TZID=America/Chicago:20260713T190000
DTSTAMP:20260423T110657
CREATED:20241209T164257Z
LAST-MODIFIED:20250508T035832Z
UID:10004794-1783963800-1783969200@stoughtoncc.com
SUMMARY:Member Orientation - Indoor Archery Closed
DESCRIPTION:In-person orientation is required for new members\, and begins promptly at 6 PM before the monthly general membership meeting. \nOther membership situations can also be handled during this time. \nIndoor Archery will be CLOSED at 5:30 for setup.
URL:https://stoughtoncc.com/event/member-orientation/2026-07-13/
LOCATION:Main Clubhouse
END:VEVENT
BEGIN:VEVENT
DTSTART;TZID=America/Chicago:20260810T173000
DTEND;TZID=America/Chicago:20260810T190000
DTSTAMP:20260423T110657
CREATED:20241209T164257Z
LAST-MODIFIED:20250508T035832Z
UID:10004795-1786383000-1786388400@stoughtoncc.com
SUMMARY:Member Orientation - Indoor Archery Closed
DESCRIPTION:In-person orientation is required for new members\, and begins promptly at 6 PM before the monthly general membership meeting. \nOther membership situations can also be handled during this time. \nIndoor Archery will be CLOSED at 5:30 for setup.
URL:https://stoughtoncc.com/event/member-orientation/2026-08-10/
LOCATION:Main Clubhouse
END:VEVENT
BEGIN:VEVENT
DTSTART;TZID=America/Chicago:20260914T173000
DTEND;TZID=America/Chicago:20260914T190000
DTSTAMP:20260423T110657
CREATED:20241209T164257Z
LAST-MODIFIED:20250508T035832Z
UID:10004796-1789407000-1789412400@stoughtoncc.com
SUMMARY:Member Orientation - Indoor Archery Closed
DESCRIPTION:In-person orientation is required for new members\, and begins promptly at 6 PM before the monthly general membership meeting. \nOther membership situations can also be handled during this time. \nIndoor Archery will be CLOSED at 5:30 for setup.
URL:https://stoughtoncc.com/event/member-orientation/2026-09-14/
LOCATION:Main Clubhouse
END:VEVENT
BEGIN:VEVENT
DTSTART;TZID=America/Chicago:20261012T173000
DTEND;TZID=America/Chicago:20261012T190000
DTSTAMP:20260423T110657
CREATED:20241209T164257Z
LAST-MODIFIED:20250508T035832Z
UID:10004797-1791826200-1791831600@stoughtoncc.com
SUMMARY:Member Orientation - Indoor Archery Closed
DESCRIPTION:In-person orientation is required for new members\, and begins promptly at 6 PM before the monthly general membership meeting. \nOther membership situations can also be handled during this time. \nIndoor Archery will be CLOSED at 5:30 for setup.
URL:https://stoughtoncc.com/event/member-orientation/2026-10-12/
LOCATION:Main Clubhouse
END:VEVENT
BEGIN:VEVENT
DTSTART;TZID=America/Chicago:20261109T173000
DTEND;TZID=America/Chicago:20261109T190000
DTSTAMP:20260423T110657
CREATED:20241209T164257Z
LAST-MODIFIED:20250508T035832Z
UID:10004798-1794245400-1794250800@stoughtoncc.com
SUMMARY:Member Orientation - Indoor Archery Closed
DESCRIPTION:In-person orientation is required for new members\, and begins promptly at 6 PM before the monthly general membership meeting. \nOther membership situations can also be handled during this time. \nIndoor Archery will be CLOSED at 5:30 for setup.
URL:https://stoughtoncc.com/event/member-orientation/2026-11-09/
LOCATION:Main Clubhouse
END:VEVENT
BEGIN:VEVENT
DTSTART;TZID=America/Chicago:20261214T173000
DTEND;TZID=America/Chicago:20261214T190000
DTSTAMP:20260423T110657
CREATED:20241209T164257Z
LAST-MODIFIED:20250508T035832Z
UID:10004799-1797269400-1797274800@stoughtoncc.com
SUMMARY:Member Orientation - Indoor Archery Closed
DESCRIPTION:In-person orientation is required for new members\, and begins promptly at 6 PM before the monthly general membership meeting. \nOther membership situations can also be handled during this time. \nIndoor Archery will be CLOSED at 5:30 for setup.
URL:https://stoughtoncc.com/event/member-orientation/2026-12-14/
LOCATION:Main Clubhouse
END:VEVENT
BEGIN:VEVENT
DTSTART;TZID=America/Chicago:20270111T173000
DTEND;TZID=America/Chicago:20270111T190000
DTSTAMP:20260423T110657
CREATED:20241209T164257Z
LAST-MODIFIED:20250508T035832Z
UID:10004800-1799688600-1799694000@stoughtoncc.com
SUMMARY:Member Orientation - Indoor Archery Closed
DESCRIPTION:In-person orientation is required for new members\, and begins promptly at 6 PM before the monthly general membership meeting. \nOther membership situations can also be handled during this time. \nIndoor Archery will be CLOSED at 5:30 for setup.
URL:https://stoughtoncc.com/event/member-orientation/2027-01-11/
LOCATION:Main Clubhouse
END:VEVENT
BEGIN:VEVENT
DTSTART;TZID=America/Chicago:20270208T173000
DTEND;TZID=America/Chicago:20270208T190000
DTSTAMP:20260423T110657
CREATED:20241209T164257Z
LAST-MODIFIED:20250508T035832Z
UID:10004801-1802107800-1802113200@stoughtoncc.com
SUMMARY:Member Orientation - Indoor Archery Closed
DESCRIPTION:In-person orientation is required for new members\, and begins promptly at 6 PM before the monthly general membership meeting. \nOther membership situations can also be handled during this time. \nIndoor Archery will be CLOSED at 5:30 for setup.
URL:https://stoughtoncc.com/event/member-orientation/2027-02-08/
LOCATION:Main Clubhouse
END:VEVENT
BEGIN:VEVENT
DTSTART;TZID=America/Chicago:20270308T173000
DTEND;TZID=America/Chicago:20270308T190000
DTSTAMP:20260423T110657
CREATED:20241209T164257Z
LAST-MODIFIED:20250508T035832Z
UID:10004802-1804527000-1804532400@stoughtoncc.com
SUMMARY:Member Orientation - Indoor Archery Closed
DESCRIPTION:In-person orientation is required for new members\, and begins promptly at 6 PM before the monthly general membership meeting. \nOther membership situations can also be handled during this time. \nIndoor Archery will be CLOSED at 5:30 for setup.
URL:https://stoughtoncc.com/event/member-orientation/2027-03-08/
LOCATION:Main Clubhouse
END:VEVENT
BEGIN:VEVENT
DTSTART;TZID=America/Chicago:20270412T173000
DTEND;TZID=America/Chicago:20270412T190000
DTSTAMP:20260423T110657
CREATED:20241209T164257Z
LAST-MODIFIED:20250508T035832Z
UID:10004803-1807551000-1807556400@stoughtoncc.com
SUMMARY:Member Orientation - Indoor Archery Closed
DESCRIPTION:In-person orientation is required for new members\, and begins promptly at 6 PM before the monthly general membership meeting. \nOther membership situations can also be handled during this time. \nIndoor Archery will be CLOSED at 5:30 for setup.
URL:https://stoughtoncc.com/event/member-orientation/2027-04-12/
LOCATION:Main Clubhouse
END:VEVENT
BEGIN:VEVENT
DTSTART;TZID=America/Chicago:20270510T173000
DTEND;TZID=America/Chicago:20270510T190000
DTSTAMP:20260423T110657
CREATED:20241209T164257Z
LAST-MODIFIED:20250508T035832Z
UID:10004804-1809970200-1809975600@stoughtoncc.com
SUMMARY:Member Orientation - Indoor Archery Closed
DESCRIPTION:In-person orientation is required for new members\, and begins promptly at 6 PM before the monthly general membership meeting. \nOther membership situations can also be handled during this time. \nIndoor Archery will be CLOSED at 5:30 for setup.
URL:https://stoughtoncc.com/event/member-orientation/2027-05-10/
LOCATION:Main Clubhouse
END:VEVENT
BEGIN:VEVENT
DTSTART;TZID=America/Chicago:20270614T173000
DTEND;TZID=America/Chicago:20270614T190000
DTSTAMP:20260423T110657
CREATED:20241209T164257Z
LAST-MODIFIED:20250508T035832Z
UID:10004805-1812994200-1812999600@stoughtoncc.com
SUMMARY:Member Orientation - Indoor Archery Closed
DESCRIPTION:In-person orientation is required for new members\, and begins promptly at 6 PM before the monthly general membership meeting. \nOther membership situations can also be handled during this time. \nIndoor Archery will be CLOSED at 5:30 for setup.
URL:https://stoughtoncc.com/event/member-orientation/2027-06-14/
LOCATION:Main Clubhouse
END:VEVENT
BEGIN:VEVENT
DTSTART;TZID=America/Chicago:20270712T173000
DTEND;TZID=America/Chicago:20270712T190000
DTSTAMP:20260423T110657
CREATED:20241209T164257Z
LAST-MODIFIED:20250508T035832Z
UID:10004806-1815413400-1815418800@stoughtoncc.com
SUMMARY:Member Orientation - Indoor Archery Closed
DESCRIPTION:In-person orientation is required for new members\, and begins promptly at 6 PM before the monthly general membership meeting. \nOther membership situations can also be handled during this time. \nIndoor Archery will be CLOSED at 5:30 for setup.
URL:https://stoughtoncc.com/event/member-orientation/2027-07-12/
LOCATION:Main Clubhouse
END:VEVENT
BEGIN:VEVENT
DTSTART;TZID=America/Chicago:20270809T173000
DTEND;TZID=America/Chicago:20270809T190000
DTSTAMP:20260423T110657
CREATED:20241209T164257Z
LAST-MODIFIED:20250508T035832Z
UID:10004807-1817832600-1817838000@stoughtoncc.com
SUMMARY:Member Orientation - Indoor Archery Closed
DESCRIPTION:In-person orientation is required for new members\, and begins promptly at 6 PM before the monthly general membership meeting. \nOther membership situations can also be handled during this time. \nIndoor Archery will be CLOSED at 5:30 for setup.
URL:https://stoughtoncc.com/event/member-orientation/2027-08-09/
LOCATION:Main Clubhouse
END:VEVENT
BEGIN:VEVENT
DTSTART;TZID=America/Chicago:20270913T173000
DTEND;TZID=America/Chicago:20270913T190000
DTSTAMP:20260423T110657
CREATED:20241209T164257Z
LAST-MODIFIED:20250508T035832Z
UID:10004808-1820856600-1820862000@stoughtoncc.com
SUMMARY:Member Orientation - Indoor Archery Closed
DESCRIPTION:In-person orientation is required for new members\, and begins promptly at 6 PM before the monthly general membership meeting. \nOther membership situations can also be handled during this time. \nIndoor Archery will be CLOSED at 5:30 for setup.
URL:https://stoughtoncc.com/event/member-orientation/2027-09-13/
LOCATION:Main Clubhouse
END:VEVENT
BEGIN:VEVENT
DTSTART;TZID=America/Chicago:20271011T173000
DTEND;TZID=America/Chicago:20271011T190000
DTSTAMP:20260423T110657
CREATED:20241209T164257Z
LAST-MODIFIED:20250508T035832Z
UID:10004809-1823275800-1823281200@stoughtoncc.com
SUMMARY:Member Orientation - Indoor Archery Closed
DESCRIPTION:In-person orientation is required for new members\, and begins promptly at 6 PM before the monthly general membership meeting. \nOther membership situations can also be handled during this time. \nIndoor Archery will be CLOSED at 5:30 for setup.
URL:https://stoughtoncc.com/event/member-orientation/2027-10-11/
LOCATION:Main Clubhouse
END:VEVENT
BEGIN:VEVENT
DTSTART;TZID=America/Chicago:20271108T173000
DTEND;TZID=America/Chicago:20271108T190000
DTSTAMP:20260423T110657
CREATED:20241209T164257Z
LAST-MODIFIED:20250508T035832Z
UID:10004810-1825695000-1825700400@stoughtoncc.com
SUMMARY:Member Orientation - Indoor Archery Closed
DESCRIPTION:In-person orientation is required for new members\, and begins promptly at 6 PM before the monthly general membership meeting. \nOther membership situations can also be handled during this time. \nIndoor Archery will be CLOSED at 5:30 for setup.
URL:https://stoughtoncc.com/event/member-orientation/2027-11-08/
LOCATION:Main Clubhouse
END:VEVENT
BEGIN:VEVENT
DTSTART;TZID=America/Chicago:20271213T173000
DTEND;TZID=America/Chicago:20271213T190000
DTSTAMP:20260423T110657
CREATED:20241209T164257Z
LAST-MODIFIED:20250508T035832Z
UID:10004811-1828719000-1828724400@stoughtoncc.com
SUMMARY:Member Orientation - Indoor Archery Closed
DESCRIPTION:In-person orientation is required for new members\, and begins promptly at 6 PM before the monthly general membership meeting. \nOther membership situations can also be handled during this time. \nIndoor Archery will be CLOSED at 5:30 for setup.
URL:https://stoughtoncc.com/event/member-orientation/2027-12-13/
LOCATION:Main Clubhouse
END:VEVENT
BEGIN:VEVENT
DTSTART;TZID=America/Chicago:20280110T173000
DTEND;TZID=America/Chicago:20280110T190000
DTSTAMP:20260423T110657
CREATED:20241209T164257Z
LAST-MODIFIED:20250508T035832Z
UID:10004812-1831138200-1831143600@stoughtoncc.com
SUMMARY:Member Orientation - Indoor Archery Closed
DESCRIPTION:In-person orientation is required for new members\, and begins promptly at 6 PM before the monthly general membership meeting. \nOther membership situations can also be handled during this time. \nIndoor Archery will be CLOSED at 5:30 for setup.
URL:https://stoughtoncc.com/event/member-orientation/2028-01-10/
LOCATION:Main Clubhouse
END:VEVENT
BEGIN:VEVENT
DTSTART;TZID=America/Chicago:20280214T173000
DTEND;TZID=America/Chicago:20280214T190000
DTSTAMP:20260423T110657
CREATED:20241209T164257Z
LAST-MODIFIED:20250508T035832Z
UID:10004813-1834162200-1834167600@stoughtoncc.com
SUMMARY:Member Orientation - Indoor Archery Closed
DESCRIPTION:In-person orientation is required for new members\, and begins promptly at 6 PM before the monthly general membership meeting. \nOther membership situations can also be handled during this time. \nIndoor Archery will be CLOSED at 5:30 for setup.
URL:https://stoughtoncc.com/event/member-orientation/2028-02-14/
LOCATION:Main Clubhouse
END:VEVENT
BEGIN:VEVENT
DTSTART;TZID=America/Chicago:20280313T173000
DTEND;TZID=America/Chicago:20280313T190000
DTSTAMP:20260423T110657
CREATED:20241209T164257Z
LAST-MODIFIED:20250508T035832Z
UID:10004814-1836581400-1836586800@stoughtoncc.com
SUMMARY:Member Orientation - Indoor Archery Closed
DESCRIPTION:In-person orientation is required for new members\, and begins promptly at 6 PM before the monthly general membership meeting. \nOther membership situations can also be handled during this time. \nIndoor Archery will be CLOSED at 5:30 for setup.
URL:https://stoughtoncc.com/event/member-orientation/2028-03-13/
LOCATION:Main Clubhouse
END:VEVENT
BEGIN:VEVENT
DTSTART;TZID=America/Chicago:20280410T173000
DTEND;TZID=America/Chicago:20280410T190000
DTSTAMP:20260423T110657
CREATED:20241209T164257Z
LAST-MODIFIED:20250508T035832Z
UID:10004815-1839000600-1839006000@stoughtoncc.com
SUMMARY:Member Orientation - Indoor Archery Closed
DESCRIPTION:In-person orientation is required for new members\, and begins promptly at 6 PM before the monthly general membership meeting. \nOther membership situations can also be handled during this time. \nIndoor Archery will be CLOSED at 5:30 for setup.
URL:https://stoughtoncc.com/event/member-orientation/2028-04-10/
LOCATION:Main Clubhouse
END:VEVENT
BEGIN:VEVENT
DTSTART;TZID=America/Chicago:20280508T173000
DTEND;TZID=America/Chicago:20280508T190000
DTSTAMP:20260423T110657
CREATED:20241209T164257Z
LAST-MODIFIED:20250508T035832Z
UID:10004816-1841419800-1841425200@stoughtoncc.com
SUMMARY:Member Orientation - Indoor Archery Closed
DESCRIPTION:In-person orientation is required for new members\, and begins promptly at 6 PM before the monthly general membership meeting. \nOther membership situations can also be handled during this time. \nIndoor Archery will be CLOSED at 5:30 for setup.
URL:https://stoughtoncc.com/event/member-orientation/2028-05-08/
LOCATION:Main Clubhouse
END:VEVENT
BEGIN:VEVENT
DTSTART;TZID=America/Chicago:20280612T173000
DTEND;TZID=America/Chicago:20280612T190000
DTSTAMP:20260423T110657
CREATED:20241209T164257Z
LAST-MODIFIED:20250508T035832Z
UID:10004817-1844443800-1844449200@stoughtoncc.com
SUMMARY:Member Orientation - Indoor Archery Closed
DESCRIPTION:In-person orientation is required for new members\, and begins promptly at 6 PM before the monthly general membership meeting. \nOther membership situations can also be handled during this time. \nIndoor Archery will be CLOSED at 5:30 for setup.
URL:https://stoughtoncc.com/event/member-orientation/2028-06-12/
LOCATION:Main Clubhouse
END:VEVENT
BEGIN:VEVENT
DTSTART;TZID=America/Chicago:20280710T173000
DTEND;TZID=America/Chicago:20280710T190000
DTSTAMP:20260423T110657
CREATED:20241209T164257Z
LAST-MODIFIED:20250508T035832Z
UID:10004818-1846863000-1846868400@stoughtoncc.com
SUMMARY:Member Orientation - Indoor Archery Closed
DESCRIPTION:In-person orientation is required for new members\, and begins promptly at 6 PM before the monthly general membership meeting. \nOther membership situations can also be handled during this time. \nIndoor Archery will be CLOSED at 5:30 for setup.
URL:https://stoughtoncc.com/event/member-orientation/2028-07-10/
LOCATION:Main Clubhouse
END:VEVENT
BEGIN:VEVENT
DTSTART;TZID=America/Chicago:20280814T173000
DTEND;TZID=America/Chicago:20280814T190000
DTSTAMP:20260423T110657
CREATED:20241209T164257Z
LAST-MODIFIED:20250508T035832Z
UID:10004819-1849887000-1849892400@stoughtoncc.com
SUMMARY:Member Orientation - Indoor Archery Closed
DESCRIPTION:In-person orientation is required for new members\, and begins promptly at 6 PM before the monthly general membership meeting. \nOther membership situations can also be handled during this time. \nIndoor Archery will be CLOSED at 5:30 for setup.
URL:https://stoughtoncc.com/event/member-orientation/2028-08-14/
LOCATION:Main Clubhouse
END:VEVENT
BEGIN:VEVENT
DTSTART;TZID=America/Chicago:20280911T173000
DTEND;TZID=America/Chicago:20280911T190000
DTSTAMP:20260423T110657
CREATED:20241209T164257Z
LAST-MODIFIED:20250508T035832Z
UID:10004820-1852306200-1852311600@stoughtoncc.com
SUMMARY:Member Orientation - Indoor Archery Closed
DESCRIPTION:In-person orientation is required for new members\, and begins promptly at 6 PM before the monthly general membership meeting. \nOther membership situations can also be handled during this time. \nIndoor Archery will be CLOSED at 5:30 for setup.
URL:https://stoughtoncc.com/event/member-orientation/2028-09-11/
LOCATION:Main Clubhouse
END:VEVENT
BEGIN:VEVENT
DTSTART;TZID=America/Chicago:20281009T173000
DTEND;TZID=America/Chicago:20281009T190000
DTSTAMP:20260423T110657
CREATED:20241209T164257Z
LAST-MODIFIED:20250508T035832Z
UID:10004821-1854725400-1854730800@stoughtoncc.com
SUMMARY:Member Orientation - Indoor Archery Closed
DESCRIPTION:In-person orientation is required for new members\, and begins promptly at 6 PM before the monthly general membership meeting. \nOther membership situations can also be handled during this time. \nIndoor Archery will be CLOSED at 5:30 for setup.
URL:https://stoughtoncc.com/event/member-orientation/2028-10-09/
LOCATION:Main Clubhouse
END:VEVENT
END:VCALENDAR