BEGIN:VCALENDAR
VERSION:2.0
PRODID:-//Stoughton Conservation Club - ECPv6.15.20//NONSGML v1.0//EN
CALSCALE:GREGORIAN
METHOD:PUBLISH
X-WR-CALNAME:Stoughton Conservation Club
X-ORIGINAL-URL:https://stoughtoncc.com
X-WR-CALDESC:Events for Stoughton Conservation Club
REFRESH-INTERVAL;VALUE=DURATION:PT1H
X-Robots-Tag:noindex
X-PUBLISHED-TTL:PT1H
BEGIN:VTIMEZONE
TZID:America/Chicago
BEGIN:DAYLIGHT
TZOFFSETFROM:-0600
TZOFFSETTO:-0500
TZNAME:CDT
DTSTART:20250309T080000
END:DAYLIGHT
BEGIN:STANDARD
TZOFFSETFROM:-0500
TZOFFSETTO:-0600
TZNAME:CST
DTSTART:20251102T070000
END:STANDARD
BEGIN:DAYLIGHT
TZOFFSETFROM:-0600
TZOFFSETTO:-0500
TZNAME:CDT
DTSTART:20260308T080000
END:DAYLIGHT
BEGIN:STANDARD
TZOFFSETFROM:-0500
TZOFFSETTO:-0600
TZNAME:CST
DTSTART:20261101T070000
END:STANDARD
BEGIN:DAYLIGHT
TZOFFSETFROM:-0600
TZOFFSETTO:-0500
TZNAME:CDT
DTSTART:20270314T080000
END:DAYLIGHT
BEGIN:STANDARD
TZOFFSETFROM:-0500
TZOFFSETTO:-0600
TZNAME:CST
DTSTART:20271107T070000
END:STANDARD
BEGIN:DAYLIGHT
TZOFFSETFROM:-0600
TZOFFSETTO:-0500
TZNAME:CDT
DTSTART:20280312T080000
END:DAYLIGHT
BEGIN:STANDARD
TZOFFSETFROM:-0500
TZOFFSETTO:-0600
TZNAME:CST
DTSTART:20281105T070000
END:STANDARD
BEGIN:DAYLIGHT
TZOFFSETFROM:-0600
TZOFFSETTO:-0500
TZNAME:CDT
DTSTART:20290311T080000
END:DAYLIGHT
BEGIN:STANDARD
TZOFFSETFROM:-0500
TZOFFSETTO:-0600
TZNAME:CST
DTSTART:20291104T070000
END:STANDARD
END:VTIMEZONE
BEGIN:VEVENT
DTSTART;TZID=America/Chicago:20260504T180000
DTEND;TZID=America/Chicago:20260504T200000
DTSTAMP:20260423T095351
CREATED:20250106T214651Z
LAST-MODIFIED:20250106T230453Z
UID:10004611-1777917600-1777924800@stoughtoncc.com
SUMMARY:S3DA Archery
DESCRIPTION:
URL:https://stoughtoncc.com/event/s3da/2026-05-04/
LOCATION:Indoor Archery Range
ORGANIZER;CN="Dave Rynes":MAILTO:blackdogdr@gmail.com
END:VEVENT
BEGIN:VEVENT
DTSTART;TZID=America/Chicago:20260601T180000
DTEND;TZID=America/Chicago:20260601T200000
DTSTAMP:20260423T095351
CREATED:20250106T214651Z
LAST-MODIFIED:20250106T230453Z
UID:10004612-1780336800-1780344000@stoughtoncc.com
SUMMARY:S3DA Archery
DESCRIPTION:
URL:https://stoughtoncc.com/event/s3da/2026-06-01/
LOCATION:Indoor Archery Range
ORGANIZER;CN="Dave Rynes":MAILTO:blackdogdr@gmail.com
END:VEVENT
BEGIN:VEVENT
DTSTART;TZID=America/Chicago:20260706T180000
DTEND;TZID=America/Chicago:20260706T200000
DTSTAMP:20260423T095351
CREATED:20250106T214651Z
LAST-MODIFIED:20250106T230453Z
UID:10004613-1783360800-1783368000@stoughtoncc.com
SUMMARY:S3DA Archery
DESCRIPTION:
URL:https://stoughtoncc.com/event/s3da/2026-07-06/
LOCATION:Indoor Archery Range
ORGANIZER;CN="Dave Rynes":MAILTO:blackdogdr@gmail.com
END:VEVENT
BEGIN:VEVENT
DTSTART;TZID=America/Chicago:20260803T180000
DTEND;TZID=America/Chicago:20260803T200000
DTSTAMP:20260423T095351
CREATED:20250106T214651Z
LAST-MODIFIED:20250106T230453Z
UID:10004614-1785780000-1785787200@stoughtoncc.com
SUMMARY:S3DA Archery
DESCRIPTION:
URL:https://stoughtoncc.com/event/s3da/2026-08-03/
LOCATION:Indoor Archery Range
ORGANIZER;CN="Dave Rynes":MAILTO:blackdogdr@gmail.com
END:VEVENT
BEGIN:VEVENT
DTSTART;TZID=America/Chicago:20260907T180000
DTEND;TZID=America/Chicago:20260907T200000
DTSTAMP:20260423T095351
CREATED:20250106T214651Z
LAST-MODIFIED:20250106T230453Z
UID:10004615-1788804000-1788811200@stoughtoncc.com
SUMMARY:S3DA Archery
DESCRIPTION:
URL:https://stoughtoncc.com/event/s3da/2026-09-07/
LOCATION:Indoor Archery Range
ORGANIZER;CN="Dave Rynes":MAILTO:blackdogdr@gmail.com
END:VEVENT
BEGIN:VEVENT
DTSTART;TZID=America/Chicago:20261005T180000
DTEND;TZID=America/Chicago:20261005T200000
DTSTAMP:20260423T095351
CREATED:20250106T214651Z
LAST-MODIFIED:20250106T230453Z
UID:10004616-1791223200-1791230400@stoughtoncc.com
SUMMARY:S3DA Archery
DESCRIPTION:
URL:https://stoughtoncc.com/event/s3da/2026-10-05/
LOCATION:Indoor Archery Range
ORGANIZER;CN="Dave Rynes":MAILTO:blackdogdr@gmail.com
END:VEVENT
BEGIN:VEVENT
DTSTART;TZID=America/Chicago:20261102T180000
DTEND;TZID=America/Chicago:20261102T200000
DTSTAMP:20260423T095351
CREATED:20250106T214651Z
LAST-MODIFIED:20250106T230453Z
UID:10004617-1793642400-1793649600@stoughtoncc.com
SUMMARY:S3DA Archery
DESCRIPTION:
URL:https://stoughtoncc.com/event/s3da/2026-11-02/
LOCATION:Indoor Archery Range
ORGANIZER;CN="Dave Rynes":MAILTO:blackdogdr@gmail.com
END:VEVENT
BEGIN:VEVENT
DTSTART;TZID=America/Chicago:20261207T180000
DTEND;TZID=America/Chicago:20261207T200000
DTSTAMP:20260423T095351
CREATED:20250106T214651Z
LAST-MODIFIED:20250106T230453Z
UID:10004618-1796666400-1796673600@stoughtoncc.com
SUMMARY:S3DA Archery
DESCRIPTION:
URL:https://stoughtoncc.com/event/s3da/2026-12-07/
LOCATION:Indoor Archery Range
ORGANIZER;CN="Dave Rynes":MAILTO:blackdogdr@gmail.com
END:VEVENT
BEGIN:VEVENT
DTSTART;TZID=America/Chicago:20270104T180000
DTEND;TZID=America/Chicago:20270104T200000
DTSTAMP:20260423T095351
CREATED:20250106T214651Z
LAST-MODIFIED:20250106T230453Z
UID:10004619-1799085600-1799092800@stoughtoncc.com
SUMMARY:S3DA Archery
DESCRIPTION:
URL:https://stoughtoncc.com/event/s3da/2027-01-04/
LOCATION:Indoor Archery Range
ORGANIZER;CN="Dave Rynes":MAILTO:blackdogdr@gmail.com
END:VEVENT
BEGIN:VEVENT
DTSTART;TZID=America/Chicago:20270201T180000
DTEND;TZID=America/Chicago:20270201T200000
DTSTAMP:20260423T095351
CREATED:20250106T214651Z
LAST-MODIFIED:20250106T230453Z
UID:10004620-1801504800-1801512000@stoughtoncc.com
SUMMARY:S3DA Archery
DESCRIPTION:
URL:https://stoughtoncc.com/event/s3da/2027-02-01/
LOCATION:Indoor Archery Range
ORGANIZER;CN="Dave Rynes":MAILTO:blackdogdr@gmail.com
END:VEVENT
BEGIN:VEVENT
DTSTART;TZID=America/Chicago:20270301T180000
DTEND;TZID=America/Chicago:20270301T200000
DTSTAMP:20260423T095351
CREATED:20250106T214651Z
LAST-MODIFIED:20250106T230453Z
UID:10004621-1803924000-1803931200@stoughtoncc.com
SUMMARY:S3DA Archery
DESCRIPTION:
URL:https://stoughtoncc.com/event/s3da/2027-03-01/
LOCATION:Indoor Archery Range
ORGANIZER;CN="Dave Rynes":MAILTO:blackdogdr@gmail.com
END:VEVENT
BEGIN:VEVENT
DTSTART;TZID=America/Chicago:20270405T180000
DTEND;TZID=America/Chicago:20270405T200000
DTSTAMP:20260423T095351
CREATED:20250106T214651Z
LAST-MODIFIED:20250106T230453Z
UID:10004622-1806948000-1806955200@stoughtoncc.com
SUMMARY:S3DA Archery
DESCRIPTION:
URL:https://stoughtoncc.com/event/s3da/2027-04-05/
LOCATION:Indoor Archery Range
ORGANIZER;CN="Dave Rynes":MAILTO:blackdogdr@gmail.com
END:VEVENT
BEGIN:VEVENT
DTSTART;TZID=America/Chicago:20270503T180000
DTEND;TZID=America/Chicago:20270503T200000
DTSTAMP:20260423T095351
CREATED:20250106T214651Z
LAST-MODIFIED:20250106T230453Z
UID:10004623-1809367200-1809374400@stoughtoncc.com
SUMMARY:S3DA Archery
DESCRIPTION:
URL:https://stoughtoncc.com/event/s3da/2027-05-03/
LOCATION:Indoor Archery Range
ORGANIZER;CN="Dave Rynes":MAILTO:blackdogdr@gmail.com
END:VEVENT
BEGIN:VEVENT
DTSTART;TZID=America/Chicago:20270607T180000
DTEND;TZID=America/Chicago:20270607T200000
DTSTAMP:20260423T095351
CREATED:20250106T214651Z
LAST-MODIFIED:20250106T230453Z
UID:10004624-1812391200-1812398400@stoughtoncc.com
SUMMARY:S3DA Archery
DESCRIPTION:
URL:https://stoughtoncc.com/event/s3da/2027-06-07/
LOCATION:Indoor Archery Range
ORGANIZER;CN="Dave Rynes":MAILTO:blackdogdr@gmail.com
END:VEVENT
BEGIN:VEVENT
DTSTART;TZID=America/Chicago:20270705T180000
DTEND;TZID=America/Chicago:20270705T200000
DTSTAMP:20260423T095351
CREATED:20250106T214651Z
LAST-MODIFIED:20250106T230453Z
UID:10004625-1814810400-1814817600@stoughtoncc.com
SUMMARY:S3DA Archery
DESCRIPTION:
URL:https://stoughtoncc.com/event/s3da/2027-07-05/
LOCATION:Indoor Archery Range
ORGANIZER;CN="Dave Rynes":MAILTO:blackdogdr@gmail.com
END:VEVENT
BEGIN:VEVENT
DTSTART;TZID=America/Chicago:20270802T180000
DTEND;TZID=America/Chicago:20270802T200000
DTSTAMP:20260423T095351
CREATED:20250106T214651Z
LAST-MODIFIED:20250106T230453Z
UID:10004626-1817229600-1817236800@stoughtoncc.com
SUMMARY:S3DA Archery
DESCRIPTION:
URL:https://stoughtoncc.com/event/s3da/2027-08-02/
LOCATION:Indoor Archery Range
ORGANIZER;CN="Dave Rynes":MAILTO:blackdogdr@gmail.com
END:VEVENT
BEGIN:VEVENT
DTSTART;TZID=America/Chicago:20270906T180000
DTEND;TZID=America/Chicago:20270906T200000
DTSTAMP:20260423T095351
CREATED:20250106T214651Z
LAST-MODIFIED:20250106T230453Z
UID:10004627-1820253600-1820260800@stoughtoncc.com
SUMMARY:S3DA Archery
DESCRIPTION:
URL:https://stoughtoncc.com/event/s3da/2027-09-06/
LOCATION:Indoor Archery Range
ORGANIZER;CN="Dave Rynes":MAILTO:blackdogdr@gmail.com
END:VEVENT
BEGIN:VEVENT
DTSTART;TZID=America/Chicago:20271004T180000
DTEND;TZID=America/Chicago:20271004T200000
DTSTAMP:20260423T095351
CREATED:20250106T214651Z
LAST-MODIFIED:20250106T230453Z
UID:10004628-1822672800-1822680000@stoughtoncc.com
SUMMARY:S3DA Archery
DESCRIPTION:
URL:https://stoughtoncc.com/event/s3da/2027-10-04/
LOCATION:Indoor Archery Range
ORGANIZER;CN="Dave Rynes":MAILTO:blackdogdr@gmail.com
END:VEVENT
BEGIN:VEVENT
DTSTART;TZID=America/Chicago:20271101T180000
DTEND;TZID=America/Chicago:20271101T200000
DTSTAMP:20260423T095351
CREATED:20250106T214651Z
LAST-MODIFIED:20250106T230453Z
UID:10004629-1825092000-1825099200@stoughtoncc.com
SUMMARY:S3DA Archery
DESCRIPTION:
URL:https://stoughtoncc.com/event/s3da/2027-11-01/
LOCATION:Indoor Archery Range
ORGANIZER;CN="Dave Rynes":MAILTO:blackdogdr@gmail.com
END:VEVENT
BEGIN:VEVENT
DTSTART;TZID=America/Chicago:20271206T180000
DTEND;TZID=America/Chicago:20271206T200000
DTSTAMP:20260423T095351
CREATED:20250106T214651Z
LAST-MODIFIED:20250106T230453Z
UID:10004630-1828116000-1828123200@stoughtoncc.com
SUMMARY:S3DA Archery
DESCRIPTION:
URL:https://stoughtoncc.com/event/s3da/2027-12-06/
LOCATION:Indoor Archery Range
ORGANIZER;CN="Dave Rynes":MAILTO:blackdogdr@gmail.com
END:VEVENT
BEGIN:VEVENT
DTSTART;TZID=America/Chicago:20280103T180000
DTEND;TZID=America/Chicago:20280103T200000
DTSTAMP:20260423T095351
CREATED:20250106T214651Z
LAST-MODIFIED:20250106T230453Z
UID:10004631-1830535200-1830542400@stoughtoncc.com
SUMMARY:S3DA Archery
DESCRIPTION:
URL:https://stoughtoncc.com/event/s3da/2028-01-03/
LOCATION:Indoor Archery Range
ORGANIZER;CN="Dave Rynes":MAILTO:blackdogdr@gmail.com
END:VEVENT
BEGIN:VEVENT
DTSTART;TZID=America/Chicago:20280207T180000
DTEND;TZID=America/Chicago:20280207T200000
DTSTAMP:20260423T095351
CREATED:20250106T214651Z
LAST-MODIFIED:20250106T230453Z
UID:10004632-1833559200-1833566400@stoughtoncc.com
SUMMARY:S3DA Archery
DESCRIPTION:
URL:https://stoughtoncc.com/event/s3da/2028-02-07/
LOCATION:Indoor Archery Range
ORGANIZER;CN="Dave Rynes":MAILTO:blackdogdr@gmail.com
END:VEVENT
BEGIN:VEVENT
DTSTART;TZID=America/Chicago:20280306T180000
DTEND;TZID=America/Chicago:20280306T200000
DTSTAMP:20260423T095351
CREATED:20250106T214651Z
LAST-MODIFIED:20250106T230453Z
UID:10004633-1835978400-1835985600@stoughtoncc.com
SUMMARY:S3DA Archery
DESCRIPTION:
URL:https://stoughtoncc.com/event/s3da/2028-03-06/
LOCATION:Indoor Archery Range
ORGANIZER;CN="Dave Rynes":MAILTO:blackdogdr@gmail.com
END:VEVENT
BEGIN:VEVENT
DTSTART;TZID=America/Chicago:20280403T180000
DTEND;TZID=America/Chicago:20280403T200000
DTSTAMP:20260423T095351
CREATED:20250106T214651Z
LAST-MODIFIED:20250106T230453Z
UID:10004634-1838397600-1838404800@stoughtoncc.com
SUMMARY:S3DA Archery
DESCRIPTION:
URL:https://stoughtoncc.com/event/s3da/2028-04-03/
LOCATION:Indoor Archery Range
ORGANIZER;CN="Dave Rynes":MAILTO:blackdogdr@gmail.com
END:VEVENT
BEGIN:VEVENT
DTSTART;TZID=America/Chicago:20280501T180000
DTEND;TZID=America/Chicago:20280501T200000
DTSTAMP:20260423T095351
CREATED:20250106T214651Z
LAST-MODIFIED:20250106T230453Z
UID:10004635-1840816800-1840824000@stoughtoncc.com
SUMMARY:S3DA Archery
DESCRIPTION:
URL:https://stoughtoncc.com/event/s3da/2028-05-01/
LOCATION:Indoor Archery Range
ORGANIZER;CN="Dave Rynes":MAILTO:blackdogdr@gmail.com
END:VEVENT
BEGIN:VEVENT
DTSTART;TZID=America/Chicago:20280605T180000
DTEND;TZID=America/Chicago:20280605T200000
DTSTAMP:20260423T095351
CREATED:20250106T214651Z
LAST-MODIFIED:20250106T230453Z
UID:10004636-1843840800-1843848000@stoughtoncc.com
SUMMARY:S3DA Archery
DESCRIPTION:
URL:https://stoughtoncc.com/event/s3da/2028-06-05/
LOCATION:Indoor Archery Range
ORGANIZER;CN="Dave Rynes":MAILTO:blackdogdr@gmail.com
END:VEVENT
BEGIN:VEVENT
DTSTART;TZID=America/Chicago:20280703T180000
DTEND;TZID=America/Chicago:20280703T200000
DTSTAMP:20260423T095351
CREATED:20250106T214651Z
LAST-MODIFIED:20250106T230453Z
UID:10004637-1846260000-1846267200@stoughtoncc.com
SUMMARY:S3DA Archery
DESCRIPTION:
URL:https://stoughtoncc.com/event/s3da/2028-07-03/
LOCATION:Indoor Archery Range
ORGANIZER;CN="Dave Rynes":MAILTO:blackdogdr@gmail.com
END:VEVENT
BEGIN:VEVENT
DTSTART;TZID=America/Chicago:20280807T180000
DTEND;TZID=America/Chicago:20280807T200000
DTSTAMP:20260423T095351
CREATED:20250106T214651Z
LAST-MODIFIED:20250106T230453Z
UID:10004638-1849284000-1849291200@stoughtoncc.com
SUMMARY:S3DA Archery
DESCRIPTION:
URL:https://stoughtoncc.com/event/s3da/2028-08-07/
LOCATION:Indoor Archery Range
ORGANIZER;CN="Dave Rynes":MAILTO:blackdogdr@gmail.com
END:VEVENT
BEGIN:VEVENT
DTSTART;TZID=America/Chicago:20280904T180000
DTEND;TZID=America/Chicago:20280904T200000
DTSTAMP:20260423T095351
CREATED:20250106T214651Z
LAST-MODIFIED:20250106T230453Z
UID:10004639-1851703200-1851710400@stoughtoncc.com
SUMMARY:S3DA Archery
DESCRIPTION:
URL:https://stoughtoncc.com/event/s3da/2028-09-04/
LOCATION:Indoor Archery Range
ORGANIZER;CN="Dave Rynes":MAILTO:blackdogdr@gmail.com
END:VEVENT
BEGIN:VEVENT
DTSTART;TZID=America/Chicago:20281002T180000
DTEND;TZID=America/Chicago:20281002T200000
DTSTAMP:20260423T095351
CREATED:20250106T214651Z
LAST-MODIFIED:20250106T230453Z
UID:10004640-1854122400-1854129600@stoughtoncc.com
SUMMARY:S3DA Archery
DESCRIPTION:
URL:https://stoughtoncc.com/event/s3da/2028-10-02/
LOCATION:Indoor Archery Range
ORGANIZER;CN="Dave Rynes":MAILTO:blackdogdr@gmail.com
END:VEVENT
END:VCALENDAR