BEGIN:VCALENDAR
VERSION:2.0
PRODID:-//Stoughton Conservation Club - ECPv6.15.20//NONSGML v1.0//EN
CALSCALE:GREGORIAN
METHOD:PUBLISH
X-WR-CALNAME:Stoughton Conservation Club
X-ORIGINAL-URL:https://stoughtoncc.com
X-WR-CALDESC:Events for Stoughton Conservation Club
REFRESH-INTERVAL;VALUE=DURATION:PT1H
X-Robots-Tag:noindex
X-PUBLISHED-TTL:PT1H
BEGIN:VTIMEZONE
TZID:America/Chicago
BEGIN:DAYLIGHT
TZOFFSETFROM:-0600
TZOFFSETTO:-0500
TZNAME:CDT
DTSTART:20250309T080000
END:DAYLIGHT
BEGIN:STANDARD
TZOFFSETFROM:-0500
TZOFFSETTO:-0600
TZNAME:CST
DTSTART:20251102T070000
END:STANDARD
BEGIN:DAYLIGHT
TZOFFSETFROM:-0600
TZOFFSETTO:-0500
TZNAME:CDT
DTSTART:20260308T080000
END:DAYLIGHT
BEGIN:STANDARD
TZOFFSETFROM:-0500
TZOFFSETTO:-0600
TZNAME:CST
DTSTART:20261101T070000
END:STANDARD
BEGIN:DAYLIGHT
TZOFFSETFROM:-0600
TZOFFSETTO:-0500
TZNAME:CDT
DTSTART:20270314T080000
END:DAYLIGHT
BEGIN:STANDARD
TZOFFSETFROM:-0500
TZOFFSETTO:-0600
TZNAME:CST
DTSTART:20271107T070000
END:STANDARD
BEGIN:DAYLIGHT
TZOFFSETFROM:-0600
TZOFFSETTO:-0500
TZNAME:CDT
DTSTART:20280312T080000
END:DAYLIGHT
BEGIN:STANDARD
TZOFFSETFROM:-0500
TZOFFSETTO:-0600
TZNAME:CST
DTSTART:20281105T070000
END:STANDARD
BEGIN:DAYLIGHT
TZOFFSETFROM:-0600
TZOFFSETTO:-0500
TZNAME:CDT
DTSTART:20290311T080000
END:DAYLIGHT
BEGIN:STANDARD
TZOFFSETFROM:-0500
TZOFFSETTO:-0600
TZNAME:CST
DTSTART:20291104T070000
END:STANDARD
END:VTIMEZONE
BEGIN:VEVENT
DTSTART;TZID=America/Chicago:20260518T180000
DTEND;TZID=America/Chicago:20260518T200000
DTSTAMP:20260423T095319
CREATED:20250106T214248Z
LAST-MODIFIED:20250106T230443Z
UID:10004530-1779127200-1779134400@stoughtoncc.com
SUMMARY:S3DA Archery
DESCRIPTION:
URL:https://stoughtoncc.com/event/s3da-2/2026-05-18/
LOCATION:Indoor Archery Range
ORGANIZER;CN="Dave Rynes":MAILTO:blackdogdr@gmail.com
END:VEVENT
BEGIN:VEVENT
DTSTART;TZID=America/Chicago:20260615T180000
DTEND;TZID=America/Chicago:20260615T200000
DTSTAMP:20260423T095319
CREATED:20250106T214248Z
LAST-MODIFIED:20250106T230443Z
UID:10004531-1781546400-1781553600@stoughtoncc.com
SUMMARY:S3DA Archery
DESCRIPTION:
URL:https://stoughtoncc.com/event/s3da-2/2026-06-15/
LOCATION:Indoor Archery Range
ORGANIZER;CN="Dave Rynes":MAILTO:blackdogdr@gmail.com
END:VEVENT
BEGIN:VEVENT
DTSTART;TZID=America/Chicago:20260720T180000
DTEND;TZID=America/Chicago:20260720T200000
DTSTAMP:20260423T095319
CREATED:20250106T214248Z
LAST-MODIFIED:20250106T230443Z
UID:10004532-1784570400-1784577600@stoughtoncc.com
SUMMARY:S3DA Archery
DESCRIPTION:
URL:https://stoughtoncc.com/event/s3da-2/2026-07-20/
LOCATION:Indoor Archery Range
ORGANIZER;CN="Dave Rynes":MAILTO:blackdogdr@gmail.com
END:VEVENT
BEGIN:VEVENT
DTSTART;TZID=America/Chicago:20260817T180000
DTEND;TZID=America/Chicago:20260817T200000
DTSTAMP:20260423T095319
CREATED:20250106T214248Z
LAST-MODIFIED:20250106T230443Z
UID:10004533-1786989600-1786996800@stoughtoncc.com
SUMMARY:S3DA Archery
DESCRIPTION:
URL:https://stoughtoncc.com/event/s3da-2/2026-08-17/
LOCATION:Indoor Archery Range
ORGANIZER;CN="Dave Rynes":MAILTO:blackdogdr@gmail.com
END:VEVENT
BEGIN:VEVENT
DTSTART;TZID=America/Chicago:20260921T180000
DTEND;TZID=America/Chicago:20260921T200000
DTSTAMP:20260423T095319
CREATED:20250106T214248Z
LAST-MODIFIED:20250106T230443Z
UID:10004534-1790013600-1790020800@stoughtoncc.com
SUMMARY:S3DA Archery
DESCRIPTION:
URL:https://stoughtoncc.com/event/s3da-2/2026-09-21/
LOCATION:Indoor Archery Range
ORGANIZER;CN="Dave Rynes":MAILTO:blackdogdr@gmail.com
END:VEVENT
BEGIN:VEVENT
DTSTART;TZID=America/Chicago:20261019T180000
DTEND;TZID=America/Chicago:20261019T200000
DTSTAMP:20260423T095319
CREATED:20250106T214248Z
LAST-MODIFIED:20250106T230443Z
UID:10004535-1792432800-1792440000@stoughtoncc.com
SUMMARY:S3DA Archery
DESCRIPTION:
URL:https://stoughtoncc.com/event/s3da-2/2026-10-19/
LOCATION:Indoor Archery Range
ORGANIZER;CN="Dave Rynes":MAILTO:blackdogdr@gmail.com
END:VEVENT
BEGIN:VEVENT
DTSTART;TZID=America/Chicago:20261116T180000
DTEND;TZID=America/Chicago:20261116T200000
DTSTAMP:20260423T095319
CREATED:20250106T214248Z
LAST-MODIFIED:20250106T230443Z
UID:10004536-1794852000-1794859200@stoughtoncc.com
SUMMARY:S3DA Archery
DESCRIPTION:
URL:https://stoughtoncc.com/event/s3da-2/2026-11-16/
LOCATION:Indoor Archery Range
ORGANIZER;CN="Dave Rynes":MAILTO:blackdogdr@gmail.com
END:VEVENT
BEGIN:VEVENT
DTSTART;TZID=America/Chicago:20261221T180000
DTEND;TZID=America/Chicago:20261221T200000
DTSTAMP:20260423T095319
CREATED:20250106T214248Z
LAST-MODIFIED:20250106T230443Z
UID:10004537-1797876000-1797883200@stoughtoncc.com
SUMMARY:S3DA Archery
DESCRIPTION:
URL:https://stoughtoncc.com/event/s3da-2/2026-12-21/
LOCATION:Indoor Archery Range
ORGANIZER;CN="Dave Rynes":MAILTO:blackdogdr@gmail.com
END:VEVENT
BEGIN:VEVENT
DTSTART;TZID=America/Chicago:20270118T180000
DTEND;TZID=America/Chicago:20270118T200000
DTSTAMP:20260423T095319
CREATED:20250106T214248Z
LAST-MODIFIED:20250106T230443Z
UID:10004538-1800295200-1800302400@stoughtoncc.com
SUMMARY:S3DA Archery
DESCRIPTION:
URL:https://stoughtoncc.com/event/s3da-2/2027-01-18/
LOCATION:Indoor Archery Range
ORGANIZER;CN="Dave Rynes":MAILTO:blackdogdr@gmail.com
END:VEVENT
BEGIN:VEVENT
DTSTART;TZID=America/Chicago:20270215T180000
DTEND;TZID=America/Chicago:20270215T200000
DTSTAMP:20260423T095319
CREATED:20250106T214248Z
LAST-MODIFIED:20250106T230443Z
UID:10004539-1802714400-1802721600@stoughtoncc.com
SUMMARY:S3DA Archery
DESCRIPTION:
URL:https://stoughtoncc.com/event/s3da-2/2027-02-15/
LOCATION:Indoor Archery Range
ORGANIZER;CN="Dave Rynes":MAILTO:blackdogdr@gmail.com
END:VEVENT
BEGIN:VEVENT
DTSTART;TZID=America/Chicago:20270315T180000
DTEND;TZID=America/Chicago:20270315T200000
DTSTAMP:20260423T095319
CREATED:20250106T214248Z
LAST-MODIFIED:20250106T230443Z
UID:10004540-1805133600-1805140800@stoughtoncc.com
SUMMARY:S3DA Archery
DESCRIPTION:
URL:https://stoughtoncc.com/event/s3da-2/2027-03-15/
LOCATION:Indoor Archery Range
ORGANIZER;CN="Dave Rynes":MAILTO:blackdogdr@gmail.com
END:VEVENT
BEGIN:VEVENT
DTSTART;TZID=America/Chicago:20270419T180000
DTEND;TZID=America/Chicago:20270419T200000
DTSTAMP:20260423T095319
CREATED:20250106T214248Z
LAST-MODIFIED:20250106T230443Z
UID:10004541-1808157600-1808164800@stoughtoncc.com
SUMMARY:S3DA Archery
DESCRIPTION:
URL:https://stoughtoncc.com/event/s3da-2/2027-04-19/
LOCATION:Indoor Archery Range
ORGANIZER;CN="Dave Rynes":MAILTO:blackdogdr@gmail.com
END:VEVENT
BEGIN:VEVENT
DTSTART;TZID=America/Chicago:20270517T180000
DTEND;TZID=America/Chicago:20270517T200000
DTSTAMP:20260423T095319
CREATED:20250106T214248Z
LAST-MODIFIED:20250106T230443Z
UID:10004542-1810576800-1810584000@stoughtoncc.com
SUMMARY:S3DA Archery
DESCRIPTION:
URL:https://stoughtoncc.com/event/s3da-2/2027-05-17/
LOCATION:Indoor Archery Range
ORGANIZER;CN="Dave Rynes":MAILTO:blackdogdr@gmail.com
END:VEVENT
BEGIN:VEVENT
DTSTART;TZID=America/Chicago:20270621T180000
DTEND;TZID=America/Chicago:20270621T200000
DTSTAMP:20260423T095319
CREATED:20250106T214248Z
LAST-MODIFIED:20250106T230443Z
UID:10004543-1813600800-1813608000@stoughtoncc.com
SUMMARY:S3DA Archery
DESCRIPTION:
URL:https://stoughtoncc.com/event/s3da-2/2027-06-21/
LOCATION:Indoor Archery Range
ORGANIZER;CN="Dave Rynes":MAILTO:blackdogdr@gmail.com
END:VEVENT
BEGIN:VEVENT
DTSTART;TZID=America/Chicago:20270719T180000
DTEND;TZID=America/Chicago:20270719T200000
DTSTAMP:20260423T095319
CREATED:20250106T214248Z
LAST-MODIFIED:20250106T230443Z
UID:10004544-1816020000-1816027200@stoughtoncc.com
SUMMARY:S3DA Archery
DESCRIPTION:
URL:https://stoughtoncc.com/event/s3da-2/2027-07-19/
LOCATION:Indoor Archery Range
ORGANIZER;CN="Dave Rynes":MAILTO:blackdogdr@gmail.com
END:VEVENT
BEGIN:VEVENT
DTSTART;TZID=America/Chicago:20270816T180000
DTEND;TZID=America/Chicago:20270816T200000
DTSTAMP:20260423T095319
CREATED:20250106T214248Z
LAST-MODIFIED:20250106T230443Z
UID:10004545-1818439200-1818446400@stoughtoncc.com
SUMMARY:S3DA Archery
DESCRIPTION:
URL:https://stoughtoncc.com/event/s3da-2/2027-08-16/
LOCATION:Indoor Archery Range
ORGANIZER;CN="Dave Rynes":MAILTO:blackdogdr@gmail.com
END:VEVENT
BEGIN:VEVENT
DTSTART;TZID=America/Chicago:20270920T180000
DTEND;TZID=America/Chicago:20270920T200000
DTSTAMP:20260423T095319
CREATED:20250106T214248Z
LAST-MODIFIED:20250106T230443Z
UID:10004546-1821463200-1821470400@stoughtoncc.com
SUMMARY:S3DA Archery
DESCRIPTION:
URL:https://stoughtoncc.com/event/s3da-2/2027-09-20/
LOCATION:Indoor Archery Range
ORGANIZER;CN="Dave Rynes":MAILTO:blackdogdr@gmail.com
END:VEVENT
BEGIN:VEVENT
DTSTART;TZID=America/Chicago:20271018T180000
DTEND;TZID=America/Chicago:20271018T200000
DTSTAMP:20260423T095319
CREATED:20250106T214248Z
LAST-MODIFIED:20250106T230443Z
UID:10004547-1823882400-1823889600@stoughtoncc.com
SUMMARY:S3DA Archery
DESCRIPTION:
URL:https://stoughtoncc.com/event/s3da-2/2027-10-18/
LOCATION:Indoor Archery Range
ORGANIZER;CN="Dave Rynes":MAILTO:blackdogdr@gmail.com
END:VEVENT
BEGIN:VEVENT
DTSTART;TZID=America/Chicago:20271115T180000
DTEND;TZID=America/Chicago:20271115T200000
DTSTAMP:20260423T095319
CREATED:20250106T214248Z
LAST-MODIFIED:20250106T230443Z
UID:10004548-1826301600-1826308800@stoughtoncc.com
SUMMARY:S3DA Archery
DESCRIPTION:
URL:https://stoughtoncc.com/event/s3da-2/2027-11-15/
LOCATION:Indoor Archery Range
ORGANIZER;CN="Dave Rynes":MAILTO:blackdogdr@gmail.com
END:VEVENT
BEGIN:VEVENT
DTSTART;TZID=America/Chicago:20271220T180000
DTEND;TZID=America/Chicago:20271220T200000
DTSTAMP:20260423T095319
CREATED:20250106T214248Z
LAST-MODIFIED:20250106T230443Z
UID:10004549-1829325600-1829332800@stoughtoncc.com
SUMMARY:S3DA Archery
DESCRIPTION:
URL:https://stoughtoncc.com/event/s3da-2/2027-12-20/
LOCATION:Indoor Archery Range
ORGANIZER;CN="Dave Rynes":MAILTO:blackdogdr@gmail.com
END:VEVENT
BEGIN:VEVENT
DTSTART;TZID=America/Chicago:20280117T180000
DTEND;TZID=America/Chicago:20280117T200000
DTSTAMP:20260423T095319
CREATED:20250106T214248Z
LAST-MODIFIED:20250106T230443Z
UID:10004550-1831744800-1831752000@stoughtoncc.com
SUMMARY:S3DA Archery
DESCRIPTION:
URL:https://stoughtoncc.com/event/s3da-2/2028-01-17/
LOCATION:Indoor Archery Range
ORGANIZER;CN="Dave Rynes":MAILTO:blackdogdr@gmail.com
END:VEVENT
BEGIN:VEVENT
DTSTART;TZID=America/Chicago:20280221T180000
DTEND;TZID=America/Chicago:20280221T200000
DTSTAMP:20260423T095319
CREATED:20250106T214248Z
LAST-MODIFIED:20250106T230443Z
UID:10004551-1834768800-1834776000@stoughtoncc.com
SUMMARY:S3DA Archery
DESCRIPTION:
URL:https://stoughtoncc.com/event/s3da-2/2028-02-21/
LOCATION:Indoor Archery Range
ORGANIZER;CN="Dave Rynes":MAILTO:blackdogdr@gmail.com
END:VEVENT
BEGIN:VEVENT
DTSTART;TZID=America/Chicago:20280320T180000
DTEND;TZID=America/Chicago:20280320T200000
DTSTAMP:20260423T095319
CREATED:20250106T214248Z
LAST-MODIFIED:20250106T230443Z
UID:10004552-1837188000-1837195200@stoughtoncc.com
SUMMARY:S3DA Archery
DESCRIPTION:
URL:https://stoughtoncc.com/event/s3da-2/2028-03-20/
LOCATION:Indoor Archery Range
ORGANIZER;CN="Dave Rynes":MAILTO:blackdogdr@gmail.com
END:VEVENT
BEGIN:VEVENT
DTSTART;TZID=America/Chicago:20280417T180000
DTEND;TZID=America/Chicago:20280417T200000
DTSTAMP:20260423T095319
CREATED:20250106T214248Z
LAST-MODIFIED:20250106T230443Z
UID:10004553-1839607200-1839614400@stoughtoncc.com
SUMMARY:S3DA Archery
DESCRIPTION:
URL:https://stoughtoncc.com/event/s3da-2/2028-04-17/
LOCATION:Indoor Archery Range
ORGANIZER;CN="Dave Rynes":MAILTO:blackdogdr@gmail.com
END:VEVENT
BEGIN:VEVENT
DTSTART;TZID=America/Chicago:20280515T180000
DTEND;TZID=America/Chicago:20280515T200000
DTSTAMP:20260423T095319
CREATED:20250106T214248Z
LAST-MODIFIED:20250106T230443Z
UID:10004554-1842026400-1842033600@stoughtoncc.com
SUMMARY:S3DA Archery
DESCRIPTION:
URL:https://stoughtoncc.com/event/s3da-2/2028-05-15/
LOCATION:Indoor Archery Range
ORGANIZER;CN="Dave Rynes":MAILTO:blackdogdr@gmail.com
END:VEVENT
BEGIN:VEVENT
DTSTART;TZID=America/Chicago:20280619T180000
DTEND;TZID=America/Chicago:20280619T200000
DTSTAMP:20260423T095319
CREATED:20250106T214248Z
LAST-MODIFIED:20250106T230443Z
UID:10004555-1845050400-1845057600@stoughtoncc.com
SUMMARY:S3DA Archery
DESCRIPTION:
URL:https://stoughtoncc.com/event/s3da-2/2028-06-19/
LOCATION:Indoor Archery Range
ORGANIZER;CN="Dave Rynes":MAILTO:blackdogdr@gmail.com
END:VEVENT
BEGIN:VEVENT
DTSTART;TZID=America/Chicago:20280717T180000
DTEND;TZID=America/Chicago:20280717T200000
DTSTAMP:20260423T095319
CREATED:20250106T214248Z
LAST-MODIFIED:20250106T230443Z
UID:10004556-1847469600-1847476800@stoughtoncc.com
SUMMARY:S3DA Archery
DESCRIPTION:
URL:https://stoughtoncc.com/event/s3da-2/2028-07-17/
LOCATION:Indoor Archery Range
ORGANIZER;CN="Dave Rynes":MAILTO:blackdogdr@gmail.com
END:VEVENT
BEGIN:VEVENT
DTSTART;TZID=America/Chicago:20280821T180000
DTEND;TZID=America/Chicago:20280821T200000
DTSTAMP:20260423T095319
CREATED:20250106T214248Z
LAST-MODIFIED:20250106T230443Z
UID:10004557-1850493600-1850500800@stoughtoncc.com
SUMMARY:S3DA Archery
DESCRIPTION:
URL:https://stoughtoncc.com/event/s3da-2/2028-08-21/
LOCATION:Indoor Archery Range
ORGANIZER;CN="Dave Rynes":MAILTO:blackdogdr@gmail.com
END:VEVENT
BEGIN:VEVENT
DTSTART;TZID=America/Chicago:20280918T180000
DTEND;TZID=America/Chicago:20280918T200000
DTSTAMP:20260423T095319
CREATED:20250106T214248Z
LAST-MODIFIED:20250106T230443Z
UID:10004558-1852912800-1852920000@stoughtoncc.com
SUMMARY:S3DA Archery
DESCRIPTION:
URL:https://stoughtoncc.com/event/s3da-2/2028-09-18/
LOCATION:Indoor Archery Range
ORGANIZER;CN="Dave Rynes":MAILTO:blackdogdr@gmail.com
END:VEVENT
BEGIN:VEVENT
DTSTART;TZID=America/Chicago:20281016T180000
DTEND;TZID=America/Chicago:20281016T200000
DTSTAMP:20260423T095319
CREATED:20250106T214248Z
LAST-MODIFIED:20250106T230443Z
UID:10004559-1855332000-1855339200@stoughtoncc.com
SUMMARY:S3DA Archery
DESCRIPTION:
URL:https://stoughtoncc.com/event/s3da-2/2028-10-16/
LOCATION:Indoor Archery Range
ORGANIZER;CN="Dave Rynes":MAILTO:blackdogdr@gmail.com
END:VEVENT
END:VCALENDAR