BEGIN:VCALENDAR
VERSION:2.0
PRODID:-//Stoughton Conservation Club - ECPv6.15.20//NONSGML v1.0//EN
CALSCALE:GREGORIAN
METHOD:PUBLISH
X-ORIGINAL-URL:https://stoughtoncc.com
X-WR-CALDESC:Events for Stoughton Conservation Club
REFRESH-INTERVAL;VALUE=DURATION:PT1H
X-Robots-Tag:noindex
X-PUBLISHED-TTL:PT1H
BEGIN:VTIMEZONE
TZID:America/Chicago
BEGIN:DAYLIGHT
TZOFFSETFROM:-0600
TZOFFSETTO:-0500
TZNAME:CDT
DTSTART:20260308T080000
END:DAYLIGHT
BEGIN:STANDARD
TZOFFSETFROM:-0500
TZOFFSETTO:-0600
TZNAME:CST
DTSTART:20261101T070000
END:STANDARD
BEGIN:DAYLIGHT
TZOFFSETFROM:-0600
TZOFFSETTO:-0500
TZNAME:CDT
DTSTART:20270314T080000
END:DAYLIGHT
BEGIN:STANDARD
TZOFFSETFROM:-0500
TZOFFSETTO:-0600
TZNAME:CST
DTSTART:20271107T070000
END:STANDARD
BEGIN:DAYLIGHT
TZOFFSETFROM:-0600
TZOFFSETTO:-0500
TZNAME:CDT
DTSTART:20280312T080000
END:DAYLIGHT
BEGIN:STANDARD
TZOFFSETFROM:-0500
TZOFFSETTO:-0600
TZNAME:CST
DTSTART:20281105T070000
END:STANDARD
END:VTIMEZONE
BEGIN:VEVENT
DTSTART;TZID=America/Chicago:20270705T080000
DTEND;TZID=America/Chicago:20270705T110000
DTSTAMP:20260424T034117
CREATED:20241210T180811Z
LAST-MODIFIED:20250508T035024Z
UID:10004173-1814774400-1814785200@stoughtoncc.com
SUMMARY:Monday Morning Trap/Skeet
DESCRIPTION:Open trap and skeet for members. Come\, shoot\, drink coffee.
URL:https://stoughtoncc.com/event/monday-morning-trap-skeet/2027-07-05/
LOCATION:Trap & Skeet Fields
END:VEVENT
BEGIN:VEVENT
DTSTART;TZID=America/Chicago:20270705T180000
DTEND;TZID=America/Chicago:20270705T200000
DTSTAMP:20260424T034117
CREATED:20250106T214651Z
LAST-MODIFIED:20250106T230453Z
UID:10004625-1814810400-1814817600@stoughtoncc.com
SUMMARY:S3DA Archery
DESCRIPTION:
URL:https://stoughtoncc.com/event/s3da/2027-07-05/
LOCATION:Indoor Archery Range
ORGANIZER;CN="Dave Rynes":MAILTO:blackdogdr@gmail.com
END:VEVENT
BEGIN:VEVENT
DTSTART;TZID=America/Chicago:20270712T080000
DTEND;TZID=America/Chicago:20270712T110000
DTSTAMP:20260424T034117
CREATED:20241210T180811Z
LAST-MODIFIED:20250508T035024Z
UID:10004174-1815379200-1815390000@stoughtoncc.com
SUMMARY:Monday Morning Trap/Skeet
DESCRIPTION:Open trap and skeet for members. Come\, shoot\, drink coffee.
URL:https://stoughtoncc.com/event/monday-morning-trap-skeet/2027-07-12/
LOCATION:Trap & Skeet Fields
END:VEVENT
BEGIN:VEVENT
DTSTART;TZID=America/Chicago:20270712T173000
DTEND;TZID=America/Chicago:20270712T190000
DTSTAMP:20260424T034117
CREATED:20241209T164257Z
LAST-MODIFIED:20250508T035832Z
UID:10004806-1815413400-1815418800@stoughtoncc.com
SUMMARY:Member Orientation - Indoor Archery Closed
DESCRIPTION:In-person orientation is required for new members\, and begins promptly at 6 PM before the monthly general membership meeting. \nOther membership situations can also be handled during this time. \nIndoor Archery will be CLOSED at 5:30 for setup.
URL:https://stoughtoncc.com/event/member-orientation/2027-07-12/
LOCATION:Main Clubhouse
END:VEVENT
BEGIN:VEVENT
DTSTART;TZID=America/Chicago:20270712T190000
DTEND;TZID=America/Chicago:20270712T200000
DTSTAMP:20260424T034117
CREATED:20241210T172441Z
LAST-MODIFIED:20241210T172441Z
UID:10003999-1815418800-1815422400@stoughtoncc.com
SUMMARY:Member Meeting
DESCRIPTION:
URL:https://stoughtoncc.com/event/member-meeting/2027-07-12/
LOCATION:Main Clubhouse
END:VEVENT
BEGIN:VEVENT
DTSTART;TZID=America/Chicago:20270719T080000
DTEND;TZID=America/Chicago:20270719T110000
DTSTAMP:20260424T034117
CREATED:20241210T180811Z
LAST-MODIFIED:20250508T035024Z
UID:10004175-1815984000-1815994800@stoughtoncc.com
SUMMARY:Monday Morning Trap/Skeet
DESCRIPTION:Open trap and skeet for members. Come\, shoot\, drink coffee.
URL:https://stoughtoncc.com/event/monday-morning-trap-skeet/2027-07-19/
LOCATION:Trap & Skeet Fields
END:VEVENT
BEGIN:VEVENT
DTSTART;TZID=America/Chicago:20270719T180000
DTEND;TZID=America/Chicago:20270719T200000
DTSTAMP:20260424T034117
CREATED:20250106T214248Z
LAST-MODIFIED:20250106T230443Z
UID:10004544-1816020000-1816027200@stoughtoncc.com
SUMMARY:S3DA Archery
DESCRIPTION:
URL:https://stoughtoncc.com/event/s3da-2/2027-07-19/
LOCATION:Indoor Archery Range
ORGANIZER;CN="Dave Rynes":MAILTO:blackdogdr@gmail.com
END:VEVENT
BEGIN:VEVENT
DTSTART;TZID=America/Chicago:20270726T080000
DTEND;TZID=America/Chicago:20270726T110000
DTSTAMP:20260424T034117
CREATED:20241210T180811Z
LAST-MODIFIED:20250508T035024Z
UID:10004176-1816588800-1816599600@stoughtoncc.com
SUMMARY:Monday Morning Trap/Skeet
DESCRIPTION:Open trap and skeet for members. Come\, shoot\, drink coffee.
URL:https://stoughtoncc.com/event/monday-morning-trap-skeet/2027-07-26/
LOCATION:Trap & Skeet Fields
END:VEVENT
END:VCALENDAR