BEGIN:VCALENDAR
VERSION:2.0
PRODID:-//Stoughton Conservation Club - ECPv6.15.20//NONSGML v1.0//EN
CALSCALE:GREGORIAN
METHOD:PUBLISH
X-ORIGINAL-URL:https://stoughtoncc.com
X-WR-CALDESC:Events for Stoughton Conservation Club
REFRESH-INTERVAL;VALUE=DURATION:PT1H
X-Robots-Tag:noindex
X-PUBLISHED-TTL:PT1H
BEGIN:VTIMEZONE
TZID:America/Chicago
BEGIN:DAYLIGHT
TZOFFSETFROM:-0600
TZOFFSETTO:-0500
TZNAME:CDT
DTSTART:20260308T080000
END:DAYLIGHT
BEGIN:STANDARD
TZOFFSETFROM:-0500
TZOFFSETTO:-0600
TZNAME:CST
DTSTART:20261101T070000
END:STANDARD
BEGIN:DAYLIGHT
TZOFFSETFROM:-0600
TZOFFSETTO:-0500
TZNAME:CDT
DTSTART:20270314T080000
END:DAYLIGHT
BEGIN:STANDARD
TZOFFSETFROM:-0500
TZOFFSETTO:-0600
TZNAME:CST
DTSTART:20271107T070000
END:STANDARD
BEGIN:DAYLIGHT
TZOFFSETFROM:-0600
TZOFFSETTO:-0500
TZNAME:CDT
DTSTART:20280312T080000
END:DAYLIGHT
BEGIN:STANDARD
TZOFFSETFROM:-0500
TZOFFSETTO:-0600
TZNAME:CST
DTSTART:20281105T070000
END:STANDARD
END:VTIMEZONE
BEGIN:VEVENT
DTSTART;TZID=America/Chicago:20270301T080000
DTEND;TZID=America/Chicago:20270301T110000
DTSTAMP:20260423T223703
CREATED:20241210T180811Z
LAST-MODIFIED:20250508T035024Z
UID:10004155-1803888000-1803898800@stoughtoncc.com
SUMMARY:Monday Morning Trap/Skeet
DESCRIPTION:Open trap and skeet for members. Come\, shoot\, drink coffee.
URL:https://stoughtoncc.com/event/monday-morning-trap-skeet/2027-03-01/
LOCATION:Trap & Skeet Fields
END:VEVENT
BEGIN:VEVENT
DTSTART;TZID=America/Chicago:20270301T180000
DTEND;TZID=America/Chicago:20270301T200000
DTSTAMP:20260423T223703
CREATED:20250106T214651Z
LAST-MODIFIED:20250106T230453Z
UID:10004621-1803924000-1803931200@stoughtoncc.com
SUMMARY:S3DA Archery
DESCRIPTION:
URL:https://stoughtoncc.com/event/s3da/2027-03-01/
LOCATION:Indoor Archery Range
ORGANIZER;CN="Dave Rynes":MAILTO:blackdogdr@gmail.com
END:VEVENT
BEGIN:VEVENT
DTSTART;TZID=America/Chicago:20270308T080000
DTEND;TZID=America/Chicago:20270308T110000
DTSTAMP:20260423T223703
CREATED:20241210T180811Z
LAST-MODIFIED:20250508T035024Z
UID:10004156-1804492800-1804503600@stoughtoncc.com
SUMMARY:Monday Morning Trap/Skeet
DESCRIPTION:Open trap and skeet for members. Come\, shoot\, drink coffee.
URL:https://stoughtoncc.com/event/monday-morning-trap-skeet/2027-03-08/
LOCATION:Trap & Skeet Fields
END:VEVENT
BEGIN:VEVENT
DTSTART;TZID=America/Chicago:20270308T173000
DTEND;TZID=America/Chicago:20270308T190000
DTSTAMP:20260423T223703
CREATED:20241209T164257Z
LAST-MODIFIED:20250508T035832Z
UID:10004802-1804527000-1804532400@stoughtoncc.com
SUMMARY:Member Orientation - Indoor Archery Closed
DESCRIPTION:In-person orientation is required for new members\, and begins promptly at 6 PM before the monthly general membership meeting. \nOther membership situations can also be handled during this time. \nIndoor Archery will be CLOSED at 5:30 for setup.
URL:https://stoughtoncc.com/event/member-orientation/2027-03-08/
LOCATION:Main Clubhouse
END:VEVENT
BEGIN:VEVENT
DTSTART;TZID=America/Chicago:20270308T190000
DTEND;TZID=America/Chicago:20270308T200000
DTSTAMP:20260423T223703
CREATED:20241210T172441Z
LAST-MODIFIED:20241210T172441Z
UID:10003995-1804532400-1804536000@stoughtoncc.com
SUMMARY:Member Meeting
DESCRIPTION:
URL:https://stoughtoncc.com/event/member-meeting/2027-03-08/
LOCATION:Main Clubhouse
END:VEVENT
BEGIN:VEVENT
DTSTART;TZID=America/Chicago:20270315T080000
DTEND;TZID=America/Chicago:20270315T110000
DTSTAMP:20260423T223703
CREATED:20241210T180811Z
LAST-MODIFIED:20250508T035024Z
UID:10004157-1805097600-1805108400@stoughtoncc.com
SUMMARY:Monday Morning Trap/Skeet
DESCRIPTION:Open trap and skeet for members. Come\, shoot\, drink coffee.
URL:https://stoughtoncc.com/event/monday-morning-trap-skeet/2027-03-15/
LOCATION:Trap & Skeet Fields
END:VEVENT
BEGIN:VEVENT
DTSTART;TZID=America/Chicago:20270315T180000
DTEND;TZID=America/Chicago:20270315T200000
DTSTAMP:20260423T223703
CREATED:20250106T214248Z
LAST-MODIFIED:20250106T230443Z
UID:10004540-1805133600-1805140800@stoughtoncc.com
SUMMARY:S3DA Archery
DESCRIPTION:
URL:https://stoughtoncc.com/event/s3da-2/2027-03-15/
LOCATION:Indoor Archery Range
ORGANIZER;CN="Dave Rynes":MAILTO:blackdogdr@gmail.com
END:VEVENT
BEGIN:VEVENT
DTSTART;TZID=America/Chicago:20270322T080000
DTEND;TZID=America/Chicago:20270322T110000
DTSTAMP:20260423T223703
CREATED:20241210T180811Z
LAST-MODIFIED:20250508T035024Z
UID:10004158-1805702400-1805713200@stoughtoncc.com
SUMMARY:Monday Morning Trap/Skeet
DESCRIPTION:Open trap and skeet for members. Come\, shoot\, drink coffee.
URL:https://stoughtoncc.com/event/monday-morning-trap-skeet/2027-03-22/
LOCATION:Trap & Skeet Fields
END:VEVENT
BEGIN:VEVENT
DTSTART;TZID=America/Chicago:20270329T080000
DTEND;TZID=America/Chicago:20270329T110000
DTSTAMP:20260423T223703
CREATED:20241210T180811Z
LAST-MODIFIED:20250508T035024Z
UID:10004159-1806307200-1806318000@stoughtoncc.com
SUMMARY:Monday Morning Trap/Skeet
DESCRIPTION:Open trap and skeet for members. Come\, shoot\, drink coffee.
URL:https://stoughtoncc.com/event/monday-morning-trap-skeet/2027-03-29/
LOCATION:Trap & Skeet Fields
END:VEVENT
END:VCALENDAR