BEGIN:VCALENDAR
VERSION:2.0
PRODID:-//Stoughton Conservation Club - ECPv6.15.20//NONSGML v1.0//EN
CALSCALE:GREGORIAN
METHOD:PUBLISH
X-WR-CALNAME:Stoughton Conservation Club
X-ORIGINAL-URL:https://stoughtoncc.com
X-WR-CALDESC:Events for Stoughton Conservation Club
REFRESH-INTERVAL;VALUE=DURATION:PT1H
X-Robots-Tag:noindex
X-PUBLISHED-TTL:PT1H
BEGIN:VTIMEZONE
TZID:America/Chicago
BEGIN:DAYLIGHT
TZOFFSETFROM:-0600
TZOFFSETTO:-0500
TZNAME:CDT
DTSTART:20240310T080000
END:DAYLIGHT
BEGIN:STANDARD
TZOFFSETFROM:-0500
TZOFFSETTO:-0600
TZNAME:CST
DTSTART:20241103T070000
END:STANDARD
BEGIN:DAYLIGHT
TZOFFSETFROM:-0600
TZOFFSETTO:-0500
TZNAME:CDT
DTSTART:20250309T080000
END:DAYLIGHT
BEGIN:STANDARD
TZOFFSETFROM:-0500
TZOFFSETTO:-0600
TZNAME:CST
DTSTART:20251102T070000
END:STANDARD
BEGIN:DAYLIGHT
TZOFFSETFROM:-0600
TZOFFSETTO:-0500
TZNAME:CDT
DTSTART:20260308T080000
END:DAYLIGHT
BEGIN:STANDARD
TZOFFSETFROM:-0500
TZOFFSETTO:-0600
TZNAME:CST
DTSTART:20261101T070000
END:STANDARD
END:VTIMEZONE
BEGIN:VEVENT
DTSTART;TZID=America/Chicago:20250414T190000
DTEND;TZID=America/Chicago:20250414T200000
DTSTAMP:20260424T113856
CREATED:20241210T172441Z
LAST-MODIFIED:20241210T172441Z
UID:10003972-1744657200-1744660800@stoughtoncc.com
SUMMARY:Member Meeting
DESCRIPTION:
URL:https://stoughtoncc.com/event/member-meeting/2025-04-14/
LOCATION:Main Clubhouse
END:VEVENT
BEGIN:VEVENT
DTSTART;TZID=America/Chicago:20250414T173000
DTEND;TZID=America/Chicago:20250414T190000
DTSTAMP:20260424T113856
CREATED:20241209T164257Z
LAST-MODIFIED:20250508T035832Z
UID:10004779-1744651800-1744657200@stoughtoncc.com
SUMMARY:Member Orientation - Indoor Archery Closed
DESCRIPTION:In-person orientation is required for new members\, and begins promptly at 6 PM before the monthly general membership meeting. \nOther membership situations can also be handled during this time. \nIndoor Archery will be CLOSED at 5:30 for setup.
URL:https://stoughtoncc.com/event/member-orientation/2025-04-14/
LOCATION:Main Clubhouse
END:VEVENT
BEGIN:VEVENT
DTSTART;TZID=America/Chicago:20250414T080000
DTEND;TZID=America/Chicago:20250414T110000
DTSTAMP:20260424T113856
CREATED:20241210T180811Z
LAST-MODIFIED:20250508T035024Z
UID:10004057-1744617600-1744628400@stoughtoncc.com
SUMMARY:Monday Morning Trap/Skeet
DESCRIPTION:Open trap and skeet for members. Come\, shoot\, drink coffee.
URL:https://stoughtoncc.com/event/monday-morning-trap-skeet/2025-04-14/
LOCATION:Trap & Skeet Fields
END:VEVENT
BEGIN:VEVENT
DTSTART;TZID=America/Chicago:20250413T130000
DTEND;TZID=America/Chicago:20250413T150000
DTSTAMP:20260424T113856
CREATED:20241119T211422Z
LAST-MODIFIED:20260413T182358Z
UID:10004435-1744549200-1744556400@stoughtoncc.com
SUMMARY:Women's Open Pistol Shoot (Public)
DESCRIPTION:Dates:\nSunday\, May 10: 12-2pm – Cancelled due to Mother’s Day\nSunday\, June 14: 12-2pm\nSunday\, July 12: 12-2pm\nSunday\, August 9: 12-2pm\nSunday\, September 13: 12-2pm\nSunday\, October 11: 12-2pm\nSunday\, November 8: 12-2pm\n  \n\n\nOrganizer:\nMarla Waugh:  MarlaLFish@gmail.com\n\nDetails:\nWomen club members and non-members are welcome to attend the Women’s Open Shoot.  Event fee of $5 for non-members.  Cash only.\n\nBring your pistol\, ammo\, eye and ear protection\, and targets and come to the Women’s Open Shoot.  Meet other women club members or experience the club first hand!  A female NRA certified range safety officer and pistol instructor will be onsite during the Women’s Open Shoot for guidance if needed.\n\nNon-members do not need to accompany a member during these Women Open Shoot events. Special event fee of $5 for every non-member each shoot.
URL:https://stoughtoncc.com/event/womens-open-shoot/2025-04-13/
LOCATION:Pistol Building
ORGANIZER;CN="Marla Waugh":MAILTO:marlalfish@gmail.com
END:VEVENT
BEGIN:VEVENT
DTSTART;TZID=America/Chicago:20250413T090000
DTEND;TZID=America/Chicago:20250413T140000
DTSTAMP:20260424T113856
CREATED:20241102T215509Z
LAST-MODIFIED:20250610T203144Z
UID:10003832-1744534800-1744552800@stoughtoncc.com
SUMMARY:VLS Practice
DESCRIPTION:Trap and Skeet Fields will be closed for Viking Lead Slingers Youth Trap/Skeet practice.
URL:https://stoughtoncc.com/event/vls-practice-2/2025-04-13/
LOCATION:Trap & Skeet Fields
ORGANIZER;CN="Kevin Kettner":MAILTO:kkettner@gmail.com
END:VEVENT
BEGIN:VEVENT
DTSTART;TZID=America/Chicago:20250412T080000
DTEND;TZID=America/Chicago:20250412T120000
DTSTAMP:20260424T113856
CREATED:20250411T143340Z
LAST-MODIFIED:20250508T034013Z
UID:10004716-1744444800-1744459200@stoughtoncc.com
SUMMARY:4H Pistol
DESCRIPTION:4H will practice pistol shooting at the indoor pistol range.
URL:https://stoughtoncc.com/event/4h-pistol/2025-04-12/
LOCATION:Pistol Building
ORGANIZER;CN="Chad Xander":MAILTO:cmxander70@gmail.com
END:VEVENT
BEGIN:VEVENT
DTSTART;TZID=America/Chicago:20250410T173000
DTEND;TZID=America/Chicago:20250410T220000
DTSTAMP:20260424T113856
CREATED:20250107T215142Z
LAST-MODIFIED:20250107T215142Z
UID:10004660-1744306200-1744322400@stoughtoncc.com
SUMMARY:Trap League Practice Night
DESCRIPTION:
URL:https://stoughtoncc.com/event/trap-league-practice-night/2025-04-10/
END:VEVENT
BEGIN:VEVENT
DTSTART;TZID=America/Chicago:20250410T110000
DTEND;TZID=America/Chicago:20250410T160000
DTSTAMP:20260424T113856
CREATED:20250410T140144Z
LAST-MODIFIED:20250410T140309Z
UID:10004715-1744282800-1744300800@stoughtoncc.com
SUMMARY:Pistol Range Cleaning
DESCRIPTION:The pistol range will be cleaned. Volunteers are needed.
URL:https://stoughtoncc.com/event/pistol-range-cleaning/
LOCATION:Pistol Range
ORGANIZER;CN="Merlin Kotajarvi":MAILTO:merlinkotajarvi@gmail.com
END:VEVENT
BEGIN:VEVENT
DTSTART;TZID=America/Chicago:20250409T180000
DTEND;TZID=America/Chicago:20250409T213000
DTSTAMP:20260424T113856
CREATED:20250401T200213Z
LAST-MODIFIED:20250508T033951Z
UID:10004694-1744221600-1744234200@stoughtoncc.com
SUMMARY:Black Sheep Pistol League
DESCRIPTION:
URL:https://stoughtoncc.com/event/black-sheep-pistol-league/2025-04-09/
LOCATION:Pistol Building
END:VEVENT
BEGIN:VEVENT
DTSTART;TZID=America/Chicago:20250409T170000
DTEND;TZID=America/Chicago:20250409T210000
DTSTAMP:20260424T113856
CREATED:20250401T200055Z
LAST-MODIFIED:20250508T035359Z
UID:10004687-1744218000-1744232400@stoughtoncc.com
SUMMARY:3D Archery League
DESCRIPTION:
URL:https://stoughtoncc.com/event/3d-archery-league/2025-04-09/
LOCATION:Pistol Building
ORGANIZER;CN="Dave Rynes":MAILTO:blackdogdr@gmail.com
END:VEVENT
BEGIN:VEVENT
DTSTART;TZID=America/Chicago:20250408T170000
DTEND;TZID=America/Chicago:20250408T200000
DTSTAMP:20260424T113856
CREATED:20241213T034344Z
LAST-MODIFIED:20241213T034344Z
UID:10004442-1744131600-1744142400@stoughtoncc.com
SUMMARY:4H Air Rifle
DESCRIPTION:4H will use the Indoor Pistol Range.
URL:https://stoughtoncc.com/event/4h-air-rifle/2025-04-08/
ORGANIZER;CN="Chad Xander":MAILTO:cmxander70@gmail.com
END:VEVENT
BEGIN:VEVENT
DTSTART;TZID=America/Chicago:20250407T180000
DTEND;TZID=America/Chicago:20250407T200000
DTSTAMP:20260424T113856
CREATED:20250106T214651Z
LAST-MODIFIED:20250106T230453Z
UID:10004598-1744048800-1744056000@stoughtoncc.com
SUMMARY:S3DA Archery
DESCRIPTION:
URL:https://stoughtoncc.com/event/s3da/2025-04-07/
LOCATION:Indoor Archery Range
ORGANIZER;CN="Dave Rynes":MAILTO:blackdogdr@gmail.com
END:VEVENT
BEGIN:VEVENT
DTSTART;TZID=America/Chicago:20250407T080000
DTEND;TZID=America/Chicago:20250407T110000
DTSTAMP:20260424T113856
CREATED:20241210T180811Z
LAST-MODIFIED:20250508T035024Z
UID:10004056-1744012800-1744023600@stoughtoncc.com
SUMMARY:Monday Morning Trap/Skeet
DESCRIPTION:Open trap and skeet for members. Come\, shoot\, drink coffee.
URL:https://stoughtoncc.com/event/monday-morning-trap-skeet/2025-04-07/
LOCATION:Trap & Skeet Fields
END:VEVENT
BEGIN:VEVENT
DTSTART;TZID=America/Chicago:20250406T090000
DTEND;TZID=America/Chicago:20250406T140000
DTSTAMP:20260424T113856
CREATED:20241102T215509Z
LAST-MODIFIED:20250610T203144Z
UID:10003831-1743930000-1743948000@stoughtoncc.com
SUMMARY:VLS Practice
DESCRIPTION:Trap and Skeet Fields will be closed for Viking Lead Slingers Youth Trap/Skeet practice.
URL:https://stoughtoncc.com/event/vls-practice-2/2025-04-06/
LOCATION:Trap & Skeet Fields
ORGANIZER;CN="Kevin Kettner":MAILTO:kkettner@gmail.com
END:VEVENT
BEGIN:VEVENT
DTSTART;TZID=America/Chicago:20250406T090000
DTEND;TZID=America/Chicago:20250406T130000
DTSTAMP:20260424T113856
CREATED:20250115T011124Z
LAST-MODIFIED:20250115T011124Z
UID:10004667-1743930000-1743944400@stoughtoncc.com
SUMMARY:VLS Pictures - Rain Location
DESCRIPTION:In case of rain\, the VLS pictures will be taken in the Indoor Archery Range.
URL:https://stoughtoncc.com/event/vls-pictures-rain-location/
LOCATION:Indoor Archery Range
ORGANIZER;CN="Kevin Kettner":MAILTO:kkettner@gmail.com
END:VEVENT
BEGIN:VEVENT
DTSTART;TZID=America/Chicago:20250405T170000
DTEND;TZID=America/Chicago:20250405T210000
DTSTAMP:20260424T113856
CREATED:20241210T175243Z
LAST-MODIFIED:20241210T175243Z
UID:10004035-1743872400-1743886800@stoughtoncc.com
SUMMARY:Member Banquet
DESCRIPTION:
URL:https://stoughtoncc.com/event/member-banquet/
LOCATION:Main Clubhouse
END:VEVENT
BEGIN:VEVENT
DTSTART;TZID=America/Chicago:20250405T080000
DTEND;TZID=America/Chicago:20250405T170000
DTSTAMP:20260424T113856
CREATED:20241210T175109Z
LAST-MODIFIED:20241210T175109Z
UID:10004034-1743840000-1743872400@stoughtoncc.com
SUMMARY:Hunter Education
DESCRIPTION:
URL:https://stoughtoncc.com/event/hunter-education/
END:VEVENT
BEGIN:VEVENT
DTSTART;TZID=America/Chicago:20250403T173000
DTEND;TZID=America/Chicago:20250403T220000
DTSTAMP:20260424T113856
CREATED:20240812T223845Z
LAST-MODIFIED:20240812T223845Z
UID:10003755-1743701400-1743717600@stoughtoncc.com
SUMMARY:Rimfire Pistol League Banquet
DESCRIPTION:
URL:https://stoughtoncc.com/event/rimfire-pistol-league-banquet/
ORGANIZER;CN="Kevin Kettner":MAILTO:kkettner@gmail.com
END:VEVENT
BEGIN:VEVENT
DTSTART;TZID=America/Chicago:20250402T180000
DTEND;TZID=America/Chicago:20250402T220000
DTSTAMP:20260424T113856
CREATED:20241213T030856Z
LAST-MODIFIED:20241213T034841Z
UID:10004327-1743616800-1743631200@stoughtoncc.com
SUMMARY:Indoor Archery League - 2025
DESCRIPTION:
URL:https://stoughtoncc.com/event/indoor-archery-league-2025/2025-04-02/
ORGANIZER;CN="Roger Kluever":MAILTO:07harley89@gmail.com
END:VEVENT
BEGIN:VEVENT
DTSTART;TZID=America/Chicago:20250402T170000
DTEND;TZID=America/Chicago:20250402T210000
DTSTAMP:20260424T113856
CREATED:20250401T200055Z
LAST-MODIFIED:20250508T035359Z
UID:10004686-1743613200-1743627600@stoughtoncc.com
SUMMARY:3D Archery League
DESCRIPTION:
URL:https://stoughtoncc.com/event/3d-archery-league/2025-04-02/
LOCATION:Pistol Building
ORGANIZER;CN="Dave Rynes":MAILTO:blackdogdr@gmail.com
END:VEVENT
BEGIN:VEVENT
DTSTART;TZID=America/Chicago:20250401T180000
DTEND;TZID=America/Chicago:20250401T220000
DTSTAMP:20260424T113856
CREATED:20241213T030856Z
LAST-MODIFIED:20241213T034841Z
UID:10004326-1743530400-1743544800@stoughtoncc.com
SUMMARY:Indoor Archery League - 2025
DESCRIPTION:
URL:https://stoughtoncc.com/event/indoor-archery-league-2025/2025-04-01/
ORGANIZER;CN="Roger Kluever":MAILTO:07harley89@gmail.com
END:VEVENT
BEGIN:VEVENT
DTSTART;TZID=America/Chicago:20250401T170000
DTEND;TZID=America/Chicago:20250401T200000
DTSTAMP:20260424T113856
CREATED:20241213T034344Z
LAST-MODIFIED:20241213T034344Z
UID:10004441-1743526800-1743537600@stoughtoncc.com
SUMMARY:4H Air Rifle
DESCRIPTION:4H will use the Indoor Pistol Range.
URL:https://stoughtoncc.com/event/4h-air-rifle/2025-04-01/
ORGANIZER;CN="Chad Xander":MAILTO:cmxander70@gmail.com
END:VEVENT
BEGIN:VEVENT
DTSTART;TZID=America/Chicago:20250331T190000
DTEND;TZID=America/Chicago:20250331T210000
DTSTAMP:20260424T113856
CREATED:20241210T165655Z
LAST-MODIFIED:20250521T042757Z
UID:10003959-1743447600-1743454800@stoughtoncc.com
SUMMARY:Board of Directors Meeting
DESCRIPTION:
URL:https://stoughtoncc.com/event/board-of-directors-meeting-2/2025-03-31/
LOCATION:Main Clubhouse
END:VEVENT
BEGIN:VEVENT
DTSTART;TZID=America/Chicago:20250331T080000
DTEND;TZID=America/Chicago:20250331T110000
DTSTAMP:20260424T113856
CREATED:20241210T180811Z
LAST-MODIFIED:20250508T035024Z
UID:10004055-1743408000-1743418800@stoughtoncc.com
SUMMARY:Monday Morning Trap/Skeet
DESCRIPTION:Open trap and skeet for members. Come\, shoot\, drink coffee.
URL:https://stoughtoncc.com/event/monday-morning-trap-skeet/2025-03-31/
LOCATION:Trap & Skeet Fields
END:VEVENT
BEGIN:VEVENT
DTSTART;TZID=America/Chicago:20250330T103000
DTEND;TZID=America/Chicago:20250330T133000
DTSTAMP:20260424T113856
CREATED:20250325T193548Z
LAST-MODIFIED:20250325T193548Z
UID:10004685-1743330600-1743341400@stoughtoncc.com
SUMMARY:VLS Indoor Practice
DESCRIPTION:Due to possible rain\, VLS is reserving the Indoor Archery Range for some indoor footwork practice.
URL:https://stoughtoncc.com/event/vls-indoor-practice/
LOCATION:Indoor Archery Range
ORGANIZER;CN="Kevin Kettner":MAILTO:kkettner@gmail.com
END:VEVENT
BEGIN:VEVENT
DTSTART;TZID=America/Chicago:20250330T090000
DTEND;TZID=America/Chicago:20250330T140000
DTSTAMP:20260424T113856
CREATED:20241102T215509Z
LAST-MODIFIED:20250610T203144Z
UID:10003830-1743325200-1743343200@stoughtoncc.com
SUMMARY:VLS Practice
DESCRIPTION:Trap and Skeet Fields will be closed for Viking Lead Slingers Youth Trap/Skeet practice.
URL:https://stoughtoncc.com/event/vls-practice-2/2025-03-30/
LOCATION:Trap & Skeet Fields
ORGANIZER;CN="Kevin Kettner":MAILTO:kkettner@gmail.com
END:VEVENT
BEGIN:VEVENT
DTSTART;TZID=America/Chicago:20250327T173000
DTEND;TZID=America/Chicago:20250327T213000
DTSTAMP:20260424T113856
CREATED:20240812T223727Z
LAST-MODIFIED:20241210T172610Z
UID:10003768-1743096600-1743111000@stoughtoncc.com
SUMMARY:Rimfire Pistol League
DESCRIPTION:The first week is the setup meeting and practice night. Any new shooters should attend. The meeting is usually around 6:30. \nLeague scoring starts January 9th. \nLeague runs for 12 weeks. \nLeague Fun Night/Banquet is April 3\, 2025
URL:https://stoughtoncc.com/event/rimfire-pistol-league-2025/2025-03-27/
END:VEVENT
BEGIN:VEVENT
DTSTART;TZID=America/Chicago:20250326T180000
DTEND;TZID=America/Chicago:20250326T220000
DTSTAMP:20260424T113856
CREATED:20241213T030856Z
LAST-MODIFIED:20241213T034841Z
UID:10004325-1743012000-1743026400@stoughtoncc.com
SUMMARY:Indoor Archery League - 2025
DESCRIPTION:
URL:https://stoughtoncc.com/event/indoor-archery-league-2025/2025-03-26/
ORGANIZER;CN="Roger Kluever":MAILTO:07harley89@gmail.com
END:VEVENT
BEGIN:VEVENT
DTSTART;TZID=America/Chicago:20250325T180000
DTEND;TZID=America/Chicago:20250325T220000
DTSTAMP:20260424T113856
CREATED:20241213T030856Z
LAST-MODIFIED:20241213T034841Z
UID:10004324-1742925600-1742940000@stoughtoncc.com
SUMMARY:Indoor Archery League - 2025
DESCRIPTION:
URL:https://stoughtoncc.com/event/indoor-archery-league-2025/2025-03-25/
ORGANIZER;CN="Roger Kluever":MAILTO:07harley89@gmail.com
END:VEVENT
BEGIN:VEVENT
DTSTART;TZID=America/Chicago:20250325T180000
DTEND;TZID=America/Chicago:20250325T200000
DTSTAMP:20260424T113856
CREATED:20241213T034127Z
LAST-MODIFIED:20241213T034127Z
UID:10004440-1742925600-1742932800@stoughtoncc.com
SUMMARY:4H .22 Rifle
DESCRIPTION:4H will use the Indoor Pistol Range for .22 Rifle.
URL:https://stoughtoncc.com/event/4h-22-rifle/2025-03-25/
END:VEVENT
END:VCALENDAR