BEGIN:VCALENDAR
VERSION:2.0
PRODID:-//Stoughton Conservation Club - ECPv6.15.20//NONSGML v1.0//EN
CALSCALE:GREGORIAN
METHOD:PUBLISH
X-ORIGINAL-URL:https://stoughtoncc.com
X-WR-CALDESC:Events for Stoughton Conservation Club
REFRESH-INTERVAL;VALUE=DURATION:PT1H
X-Robots-Tag:noindex
X-PUBLISHED-TTL:PT1H
BEGIN:VTIMEZONE
TZID:America/Chicago
BEGIN:DAYLIGHT
TZOFFSETFROM:-0600
TZOFFSETTO:-0500
TZNAME:CDT
DTSTART:20280312T080000
END:DAYLIGHT
BEGIN:STANDARD
TZOFFSETFROM:-0500
TZOFFSETTO:-0600
TZNAME:CST
DTSTART:20281105T070000
END:STANDARD
BEGIN:DAYLIGHT
TZOFFSETFROM:-0600
TZOFFSETTO:-0500
TZNAME:CDT
DTSTART:20290311T080000
END:DAYLIGHT
BEGIN:STANDARD
TZOFFSETFROM:-0500
TZOFFSETTO:-0600
TZNAME:CST
DTSTART:20291104T070000
END:STANDARD
BEGIN:DAYLIGHT
TZOFFSETFROM:-0600
TZOFFSETTO:-0500
TZNAME:CDT
DTSTART:20300310T080000
END:DAYLIGHT
BEGIN:STANDARD
TZOFFSETFROM:-0500
TZOFFSETTO:-0600
TZNAME:CST
DTSTART:20301103T070000
END:STANDARD
END:VTIMEZONE
BEGIN:VEVENT
DTSTART;TZID=America/Chicago:20290430T080000
DTEND;TZID=America/Chicago:20290430T110000
DTSTAMP:20260425T072610
CREATED:20241210T180811Z
LAST-MODIFIED:20250508T035024Z
UID:10004268-1872230400-1872241200@stoughtoncc.com
SUMMARY:Monday Morning Trap/Skeet
DESCRIPTION:Open trap and skeet for members. Come\, shoot\, drink coffee.
URL:https://stoughtoncc.com/event/monday-morning-trap-skeet/2029-04-30/
LOCATION:Trap & Skeet Fields
END:VEVENT
BEGIN:VEVENT
DTSTART;TZID=America/Chicago:20290507T080000
DTEND;TZID=America/Chicago:20290507T110000
DTSTAMP:20260425T072610
CREATED:20241210T180811Z
LAST-MODIFIED:20250508T035024Z
UID:10004269-1872835200-1872846000@stoughtoncc.com
SUMMARY:Monday Morning Trap/Skeet
DESCRIPTION:Open trap and skeet for members. Come\, shoot\, drink coffee.
URL:https://stoughtoncc.com/event/monday-morning-trap-skeet/2029-05-07/
LOCATION:Trap & Skeet Fields
END:VEVENT
BEGIN:VEVENT
DTSTART;TZID=America/Chicago:20290507T180000
DTEND;TZID=America/Chicago:20290507T200000
DTSTAMP:20260425T072610
CREATED:20250106T214651Z
LAST-MODIFIED:20250106T230453Z
UID:10004647-1872871200-1872878400@stoughtoncc.com
SUMMARY:S3DA Archery
DESCRIPTION:
URL:https://stoughtoncc.com/event/s3da/2029-05-07/
LOCATION:Indoor Archery Range
ORGANIZER;CN="Dave Rynes":MAILTO:blackdogdr@gmail.com
END:VEVENT
BEGIN:VEVENT
DTSTART;TZID=America/Chicago:20290514T080000
DTEND;TZID=America/Chicago:20290514T110000
DTSTAMP:20260425T072610
CREATED:20241210T180811Z
LAST-MODIFIED:20250508T035024Z
UID:10004270-1873440000-1873450800@stoughtoncc.com
SUMMARY:Monday Morning Trap/Skeet
DESCRIPTION:Open trap and skeet for members. Come\, shoot\, drink coffee.
URL:https://stoughtoncc.com/event/monday-morning-trap-skeet/2029-05-14/
LOCATION:Trap & Skeet Fields
END:VEVENT
BEGIN:VEVENT
DTSTART;TZID=America/Chicago:20290514T173000
DTEND;TZID=America/Chicago:20290514T190000
DTSTAMP:20260425T072610
CREATED:20241209T164257Z
LAST-MODIFIED:20250508T035832Z
UID:10004828-1873474200-1873479600@stoughtoncc.com
SUMMARY:Member Orientation - Indoor Archery Closed
DESCRIPTION:In-person orientation is required for new members\, and begins promptly at 6 PM before the monthly general membership meeting. \nOther membership situations can also be handled during this time. \nIndoor Archery will be CLOSED at 5:30 for setup.
URL:https://stoughtoncc.com/event/member-orientation/2029-05-14/
LOCATION:Main Clubhouse
END:VEVENT
BEGIN:VEVENT
DTSTART;TZID=America/Chicago:20290514T190000
DTEND;TZID=America/Chicago:20290514T200000
DTSTAMP:20260425T072610
CREATED:20241210T172441Z
LAST-MODIFIED:20241210T172441Z
UID:10004021-1873479600-1873483200@stoughtoncc.com
SUMMARY:Member Meeting
DESCRIPTION:
URL:https://stoughtoncc.com/event/member-meeting/2029-05-14/
LOCATION:Main Clubhouse
END:VEVENT
BEGIN:VEVENT
DTSTART;TZID=America/Chicago:20290521T080000
DTEND;TZID=America/Chicago:20290521T110000
DTSTAMP:20260425T072610
CREATED:20241210T180811Z
LAST-MODIFIED:20250508T035024Z
UID:10004271-1874044800-1874055600@stoughtoncc.com
SUMMARY:Monday Morning Trap/Skeet
DESCRIPTION:Open trap and skeet for members. Come\, shoot\, drink coffee.
URL:https://stoughtoncc.com/event/monday-morning-trap-skeet/2029-05-21/
LOCATION:Trap & Skeet Fields
END:VEVENT
BEGIN:VEVENT
DTSTART;TZID=America/Chicago:20290521T180000
DTEND;TZID=America/Chicago:20290521T200000
DTSTAMP:20260425T072610
CREATED:20250106T214248Z
LAST-MODIFIED:20250106T230443Z
UID:10004566-1874080800-1874088000@stoughtoncc.com
SUMMARY:S3DA Archery
DESCRIPTION:
URL:https://stoughtoncc.com/event/s3da-2/2029-05-21/
LOCATION:Indoor Archery Range
ORGANIZER;CN="Dave Rynes":MAILTO:blackdogdr@gmail.com
END:VEVENT
BEGIN:VEVENT
DTSTART;TZID=America/Chicago:20290528T080000
DTEND;TZID=America/Chicago:20290528T110000
DTSTAMP:20260425T072610
CREATED:20241210T180811Z
LAST-MODIFIED:20250508T035024Z
UID:10004272-1874649600-1874660400@stoughtoncc.com
SUMMARY:Monday Morning Trap/Skeet
DESCRIPTION:Open trap and skeet for members. Come\, shoot\, drink coffee.
URL:https://stoughtoncc.com/event/monday-morning-trap-skeet/2029-05-28/
LOCATION:Trap & Skeet Fields
END:VEVENT
BEGIN:VEVENT
DTSTART;TZID=America/Chicago:20290604T080000
DTEND;TZID=America/Chicago:20290604T110000
DTSTAMP:20260425T072610
CREATED:20241210T180811Z
LAST-MODIFIED:20250508T035024Z
UID:10004273-1875254400-1875265200@stoughtoncc.com
SUMMARY:Monday Morning Trap/Skeet
DESCRIPTION:Open trap and skeet for members. Come\, shoot\, drink coffee.
URL:https://stoughtoncc.com/event/monday-morning-trap-skeet/2029-06-04/
LOCATION:Trap & Skeet Fields
END:VEVENT
BEGIN:VEVENT
DTSTART;TZID=America/Chicago:20290604T180000
DTEND;TZID=America/Chicago:20290604T200000
DTSTAMP:20260425T072610
CREATED:20250106T214651Z
LAST-MODIFIED:20250106T230453Z
UID:10004648-1875290400-1875297600@stoughtoncc.com
SUMMARY:S3DA Archery
DESCRIPTION:
URL:https://stoughtoncc.com/event/s3da/2029-06-04/
LOCATION:Indoor Archery Range
ORGANIZER;CN="Dave Rynes":MAILTO:blackdogdr@gmail.com
END:VEVENT
BEGIN:VEVENT
DTSTART;TZID=America/Chicago:20290611T080000
DTEND;TZID=America/Chicago:20290611T110000
DTSTAMP:20260425T072610
CREATED:20241210T180811Z
LAST-MODIFIED:20250508T035024Z
UID:10004274-1875859200-1875870000@stoughtoncc.com
SUMMARY:Monday Morning Trap/Skeet
DESCRIPTION:Open trap and skeet for members. Come\, shoot\, drink coffee.
URL:https://stoughtoncc.com/event/monday-morning-trap-skeet/2029-06-11/
LOCATION:Trap & Skeet Fields
END:VEVENT
BEGIN:VEVENT
DTSTART;TZID=America/Chicago:20290611T173000
DTEND;TZID=America/Chicago:20290611T190000
DTSTAMP:20260425T072610
CREATED:20241209T164257Z
LAST-MODIFIED:20250508T035832Z
UID:10004829-1875893400-1875898800@stoughtoncc.com
SUMMARY:Member Orientation - Indoor Archery Closed
DESCRIPTION:In-person orientation is required for new members\, and begins promptly at 6 PM before the monthly general membership meeting. \nOther membership situations can also be handled during this time. \nIndoor Archery will be CLOSED at 5:30 for setup.
URL:https://stoughtoncc.com/event/member-orientation/2029-06-11/
LOCATION:Main Clubhouse
END:VEVENT
BEGIN:VEVENT
DTSTART;TZID=America/Chicago:20290611T190000
DTEND;TZID=America/Chicago:20290611T200000
DTSTAMP:20260425T072610
CREATED:20241210T172441Z
LAST-MODIFIED:20241210T172441Z
UID:10004022-1875898800-1875902400@stoughtoncc.com
SUMMARY:Member Meeting
DESCRIPTION:
URL:https://stoughtoncc.com/event/member-meeting/2029-06-11/
LOCATION:Main Clubhouse
END:VEVENT
BEGIN:VEVENT
DTSTART;TZID=America/Chicago:20290618T080000
DTEND;TZID=America/Chicago:20290618T110000
DTSTAMP:20260425T072610
CREATED:20241210T180811Z
LAST-MODIFIED:20250508T035024Z
UID:10004275-1876464000-1876474800@stoughtoncc.com
SUMMARY:Monday Morning Trap/Skeet
DESCRIPTION:Open trap and skeet for members. Come\, shoot\, drink coffee.
URL:https://stoughtoncc.com/event/monday-morning-trap-skeet/2029-06-18/
LOCATION:Trap & Skeet Fields
END:VEVENT
BEGIN:VEVENT
DTSTART;TZID=America/Chicago:20290618T180000
DTEND;TZID=America/Chicago:20290618T200000
DTSTAMP:20260425T072610
CREATED:20250106T214248Z
LAST-MODIFIED:20250106T230443Z
UID:10004567-1876500000-1876507200@stoughtoncc.com
SUMMARY:S3DA Archery
DESCRIPTION:
URL:https://stoughtoncc.com/event/s3da-2/2029-06-18/
LOCATION:Indoor Archery Range
ORGANIZER;CN="Dave Rynes":MAILTO:blackdogdr@gmail.com
END:VEVENT
BEGIN:VEVENT
DTSTART;TZID=America/Chicago:20290625T080000
DTEND;TZID=America/Chicago:20290625T110000
DTSTAMP:20260425T072610
CREATED:20241210T180811Z
LAST-MODIFIED:20250508T035024Z
UID:10004276-1877068800-1877079600@stoughtoncc.com
SUMMARY:Monday Morning Trap/Skeet
DESCRIPTION:Open trap and skeet for members. Come\, shoot\, drink coffee.
URL:https://stoughtoncc.com/event/monday-morning-trap-skeet/2029-06-25/
LOCATION:Trap & Skeet Fields
END:VEVENT
BEGIN:VEVENT
DTSTART;TZID=America/Chicago:20290702T080000
DTEND;TZID=America/Chicago:20290702T110000
DTSTAMP:20260425T072610
CREATED:20241210T180811Z
LAST-MODIFIED:20250508T035024Z
UID:10004277-1877673600-1877684400@stoughtoncc.com
SUMMARY:Monday Morning Trap/Skeet
DESCRIPTION:Open trap and skeet for members. Come\, shoot\, drink coffee.
URL:https://stoughtoncc.com/event/monday-morning-trap-skeet/2029-07-02/
LOCATION:Trap & Skeet Fields
END:VEVENT
BEGIN:VEVENT
DTSTART;TZID=America/Chicago:20290702T180000
DTEND;TZID=America/Chicago:20290702T200000
DTSTAMP:20260425T072610
CREATED:20250106T214651Z
LAST-MODIFIED:20250106T230453Z
UID:10004649-1877709600-1877716800@stoughtoncc.com
SUMMARY:S3DA Archery
DESCRIPTION:
URL:https://stoughtoncc.com/event/s3da/2029-07-02/
LOCATION:Indoor Archery Range
ORGANIZER;CN="Dave Rynes":MAILTO:blackdogdr@gmail.com
END:VEVENT
BEGIN:VEVENT
DTSTART;TZID=America/Chicago:20290709T080000
DTEND;TZID=America/Chicago:20290709T110000
DTSTAMP:20260425T072610
CREATED:20241210T180811Z
LAST-MODIFIED:20250508T035024Z
UID:10004278-1878278400-1878289200@stoughtoncc.com
SUMMARY:Monday Morning Trap/Skeet
DESCRIPTION:Open trap and skeet for members. Come\, shoot\, drink coffee.
URL:https://stoughtoncc.com/event/monday-morning-trap-skeet/2029-07-09/
LOCATION:Trap & Skeet Fields
END:VEVENT
BEGIN:VEVENT
DTSTART;TZID=America/Chicago:20290709T173000
DTEND;TZID=America/Chicago:20290709T190000
DTSTAMP:20260425T072610
CREATED:20241209T164257Z
LAST-MODIFIED:20250508T035832Z
UID:10004830-1878312600-1878318000@stoughtoncc.com
SUMMARY:Member Orientation - Indoor Archery Closed
DESCRIPTION:In-person orientation is required for new members\, and begins promptly at 6 PM before the monthly general membership meeting. \nOther membership situations can also be handled during this time. \nIndoor Archery will be CLOSED at 5:30 for setup.
URL:https://stoughtoncc.com/event/member-orientation/2029-07-09/
LOCATION:Main Clubhouse
END:VEVENT
BEGIN:VEVENT
DTSTART;TZID=America/Chicago:20290709T190000
DTEND;TZID=America/Chicago:20290709T200000
DTSTAMP:20260425T072610
CREATED:20241210T172441Z
LAST-MODIFIED:20241210T172441Z
UID:10004023-1878318000-1878321600@stoughtoncc.com
SUMMARY:Member Meeting
DESCRIPTION:
URL:https://stoughtoncc.com/event/member-meeting/2029-07-09/
LOCATION:Main Clubhouse
END:VEVENT
BEGIN:VEVENT
DTSTART;TZID=America/Chicago:20290716T080000
DTEND;TZID=America/Chicago:20290716T110000
DTSTAMP:20260425T072610
CREATED:20241210T180811Z
LAST-MODIFIED:20250508T035024Z
UID:10004279-1878883200-1878894000@stoughtoncc.com
SUMMARY:Monday Morning Trap/Skeet
DESCRIPTION:Open trap and skeet for members. Come\, shoot\, drink coffee.
URL:https://stoughtoncc.com/event/monday-morning-trap-skeet/2029-07-16/
LOCATION:Trap & Skeet Fields
END:VEVENT
BEGIN:VEVENT
DTSTART;TZID=America/Chicago:20290716T180000
DTEND;TZID=America/Chicago:20290716T200000
DTSTAMP:20260425T072610
CREATED:20250106T214248Z
LAST-MODIFIED:20250106T230443Z
UID:10004568-1878919200-1878926400@stoughtoncc.com
SUMMARY:S3DA Archery
DESCRIPTION:
URL:https://stoughtoncc.com/event/s3da-2/2029-07-16/
LOCATION:Indoor Archery Range
ORGANIZER;CN="Dave Rynes":MAILTO:blackdogdr@gmail.com
END:VEVENT
BEGIN:VEVENT
DTSTART;TZID=America/Chicago:20290723T080000
DTEND;TZID=America/Chicago:20290723T110000
DTSTAMP:20260425T072610
CREATED:20241210T180811Z
LAST-MODIFIED:20250508T035024Z
UID:10004280-1879488000-1879498800@stoughtoncc.com
SUMMARY:Monday Morning Trap/Skeet
DESCRIPTION:Open trap and skeet for members. Come\, shoot\, drink coffee.
URL:https://stoughtoncc.com/event/monday-morning-trap-skeet/2029-07-23/
LOCATION:Trap & Skeet Fields
END:VEVENT
BEGIN:VEVENT
DTSTART;TZID=America/Chicago:20290730T080000
DTEND;TZID=America/Chicago:20290730T110000
DTSTAMP:20260425T072610
CREATED:20241210T180811Z
LAST-MODIFIED:20250508T035024Z
UID:10004281-1880092800-1880103600@stoughtoncc.com
SUMMARY:Monday Morning Trap/Skeet
DESCRIPTION:Open trap and skeet for members. Come\, shoot\, drink coffee.
URL:https://stoughtoncc.com/event/monday-morning-trap-skeet/2029-07-30/
LOCATION:Trap & Skeet Fields
END:VEVENT
BEGIN:VEVENT
DTSTART;TZID=America/Chicago:20290806T080000
DTEND;TZID=America/Chicago:20290806T110000
DTSTAMP:20260425T072611
CREATED:20241210T180811Z
LAST-MODIFIED:20250508T035024Z
UID:10004282-1880697600-1880708400@stoughtoncc.com
SUMMARY:Monday Morning Trap/Skeet
DESCRIPTION:Open trap and skeet for members. Come\, shoot\, drink coffee.
URL:https://stoughtoncc.com/event/monday-morning-trap-skeet/2029-08-06/
LOCATION:Trap & Skeet Fields
END:VEVENT
BEGIN:VEVENT
DTSTART;TZID=America/Chicago:20290806T180000
DTEND;TZID=America/Chicago:20290806T200000
DTSTAMP:20260425T072611
CREATED:20250106T214651Z
LAST-MODIFIED:20250106T230453Z
UID:10004650-1880733600-1880740800@stoughtoncc.com
SUMMARY:S3DA Archery
DESCRIPTION:
URL:https://stoughtoncc.com/event/s3da/2029-08-06/
LOCATION:Indoor Archery Range
ORGANIZER;CN="Dave Rynes":MAILTO:blackdogdr@gmail.com
END:VEVENT
BEGIN:VEVENT
DTSTART;TZID=America/Chicago:20290813T080000
DTEND;TZID=America/Chicago:20290813T110000
DTSTAMP:20260425T072611
CREATED:20241210T180811Z
LAST-MODIFIED:20250508T035024Z
UID:10004283-1881302400-1881313200@stoughtoncc.com
SUMMARY:Monday Morning Trap/Skeet
DESCRIPTION:Open trap and skeet for members. Come\, shoot\, drink coffee.
URL:https://stoughtoncc.com/event/monday-morning-trap-skeet/2029-08-13/
LOCATION:Trap & Skeet Fields
END:VEVENT
BEGIN:VEVENT
DTSTART;TZID=America/Chicago:20290813T173000
DTEND;TZID=America/Chicago:20290813T190000
DTSTAMP:20260425T072611
CREATED:20241209T164257Z
LAST-MODIFIED:20250508T035832Z
UID:10004831-1881336600-1881342000@stoughtoncc.com
SUMMARY:Member Orientation - Indoor Archery Closed
DESCRIPTION:In-person orientation is required for new members\, and begins promptly at 6 PM before the monthly general membership meeting. \nOther membership situations can also be handled during this time. \nIndoor Archery will be CLOSED at 5:30 for setup.
URL:https://stoughtoncc.com/event/member-orientation/2029-08-13/
LOCATION:Main Clubhouse
END:VEVENT
END:VCALENDAR