BEGIN:VCALENDAR
VERSION:2.0
PRODID:-//Stoughton Conservation Club - ECPv6.15.20//NONSGML v1.0//EN
CALSCALE:GREGORIAN
METHOD:PUBLISH
X-WR-CALNAME:Stoughton Conservation Club
X-ORIGINAL-URL:https://stoughtoncc.com
X-WR-CALDESC:Events for Stoughton Conservation Club
REFRESH-INTERVAL;VALUE=DURATION:PT1H
X-Robots-Tag:noindex
X-PUBLISHED-TTL:PT1H
BEGIN:VTIMEZONE
TZID:America/Chicago
BEGIN:DAYLIGHT
TZOFFSETFROM:-0600
TZOFFSETTO:-0500
TZNAME:CDT
DTSTART:20260308T080000
END:DAYLIGHT
BEGIN:STANDARD
TZOFFSETFROM:-0500
TZOFFSETTO:-0600
TZNAME:CST
DTSTART:20261101T070000
END:STANDARD
BEGIN:DAYLIGHT
TZOFFSETFROM:-0600
TZOFFSETTO:-0500
TZNAME:CDT
DTSTART:20270314T080000
END:DAYLIGHT
BEGIN:STANDARD
TZOFFSETFROM:-0500
TZOFFSETTO:-0600
TZNAME:CST
DTSTART:20271107T070000
END:STANDARD
BEGIN:DAYLIGHT
TZOFFSETFROM:-0600
TZOFFSETTO:-0500
TZNAME:CDT
DTSTART:20280312T080000
END:DAYLIGHT
BEGIN:STANDARD
TZOFFSETFROM:-0500
TZOFFSETTO:-0600
TZNAME:CST
DTSTART:20281105T070000
END:STANDARD
END:VTIMEZONE
BEGIN:VEVENT
DTSTART;TZID=America/Chicago:20270322T080000
DTEND;TZID=America/Chicago:20270322T110000
DTSTAMP:20260424T034703
CREATED:20241210T180811Z
LAST-MODIFIED:20250508T035024Z
UID:10004158-1805702400-1805713200@stoughtoncc.com
SUMMARY:Monday Morning Trap/Skeet
DESCRIPTION:Open trap and skeet for members. Come\, shoot\, drink coffee.
URL:https://stoughtoncc.com/event/monday-morning-trap-skeet/2027-03-22/
LOCATION:Trap & Skeet Fields
END:VEVENT
BEGIN:VEVENT
DTSTART;TZID=America/Chicago:20270329T080000
DTEND;TZID=America/Chicago:20270329T110000
DTSTAMP:20260424T034703
CREATED:20241210T180811Z
LAST-MODIFIED:20250508T035024Z
UID:10004159-1806307200-1806318000@stoughtoncc.com
SUMMARY:Monday Morning Trap/Skeet
DESCRIPTION:Open trap and skeet for members. Come\, shoot\, drink coffee.
URL:https://stoughtoncc.com/event/monday-morning-trap-skeet/2027-03-29/
LOCATION:Trap & Skeet Fields
END:VEVENT
BEGIN:VEVENT
DTSTART;TZID=America/Chicago:20270405T080000
DTEND;TZID=America/Chicago:20270405T110000
DTSTAMP:20260424T034703
CREATED:20241210T180811Z
LAST-MODIFIED:20250508T035024Z
UID:10004160-1806912000-1806922800@stoughtoncc.com
SUMMARY:Monday Morning Trap/Skeet
DESCRIPTION:Open trap and skeet for members. Come\, shoot\, drink coffee.
URL:https://stoughtoncc.com/event/monday-morning-trap-skeet/2027-04-05/
LOCATION:Trap & Skeet Fields
END:VEVENT
BEGIN:VEVENT
DTSTART;TZID=America/Chicago:20270405T180000
DTEND;TZID=America/Chicago:20270405T200000
DTSTAMP:20260424T034703
CREATED:20250106T214651Z
LAST-MODIFIED:20250106T230453Z
UID:10004622-1806948000-1806955200@stoughtoncc.com
SUMMARY:S3DA Archery
DESCRIPTION:
URL:https://stoughtoncc.com/event/s3da/2027-04-05/
LOCATION:Indoor Archery Range
ORGANIZER;CN="Dave Rynes":MAILTO:blackdogdr@gmail.com
END:VEVENT
BEGIN:VEVENT
DTSTART;TZID=America/Chicago:20270412T080000
DTEND;TZID=America/Chicago:20270412T110000
DTSTAMP:20260424T034703
CREATED:20241210T180811Z
LAST-MODIFIED:20250508T035024Z
UID:10004161-1807516800-1807527600@stoughtoncc.com
SUMMARY:Monday Morning Trap/Skeet
DESCRIPTION:Open trap and skeet for members. Come\, shoot\, drink coffee.
URL:https://stoughtoncc.com/event/monday-morning-trap-skeet/2027-04-12/
LOCATION:Trap & Skeet Fields
END:VEVENT
BEGIN:VEVENT
DTSTART;TZID=America/Chicago:20270412T173000
DTEND;TZID=America/Chicago:20270412T190000
DTSTAMP:20260424T034703
CREATED:20241209T164257Z
LAST-MODIFIED:20250508T035832Z
UID:10004803-1807551000-1807556400@stoughtoncc.com
SUMMARY:Member Orientation - Indoor Archery Closed
DESCRIPTION:In-person orientation is required for new members\, and begins promptly at 6 PM before the monthly general membership meeting. \nOther membership situations can also be handled during this time. \nIndoor Archery will be CLOSED at 5:30 for setup.
URL:https://stoughtoncc.com/event/member-orientation/2027-04-12/
LOCATION:Main Clubhouse
END:VEVENT
BEGIN:VEVENT
DTSTART;TZID=America/Chicago:20270412T190000
DTEND;TZID=America/Chicago:20270412T200000
DTSTAMP:20260424T034703
CREATED:20241210T172441Z
LAST-MODIFIED:20241210T172441Z
UID:10003996-1807556400-1807560000@stoughtoncc.com
SUMMARY:Member Meeting
DESCRIPTION:
URL:https://stoughtoncc.com/event/member-meeting/2027-04-12/
LOCATION:Main Clubhouse
END:VEVENT
BEGIN:VEVENT
DTSTART;TZID=America/Chicago:20270419T080000
DTEND;TZID=America/Chicago:20270419T110000
DTSTAMP:20260424T034703
CREATED:20241210T180811Z
LAST-MODIFIED:20250508T035024Z
UID:10004162-1808121600-1808132400@stoughtoncc.com
SUMMARY:Monday Morning Trap/Skeet
DESCRIPTION:Open trap and skeet for members. Come\, shoot\, drink coffee.
URL:https://stoughtoncc.com/event/monday-morning-trap-skeet/2027-04-19/
LOCATION:Trap & Skeet Fields
END:VEVENT
BEGIN:VEVENT
DTSTART;TZID=America/Chicago:20270419T180000
DTEND;TZID=America/Chicago:20270419T200000
DTSTAMP:20260424T034703
CREATED:20250106T214248Z
LAST-MODIFIED:20250106T230443Z
UID:10004541-1808157600-1808164800@stoughtoncc.com
SUMMARY:S3DA Archery
DESCRIPTION:
URL:https://stoughtoncc.com/event/s3da-2/2027-04-19/
LOCATION:Indoor Archery Range
ORGANIZER;CN="Dave Rynes":MAILTO:blackdogdr@gmail.com
END:VEVENT
BEGIN:VEVENT
DTSTART;TZID=America/Chicago:20270426T080000
DTEND;TZID=America/Chicago:20270426T110000
DTSTAMP:20260424T034703
CREATED:20241210T180811Z
LAST-MODIFIED:20250508T035024Z
UID:10004163-1808726400-1808737200@stoughtoncc.com
SUMMARY:Monday Morning Trap/Skeet
DESCRIPTION:Open trap and skeet for members. Come\, shoot\, drink coffee.
URL:https://stoughtoncc.com/event/monday-morning-trap-skeet/2027-04-26/
LOCATION:Trap & Skeet Fields
END:VEVENT
BEGIN:VEVENT
DTSTART;TZID=America/Chicago:20270503T080000
DTEND;TZID=America/Chicago:20270503T110000
DTSTAMP:20260424T034703
CREATED:20241210T180811Z
LAST-MODIFIED:20250508T035024Z
UID:10004164-1809331200-1809342000@stoughtoncc.com
SUMMARY:Monday Morning Trap/Skeet
DESCRIPTION:Open trap and skeet for members. Come\, shoot\, drink coffee.
URL:https://stoughtoncc.com/event/monday-morning-trap-skeet/2027-05-03/
LOCATION:Trap & Skeet Fields
END:VEVENT
BEGIN:VEVENT
DTSTART;TZID=America/Chicago:20270503T180000
DTEND;TZID=America/Chicago:20270503T200000
DTSTAMP:20260424T034703
CREATED:20250106T214651Z
LAST-MODIFIED:20250106T230453Z
UID:10004623-1809367200-1809374400@stoughtoncc.com
SUMMARY:S3DA Archery
DESCRIPTION:
URL:https://stoughtoncc.com/event/s3da/2027-05-03/
LOCATION:Indoor Archery Range
ORGANIZER;CN="Dave Rynes":MAILTO:blackdogdr@gmail.com
END:VEVENT
BEGIN:VEVENT
DTSTART;TZID=America/Chicago:20270510T080000
DTEND;TZID=America/Chicago:20270510T110000
DTSTAMP:20260424T034703
CREATED:20241210T180811Z
LAST-MODIFIED:20250508T035024Z
UID:10004165-1809936000-1809946800@stoughtoncc.com
SUMMARY:Monday Morning Trap/Skeet
DESCRIPTION:Open trap and skeet for members. Come\, shoot\, drink coffee.
URL:https://stoughtoncc.com/event/monday-morning-trap-skeet/2027-05-10/
LOCATION:Trap & Skeet Fields
END:VEVENT
BEGIN:VEVENT
DTSTART;TZID=America/Chicago:20270510T173000
DTEND;TZID=America/Chicago:20270510T190000
DTSTAMP:20260424T034703
CREATED:20241209T164257Z
LAST-MODIFIED:20250508T035832Z
UID:10004804-1809970200-1809975600@stoughtoncc.com
SUMMARY:Member Orientation - Indoor Archery Closed
DESCRIPTION:In-person orientation is required for new members\, and begins promptly at 6 PM before the monthly general membership meeting. \nOther membership situations can also be handled during this time. \nIndoor Archery will be CLOSED at 5:30 for setup.
URL:https://stoughtoncc.com/event/member-orientation/2027-05-10/
LOCATION:Main Clubhouse
END:VEVENT
BEGIN:VEVENT
DTSTART;TZID=America/Chicago:20270510T190000
DTEND;TZID=America/Chicago:20270510T200000
DTSTAMP:20260424T034703
CREATED:20241210T172441Z
LAST-MODIFIED:20241210T172441Z
UID:10003997-1809975600-1809979200@stoughtoncc.com
SUMMARY:Member Meeting
DESCRIPTION:
URL:https://stoughtoncc.com/event/member-meeting/2027-05-10/
LOCATION:Main Clubhouse
END:VEVENT
BEGIN:VEVENT
DTSTART;TZID=America/Chicago:20270517T080000
DTEND;TZID=America/Chicago:20270517T110000
DTSTAMP:20260424T034703
CREATED:20241210T180811Z
LAST-MODIFIED:20250508T035024Z
UID:10004166-1810540800-1810551600@stoughtoncc.com
SUMMARY:Monday Morning Trap/Skeet
DESCRIPTION:Open trap and skeet for members. Come\, shoot\, drink coffee.
URL:https://stoughtoncc.com/event/monday-morning-trap-skeet/2027-05-17/
LOCATION:Trap & Skeet Fields
END:VEVENT
BEGIN:VEVENT
DTSTART;TZID=America/Chicago:20270517T180000
DTEND;TZID=America/Chicago:20270517T200000
DTSTAMP:20260424T034703
CREATED:20250106T214248Z
LAST-MODIFIED:20250106T230443Z
UID:10004542-1810576800-1810584000@stoughtoncc.com
SUMMARY:S3DA Archery
DESCRIPTION:
URL:https://stoughtoncc.com/event/s3da-2/2027-05-17/
LOCATION:Indoor Archery Range
ORGANIZER;CN="Dave Rynes":MAILTO:blackdogdr@gmail.com
END:VEVENT
BEGIN:VEVENT
DTSTART;TZID=America/Chicago:20270524T080000
DTEND;TZID=America/Chicago:20270524T110000
DTSTAMP:20260424T034703
CREATED:20241210T180811Z
LAST-MODIFIED:20250508T035024Z
UID:10004167-1811145600-1811156400@stoughtoncc.com
SUMMARY:Monday Morning Trap/Skeet
DESCRIPTION:Open trap and skeet for members. Come\, shoot\, drink coffee.
URL:https://stoughtoncc.com/event/monday-morning-trap-skeet/2027-05-24/
LOCATION:Trap & Skeet Fields
END:VEVENT
BEGIN:VEVENT
DTSTART;TZID=America/Chicago:20270531T080000
DTEND;TZID=America/Chicago:20270531T110000
DTSTAMP:20260424T034703
CREATED:20241210T180811Z
LAST-MODIFIED:20250508T035024Z
UID:10004168-1811750400-1811761200@stoughtoncc.com
SUMMARY:Monday Morning Trap/Skeet
DESCRIPTION:Open trap and skeet for members. Come\, shoot\, drink coffee.
URL:https://stoughtoncc.com/event/monday-morning-trap-skeet/2027-05-31/
LOCATION:Trap & Skeet Fields
END:VEVENT
BEGIN:VEVENT
DTSTART;TZID=America/Chicago:20270607T080000
DTEND;TZID=America/Chicago:20270607T110000
DTSTAMP:20260424T034703
CREATED:20241210T180811Z
LAST-MODIFIED:20250508T035024Z
UID:10004169-1812355200-1812366000@stoughtoncc.com
SUMMARY:Monday Morning Trap/Skeet
DESCRIPTION:Open trap and skeet for members. Come\, shoot\, drink coffee.
URL:https://stoughtoncc.com/event/monday-morning-trap-skeet/2027-06-07/
LOCATION:Trap & Skeet Fields
END:VEVENT
BEGIN:VEVENT
DTSTART;TZID=America/Chicago:20270607T180000
DTEND;TZID=America/Chicago:20270607T200000
DTSTAMP:20260424T034703
CREATED:20250106T214651Z
LAST-MODIFIED:20250106T230453Z
UID:10004624-1812391200-1812398400@stoughtoncc.com
SUMMARY:S3DA Archery
DESCRIPTION:
URL:https://stoughtoncc.com/event/s3da/2027-06-07/
LOCATION:Indoor Archery Range
ORGANIZER;CN="Dave Rynes":MAILTO:blackdogdr@gmail.com
END:VEVENT
BEGIN:VEVENT
DTSTART;TZID=America/Chicago:20270614T080000
DTEND;TZID=America/Chicago:20270614T110000
DTSTAMP:20260424T034703
CREATED:20241210T180811Z
LAST-MODIFIED:20250508T035024Z
UID:10004170-1812960000-1812970800@stoughtoncc.com
SUMMARY:Monday Morning Trap/Skeet
DESCRIPTION:Open trap and skeet for members. Come\, shoot\, drink coffee.
URL:https://stoughtoncc.com/event/monday-morning-trap-skeet/2027-06-14/
LOCATION:Trap & Skeet Fields
END:VEVENT
BEGIN:VEVENT
DTSTART;TZID=America/Chicago:20270614T173000
DTEND;TZID=America/Chicago:20270614T190000
DTSTAMP:20260424T034703
CREATED:20241209T164257Z
LAST-MODIFIED:20250508T035832Z
UID:10004805-1812994200-1812999600@stoughtoncc.com
SUMMARY:Member Orientation - Indoor Archery Closed
DESCRIPTION:In-person orientation is required for new members\, and begins promptly at 6 PM before the monthly general membership meeting. \nOther membership situations can also be handled during this time. \nIndoor Archery will be CLOSED at 5:30 for setup.
URL:https://stoughtoncc.com/event/member-orientation/2027-06-14/
LOCATION:Main Clubhouse
END:VEVENT
BEGIN:VEVENT
DTSTART;TZID=America/Chicago:20270614T190000
DTEND;TZID=America/Chicago:20270614T200000
DTSTAMP:20260424T034703
CREATED:20241210T172441Z
LAST-MODIFIED:20241210T172441Z
UID:10003998-1812999600-1813003200@stoughtoncc.com
SUMMARY:Member Meeting
DESCRIPTION:
URL:https://stoughtoncc.com/event/member-meeting/2027-06-14/
LOCATION:Main Clubhouse
END:VEVENT
BEGIN:VEVENT
DTSTART;TZID=America/Chicago:20270621T080000
DTEND;TZID=America/Chicago:20270621T110000
DTSTAMP:20260424T034703
CREATED:20241210T180811Z
LAST-MODIFIED:20250508T035024Z
UID:10004171-1813564800-1813575600@stoughtoncc.com
SUMMARY:Monday Morning Trap/Skeet
DESCRIPTION:Open trap and skeet for members. Come\, shoot\, drink coffee.
URL:https://stoughtoncc.com/event/monday-morning-trap-skeet/2027-06-21/
LOCATION:Trap & Skeet Fields
END:VEVENT
BEGIN:VEVENT
DTSTART;TZID=America/Chicago:20270621T180000
DTEND;TZID=America/Chicago:20270621T200000
DTSTAMP:20260424T034703
CREATED:20250106T214248Z
LAST-MODIFIED:20250106T230443Z
UID:10004543-1813600800-1813608000@stoughtoncc.com
SUMMARY:S3DA Archery
DESCRIPTION:
URL:https://stoughtoncc.com/event/s3da-2/2027-06-21/
LOCATION:Indoor Archery Range
ORGANIZER;CN="Dave Rynes":MAILTO:blackdogdr@gmail.com
END:VEVENT
BEGIN:VEVENT
DTSTART;TZID=America/Chicago:20270628T080000
DTEND;TZID=America/Chicago:20270628T110000
DTSTAMP:20260424T034703
CREATED:20241210T180811Z
LAST-MODIFIED:20250508T035024Z
UID:10004172-1814169600-1814180400@stoughtoncc.com
SUMMARY:Monday Morning Trap/Skeet
DESCRIPTION:Open trap and skeet for members. Come\, shoot\, drink coffee.
URL:https://stoughtoncc.com/event/monday-morning-trap-skeet/2027-06-28/
LOCATION:Trap & Skeet Fields
END:VEVENT
BEGIN:VEVENT
DTSTART;TZID=America/Chicago:20270705T080000
DTEND;TZID=America/Chicago:20270705T110000
DTSTAMP:20260424T034703
CREATED:20241210T180811Z
LAST-MODIFIED:20250508T035024Z
UID:10004173-1814774400-1814785200@stoughtoncc.com
SUMMARY:Monday Morning Trap/Skeet
DESCRIPTION:Open trap and skeet for members. Come\, shoot\, drink coffee.
URL:https://stoughtoncc.com/event/monday-morning-trap-skeet/2027-07-05/
LOCATION:Trap & Skeet Fields
END:VEVENT
BEGIN:VEVENT
DTSTART;TZID=America/Chicago:20270705T180000
DTEND;TZID=America/Chicago:20270705T200000
DTSTAMP:20260424T034703
CREATED:20250106T214651Z
LAST-MODIFIED:20250106T230453Z
UID:10004625-1814810400-1814817600@stoughtoncc.com
SUMMARY:S3DA Archery
DESCRIPTION:
URL:https://stoughtoncc.com/event/s3da/2027-07-05/
LOCATION:Indoor Archery Range
ORGANIZER;CN="Dave Rynes":MAILTO:blackdogdr@gmail.com
END:VEVENT
BEGIN:VEVENT
DTSTART;TZID=America/Chicago:20270712T080000
DTEND;TZID=America/Chicago:20270712T110000
DTSTAMP:20260424T034703
CREATED:20241210T180811Z
LAST-MODIFIED:20250508T035024Z
UID:10004174-1815379200-1815390000@stoughtoncc.com
SUMMARY:Monday Morning Trap/Skeet
DESCRIPTION:Open trap and skeet for members. Come\, shoot\, drink coffee.
URL:https://stoughtoncc.com/event/monday-morning-trap-skeet/2027-07-12/
LOCATION:Trap & Skeet Fields
END:VEVENT
END:VCALENDAR