BEGIN:VCALENDAR
VERSION:2.0
PRODID:-//Stoughton Conservation Club - ECPv6.15.20//NONSGML v1.0//EN
CALSCALE:GREGORIAN
METHOD:PUBLISH
X-WR-CALNAME:Stoughton Conservation Club
X-ORIGINAL-URL:https://stoughtoncc.com
X-WR-CALDESC:Events for Stoughton Conservation Club
REFRESH-INTERVAL;VALUE=DURATION:PT1H
X-Robots-Tag:noindex
X-PUBLISHED-TTL:PT1H
BEGIN:VTIMEZONE
TZID:America/Chicago
BEGIN:DAYLIGHT
TZOFFSETFROM:-0600
TZOFFSETTO:-0500
TZNAME:CDT
DTSTART:20240310T080000
END:DAYLIGHT
BEGIN:STANDARD
TZOFFSETFROM:-0500
TZOFFSETTO:-0600
TZNAME:CST
DTSTART:20241103T070000
END:STANDARD
BEGIN:DAYLIGHT
TZOFFSETFROM:-0600
TZOFFSETTO:-0500
TZNAME:CDT
DTSTART:20250309T080000
END:DAYLIGHT
BEGIN:STANDARD
TZOFFSETFROM:-0500
TZOFFSETTO:-0600
TZNAME:CST
DTSTART:20251102T070000
END:STANDARD
BEGIN:DAYLIGHT
TZOFFSETFROM:-0600
TZOFFSETTO:-0500
TZNAME:CDT
DTSTART:20260308T080000
END:DAYLIGHT
BEGIN:STANDARD
TZOFFSETFROM:-0500
TZOFFSETTO:-0600
TZNAME:CST
DTSTART:20261101T070000
END:STANDARD
END:VTIMEZONE
BEGIN:VEVENT
DTSTART;TZID=America/Chicago:20250811T173000
DTEND;TZID=America/Chicago:20250811T190000
DTSTAMP:20260424T022840
CREATED:20241209T164257Z
LAST-MODIFIED:20250508T035832Z
UID:10004783-1754933400-1754938800@stoughtoncc.com
SUMMARY:Member Orientation - Indoor Archery Closed
DESCRIPTION:In-person orientation is required for new members\, and begins promptly at 6 PM before the monthly general membership meeting. \nOther membership situations can also be handled during this time. \nIndoor Archery will be CLOSED at 5:30 for setup.
URL:https://stoughtoncc.com/event/member-orientation/2025-08-11/
LOCATION:Main Clubhouse
END:VEVENT
BEGIN:VEVENT
DTSTART;TZID=America/Chicago:20250811T190000
DTEND;TZID=America/Chicago:20250811T200000
DTSTAMP:20260424T022840
CREATED:20241210T172441Z
LAST-MODIFIED:20241210T172441Z
UID:10003976-1754938800-1754942400@stoughtoncc.com
SUMMARY:Member Meeting
DESCRIPTION:
URL:https://stoughtoncc.com/event/member-meeting/2025-08-11/
LOCATION:Main Clubhouse
END:VEVENT
BEGIN:VEVENT
DTSTART;TZID=America/Chicago:20250813T170000
DTEND;TZID=America/Chicago:20250813T200000
DTSTAMP:20260424T022840
CREATED:20250730T164854Z
LAST-MODIFIED:20250730T164854Z
UID:10004853-1755104400-1755115200@stoughtoncc.com
SUMMARY:3D Archery Night Shoot - Setup
DESCRIPTION:
URL:https://stoughtoncc.com/event/3d-archery-night-shoot-setup/
LOCATION:Trap & Skeet Fields
ORGANIZER;CN="Addi Wineka":MAILTO:addisenwineka@gmail.com
END:VEVENT
BEGIN:VEVENT
DTSTART;TZID=America/Chicago:20250813T170000
DTEND;TZID=America/Chicago:20250813T210000
DTSTAMP:20260424T022840
CREATED:20250401T200444Z
LAST-MODIFIED:20250508T035437Z
UID:10004712-1755104400-1755118800@stoughtoncc.com
SUMMARY:Broadhead Archery League
DESCRIPTION:
URL:https://stoughtoncc.com/event/broadhead-archery-league/2025-08-13/
LOCATION:Pistol Building
ORGANIZER;CN="Dave Rynes":MAILTO:blackdogdr@gmail.com
END:VEVENT
BEGIN:VEVENT
DTSTART;TZID=America/Chicago:20250814T173000
DTEND;TZID=America/Chicago:20250814T220000
DTSTAMP:20260424T022841
CREATED:20250107T214831Z
LAST-MODIFIED:20250508T035116Z
UID:10004659-1755192600-1755208800@stoughtoncc.com
SUMMARY:Summer Trap League Banquet
DESCRIPTION:
URL:https://stoughtoncc.com/event/summer-trap-league-banquet/
LOCATION:Indoor Archery Range
ORGANIZER;CN="Kevin Kettner":MAILTO:kkettner@gmail.com
END:VEVENT
BEGIN:VEVENT
DTSTART;TZID=America/Chicago:20250815T120000
DTEND;TZID=America/Chicago:20250815T210000
DTSTAMP:20260424T022841
CREATED:20241210T174557Z
LAST-MODIFIED:20250508T034551Z
UID:10004666-1755259200-1755291600@stoughtoncc.com
SUMMARY:Sporting Clays Course Setup
DESCRIPTION:
URL:https://stoughtoncc.com/event/sporting-clays-course-setup/2025-08-15/
LOCATION:Trap & Skeet Fields
END:VEVENT
BEGIN:VEVENT
DTSTART;TZID=America/Chicago:20250815T180000
DTEND;TZID=America/Chicago:20250815T230000
DTSTAMP:20260424T022841
CREATED:20250730T164756Z
LAST-MODIFIED:20250730T165008Z
UID:10004852-1755280800-1755298800@stoughtoncc.com
SUMMARY:3D Archery Night Shoot (Public)
DESCRIPTION:  \n  \n \n  \n 
URL:https://stoughtoncc.com/event/3d-archery-night-shoot-2/
LOCATION:Trap & Skeet Fields
ORGANIZER;CN="Addi Wineka":MAILTO:addisenwineka@gmail.com
END:VEVENT
BEGIN:VEVENT
DTSTART;TZID=America/Chicago:20250816T090000
DTEND;TZID=America/Chicago:20250816T150000
DTSTAMP:20260424T022841
CREATED:20240816T185747Z
LAST-MODIFIED:20250508T034637Z
UID:10003799-1755334800-1755356400@stoughtoncc.com
SUMMARY:Sporting Clays (Public)
DESCRIPTION:2025 Sporting Clays: \n\nMay 17\nJune 21\nJuly 19\nAugust 16
URL:https://stoughtoncc.com/event/sporting-clays-2025/2025-08-16/
LOCATION:Main Clubhouse
ORGANIZER;CN="Roger Kluever":MAILTO:07harley89@gmail.com
END:VEVENT
BEGIN:VEVENT
DTSTART;TZID=America/Chicago:20250818T080000
DTEND;TZID=America/Chicago:20250818T110000
DTSTAMP:20260424T022841
CREATED:20241210T180811Z
LAST-MODIFIED:20250508T035024Z
UID:10004075-1755504000-1755514800@stoughtoncc.com
SUMMARY:Monday Morning Trap/Skeet
DESCRIPTION:Open trap and skeet for members. Come\, shoot\, drink coffee.
URL:https://stoughtoncc.com/event/monday-morning-trap-skeet/2025-08-18/
LOCATION:Trap & Skeet Fields
END:VEVENT
BEGIN:VEVENT
DTSTART;TZID=America/Chicago:20250818T180000
DTEND;TZID=America/Chicago:20250818T200000
DTSTAMP:20260424T022841
CREATED:20250106T214248Z
LAST-MODIFIED:20250106T230443Z
UID:10004521-1755540000-1755547200@stoughtoncc.com
SUMMARY:S3DA Archery
DESCRIPTION:
URL:https://stoughtoncc.com/event/s3da-2/2025-08-18/
LOCATION:Indoor Archery Range
ORGANIZER;CN="Dave Rynes":MAILTO:blackdogdr@gmail.com
END:VEVENT
BEGIN:VEVENT
DTSTART;TZID=America/Chicago:20250820T170000
DTEND;TZID=America/Chicago:20250820T210000
DTSTAMP:20260424T022841
CREATED:20250401T200444Z
LAST-MODIFIED:20250508T035437Z
UID:10004713-1755709200-1755723600@stoughtoncc.com
SUMMARY:Broadhead Archery League
DESCRIPTION:
URL:https://stoughtoncc.com/event/broadhead-archery-league/2025-08-20/
LOCATION:Pistol Building
ORGANIZER;CN="Dave Rynes":MAILTO:blackdogdr@gmail.com
END:VEVENT
BEGIN:VEVENT
DTSTART;TZID=America/Chicago:20250823T070000
DTEND;TZID=America/Chicago:20250823T170000
DTSTAMP:20260424T022841
CREATED:20250430T221938Z
LAST-MODIFIED:20250508T035204Z
UID:10004726-1755932400-1755968400@stoughtoncc.com
SUMMARY:Hunter Education Internet Field Day
DESCRIPTION:
URL:https://stoughtoncc.com/event/hunter-education-internet-field-day/
LOCATION:Rifle Range
ORGANIZER;CN="Kevin Kettner":MAILTO:kkettner@gmail.com
END:VEVENT
BEGIN:VEVENT
DTSTART;TZID=America/Chicago:20250823T080000
DTEND;TZID=America/Chicago:20250823T170000
DTSTAMP:20260424T022841
CREATED:20250430T221833Z
LAST-MODIFIED:20250812T025650Z
UID:10004724-1755936000-1755968400@stoughtoncc.com
SUMMARY:3D Archery Tournament (Public)
DESCRIPTION:
URL:https://stoughtoncc.com/event/3d-archery-tournament/2025-08-23/
LOCATION:Pistol Building
END:VEVENT
BEGIN:VEVENT
DTSTART;TZID=America/Chicago:20250824T080000
DTEND;TZID=America/Chicago:20250824T170000
DTSTAMP:20260424T022841
CREATED:20250430T221833Z
LAST-MODIFIED:20250812T025650Z
UID:10004725-1756022400-1756054800@stoughtoncc.com
SUMMARY:3D Archery Tournament (Public)
DESCRIPTION:
URL:https://stoughtoncc.com/event/3d-archery-tournament/2025-08-24/
LOCATION:Pistol Building
END:VEVENT
BEGIN:VEVENT
DTSTART;TZID=America/Chicago:20250825T080000
DTEND;TZID=America/Chicago:20250825T110000
DTSTAMP:20260424T022841
CREATED:20241210T180811Z
LAST-MODIFIED:20250508T035024Z
UID:10004076-1756108800-1756119600@stoughtoncc.com
SUMMARY:Monday Morning Trap/Skeet
DESCRIPTION:Open trap and skeet for members. Come\, shoot\, drink coffee.
URL:https://stoughtoncc.com/event/monday-morning-trap-skeet/2025-08-25/
LOCATION:Trap & Skeet Fields
END:VEVENT
BEGIN:VEVENT
DTSTART;TZID=America/Chicago:20250825T190000
DTEND;TZID=America/Chicago:20250825T210000
DTSTAMP:20260424T022841
CREATED:20241210T165655Z
LAST-MODIFIED:20250521T042757Z
UID:10003964-1756148400-1756155600@stoughtoncc.com
SUMMARY:Board of Directors Meeting
DESCRIPTION:
URL:https://stoughtoncc.com/event/board-of-directors-meeting-2/2025-08-25/
LOCATION:Main Clubhouse
END:VEVENT
BEGIN:VEVENT
DTSTART;TZID=America/Chicago:20250827T170000
DTEND;TZID=America/Chicago:20250827T210000
DTSTAMP:20260424T022841
CREATED:20250401T200444Z
LAST-MODIFIED:20250508T035437Z
UID:10004714-1756314000-1756328400@stoughtoncc.com
SUMMARY:Broadhead Archery League
DESCRIPTION:
URL:https://stoughtoncc.com/event/broadhead-archery-league/2025-08-27/
LOCATION:Pistol Building
ORGANIZER;CN="Dave Rynes":MAILTO:blackdogdr@gmail.com
END:VEVENT
BEGIN:VEVENT
DTSTART;TZID=America/Chicago:20250901T080000
DTEND;TZID=America/Chicago:20250901T110000
DTSTAMP:20260424T022841
CREATED:20241210T180811Z
LAST-MODIFIED:20250508T035024Z
UID:10004077-1756713600-1756724400@stoughtoncc.com
SUMMARY:Monday Morning Trap/Skeet
DESCRIPTION:Open trap and skeet for members. Come\, shoot\, drink coffee.
URL:https://stoughtoncc.com/event/monday-morning-trap-skeet/2025-09-01/
LOCATION:Trap & Skeet Fields
END:VEVENT
BEGIN:VEVENT
DTSTART;TZID=America/Chicago:20250901T180000
DTEND;TZID=America/Chicago:20250901T200000
DTSTAMP:20260424T022841
CREATED:20250106T214651Z
LAST-MODIFIED:20250106T230453Z
UID:10004603-1756749600-1756756800@stoughtoncc.com
SUMMARY:S3DA Archery
DESCRIPTION:
URL:https://stoughtoncc.com/event/s3da/2025-09-01/
LOCATION:Indoor Archery Range
ORGANIZER;CN="Dave Rynes":MAILTO:blackdogdr@gmail.com
END:VEVENT
BEGIN:VEVENT
DTSTART;TZID=America/Chicago:20250903T173000
DTEND;TZID=America/Chicago:20250903T213000
DTSTAMP:20260424T022841
CREATED:20250812T025509Z
LAST-MODIFIED:20250812T025509Z
UID:10004854-1756920600-1756935000@stoughtoncc.com
SUMMARY:Black Sheep Pistol League
DESCRIPTION:
URL:https://stoughtoncc.com/event/black-sheep-pistol-league-2/2025-09-03/
LOCATION:Pistol Range
END:VEVENT
BEGIN:VEVENT
DTSTART;TZID=America/Chicago:20250903T180000
DTEND;TZID=America/Chicago:20250903T190000
DTSTAMP:20260424T022841
CREATED:20250901T135607Z
LAST-MODIFIED:20250901T135607Z
UID:10004890-1756922400-1756926000@stoughtoncc.com
SUMMARY:Long Range Orientation
DESCRIPTION:No sign-up required. Just show up Wednesday at 6:00
URL:https://stoughtoncc.com/event/long-range-orientation-5/
LOCATION:Trap & Skeet Fields
ORGANIZER;CN="Kevin Kettner":MAILTO:kkettner@gmail.com
END:VEVENT
BEGIN:VEVENT
DTSTART;TZID=America/Chicago:20250904T173000
DTEND;TZID=America/Chicago:20250904T213000
DTSTAMP:20260424T022841
CREATED:20250430T222317Z
LAST-MODIFIED:20250508T034346Z
UID:10004728-1757007000-1757021400@stoughtoncc.com
SUMMARY:Centerfire Pistol League
DESCRIPTION:
URL:https://stoughtoncc.com/event/centerfire-pistol-league/2025-09-04/
LOCATION:Pistol Building
ORGANIZER;CN="Kevin Kettner":MAILTO:kkettner@gmail.com
END:VEVENT
BEGIN:VEVENT
DTSTART;TZID=America/Chicago:20250904T180000
DTEND;TZID=America/Chicago:20250904T220000
DTSTAMP:20260424T022841
CREATED:20250430T222608Z
LAST-MODIFIED:20250508T035219Z
UID:10004740-1757008800-1757023200@stoughtoncc.com
SUMMARY:Fall Trap League
DESCRIPTION:
URL:https://stoughtoncc.com/event/fall-trap-league/2025-09-04/
LOCATION:Trap & Skeet Fields
ORGANIZER;CN="Kevin Kettner":MAILTO:kkettner@gmail.com
END:VEVENT
BEGIN:VEVENT
DTSTART;TZID=America/Chicago:20250906T090000
DTEND;TZID=America/Chicago:20250906T150000
DTSTAMP:20260424T022841
CREATED:20250430T222112Z
LAST-MODIFIED:20250812T025743Z
UID:10004727-1757149200-1757170800@stoughtoncc.com
SUMMARY:Trapathlon 2025 (Public)
DESCRIPTION:  \nPre-Register here: https://www.signupgenius.com/go/30E0949A4AB28A1F94-57386306-trapathlon \n 
URL:https://stoughtoncc.com/event/trapathlon/
LOCATION:Trap & Skeet Fields
ORGANIZER;CN="Kevin Kettner":MAILTO:kkettner@gmail.com
END:VEVENT
BEGIN:VEVENT
DTSTART;TZID=America/Chicago:20250907T100000
DTEND;TZID=America/Chicago:20250907T110000
DTSTAMP:20260424T022841
CREATED:20250617T175514Z
LAST-MODIFIED:20250617T175514Z
UID:10004847-1757239200-1757242800@stoughtoncc.com
SUMMARY:Try Trap - Setup
DESCRIPTION:
URL:https://stoughtoncc.com/event/try-trap-setup/
LOCATION:Trap & Skeet Fields
END:VEVENT
BEGIN:VEVENT
DTSTART;TZID=America/Chicago:20250907T110000
DTEND;TZID=America/Chicago:20250907T140000
DTSTAMP:20260424T022841
CREATED:20250617T175424Z
LAST-MODIFIED:20250812T032408Z
UID:10004846-1757242800-1757253600@stoughtoncc.com
SUMMARY:Try Trap (Public)
DESCRIPTION:This event is for kids who are interested in learning to shoot trap or skeet. \n\n\n\n\n\n\n\nThe Viking Lead Slingers are hosting TRY TRAP FOR FREE!\n\nSunday September 7th\, 2025 from 11:00 AM – 2:00 PM at the Stoughton Conservation Club.\n\nThank you to BA Stanton Construction LLC for sponsoring our event!
URL:https://stoughtoncc.com/event/try-trap/
LOCATION:Main Clubhouse
ORGANIZER;CN="Kevin Kettner":MAILTO:kkettner@gmail.com
END:VEVENT
BEGIN:VEVENT
DTSTART;TZID=America/Chicago:20250908T080000
DTEND;TZID=America/Chicago:20250908T110000
DTSTAMP:20260424T022841
CREATED:20241210T180811Z
LAST-MODIFIED:20250508T035024Z
UID:10004078-1757318400-1757329200@stoughtoncc.com
SUMMARY:Monday Morning Trap/Skeet
DESCRIPTION:Open trap and skeet for members. Come\, shoot\, drink coffee.
URL:https://stoughtoncc.com/event/monday-morning-trap-skeet/2025-09-08/
LOCATION:Trap & Skeet Fields
END:VEVENT
BEGIN:VEVENT
DTSTART;TZID=America/Chicago:20250908T173000
DTEND;TZID=America/Chicago:20250908T190000
DTSTAMP:20260424T022841
CREATED:20241209T164257Z
LAST-MODIFIED:20250508T035832Z
UID:10004784-1757352600-1757358000@stoughtoncc.com
SUMMARY:Member Orientation - Indoor Archery Closed
DESCRIPTION:In-person orientation is required for new members\, and begins promptly at 6 PM before the monthly general membership meeting. \nOther membership situations can also be handled during this time. \nIndoor Archery will be CLOSED at 5:30 for setup.
URL:https://stoughtoncc.com/event/member-orientation/2025-09-08/
LOCATION:Main Clubhouse
END:VEVENT
BEGIN:VEVENT
DTSTART;TZID=America/Chicago:20250908T190000
DTEND;TZID=America/Chicago:20250908T200000
DTSTAMP:20260424T022841
CREATED:20241210T172441Z
LAST-MODIFIED:20241210T172441Z
UID:10003977-1757358000-1757361600@stoughtoncc.com
SUMMARY:Member Meeting
DESCRIPTION:
URL:https://stoughtoncc.com/event/member-meeting/2025-09-08/
LOCATION:Main Clubhouse
END:VEVENT
BEGIN:VEVENT
DTSTART;TZID=America/Chicago:20250910T173000
DTEND;TZID=America/Chicago:20250910T213000
DTSTAMP:20260424T022841
CREATED:20250812T025509Z
LAST-MODIFIED:20250812T025509Z
UID:10004855-1757525400-1757539800@stoughtoncc.com
SUMMARY:Black Sheep Pistol League
DESCRIPTION:
URL:https://stoughtoncc.com/event/black-sheep-pistol-league-2/2025-09-10/
LOCATION:Pistol Range
END:VEVENT
END:VCALENDAR