BEGIN:VCALENDAR
VERSION:2.0
PRODID:-//Stoughton Conservation Club - ECPv6.15.20//NONSGML v1.0//EN
CALSCALE:GREGORIAN
METHOD:PUBLISH
X-WR-CALNAME:Stoughton Conservation Club
X-ORIGINAL-URL:https://stoughtoncc.com
X-WR-CALDESC:Events for Stoughton Conservation Club
REFRESH-INTERVAL;VALUE=DURATION:PT1H
X-Robots-Tag:noindex
X-PUBLISHED-TTL:PT1H
BEGIN:VTIMEZONE
TZID:America/Chicago
BEGIN:DAYLIGHT
TZOFFSETFROM:-0600
TZOFFSETTO:-0500
TZNAME:CDT
DTSTART:20250309T080000
END:DAYLIGHT
BEGIN:STANDARD
TZOFFSETFROM:-0500
TZOFFSETTO:-0600
TZNAME:CST
DTSTART:20251102T070000
END:STANDARD
BEGIN:DAYLIGHT
TZOFFSETFROM:-0600
TZOFFSETTO:-0500
TZNAME:CDT
DTSTART:20260308T080000
END:DAYLIGHT
BEGIN:STANDARD
TZOFFSETFROM:-0500
TZOFFSETTO:-0600
TZNAME:CST
DTSTART:20261101T070000
END:STANDARD
BEGIN:DAYLIGHT
TZOFFSETFROM:-0600
TZOFFSETTO:-0500
TZNAME:CDT
DTSTART:20270314T080000
END:DAYLIGHT
BEGIN:STANDARD
TZOFFSETFROM:-0500
TZOFFSETTO:-0600
TZNAME:CST
DTSTART:20271107T070000
END:STANDARD
END:VTIMEZONE
BEGIN:VEVENT
DTSTART;TZID=America/Chicago:20260518T080000
DTEND;TZID=America/Chicago:20260518T110000
DTSTAMP:20260423T190549
CREATED:20241210T180811Z
LAST-MODIFIED:20250508T035024Z
UID:10004114-1779091200-1779102000@stoughtoncc.com
SUMMARY:Monday Morning Trap/Skeet
DESCRIPTION:Open trap and skeet for members. Come\, shoot\, drink coffee.
URL:https://stoughtoncc.com/event/monday-morning-trap-skeet/2026-05-18/
LOCATION:Trap & Skeet Fields
END:VEVENT
BEGIN:VEVENT
DTSTART;TZID=America/Chicago:20260517T090000
DTEND;TZID=America/Chicago:20260517T140000
DTSTAMP:20260423T190549
CREATED:20250905T132306Z
LAST-MODIFIED:20250905T132306Z
UID:10004933-1779008400-1779026400@stoughtoncc.com
SUMMARY:VLS Trap/Skeet Practice
DESCRIPTION:
URL:https://stoughtoncc.com/event/vls-trap-skeet-practice/2026-05-17/
LOCATION:Trap & Skeet Fields
ORGANIZER;CN="Kevin Kettner":MAILTO:kkettner@gmail.com
END:VEVENT
BEGIN:VEVENT
DTSTART;TZID=America/Chicago:20260516T080000
DTEND;TZID=America/Chicago:20260516T170000
DTSTAMP:20260423T190549
CREATED:20251209T050014Z
LAST-MODIFIED:20260416T195846Z
UID:10005048-1778918400-1778950800@stoughtoncc.com
SUMMARY:Sporting Clays (Public)
DESCRIPTION:Sporting Clays is open to members and the public from 9:00 AM to 3:00 PM.
URL:https://stoughtoncc.com/event/sporting-clays-public/2026-05-16/
LOCATION:Trap & Skeet Fields
ORGANIZER;CN="Roger Kluever":MAILTO:07harley89@gmail.com
END:VEVENT
BEGIN:VEVENT
DTSTART;TZID=America/Chicago:20260516T080000
DTEND;TZID=America/Chicago:20260516T160000
DTSTAMP:20260423T190549
CREATED:20260121T042901Z
LAST-MODIFIED:20260121T042901Z
UID:10005100-1778918400-1778947200@stoughtoncc.com
SUMMARY:4H Air Rifle Fair Shoot
DESCRIPTION:4H will use the Indoor Pistol Range for the Air Rifle Fair Shoot.
URL:https://stoughtoncc.com/event/4h-air-rifle-fair-shoot/
LOCATION:Pistol Range
ORGANIZER;CN="Shawn Cannon":MAILTO:shawndeannacannon@gmail.com
END:VEVENT
BEGIN:VEVENT
DTSTART;TZID=America/Chicago:20260514T173000
DTEND;TZID=America/Chicago:20260514T220000
DTSTAMP:20260423T190549
CREATED:20250903T195739Z
LAST-MODIFIED:20250903T195849Z
UID:10004910-1778779800-1778796000@stoughtoncc.com
SUMMARY:Trap League - 2026
DESCRIPTION:
URL:https://stoughtoncc.com/event/trap-league-2026/2026-05-14/
LOCATION:Trap & Skeet Fields
ORGANIZER;CN="Kevin Kettner":MAILTO:kkettner@gmail.com
END:VEVENT
BEGIN:VEVENT
DTSTART;TZID=America/Chicago:20260514T160000
DTEND;TZID=America/Chicago:20260514T190000
DTSTAMP:20260423T190549
CREATED:20251209T044947Z
LAST-MODIFIED:20251209T044947Z
UID:10005045-1778774400-1778785200@stoughtoncc.com
SUMMARY:4H Muzzle Loader
DESCRIPTION:The 4H Shooting Sports program will use the rifle range to practice shooting muzzle loaders.
URL:https://stoughtoncc.com/event/4h-muzzle-loader/2026-05-14/
LOCATION:Rifle Range
ORGANIZER;CN="Shawn Cannon":MAILTO:shawndeannacannon@gmail.com
END:VEVENT
BEGIN:VEVENT
DTSTART;TZID=America/Chicago:20260512T173000
DTEND;TZID=America/Chicago:20260512T193000
DTSTAMP:20260423T190549
CREATED:20251209T044618Z
LAST-MODIFIED:20251209T044618Z
UID:10005038-1778607000-1778614200@stoughtoncc.com
SUMMARY:4H Trap/Skeet/Indoor Archery
DESCRIPTION:The 4H Shooting Sports program will use the trap/skeet fields and indoor archery range to practice.
URL:https://stoughtoncc.com/event/4h-trap-skeet-indoor-archery/2026-05-12/
LOCATION:Trap & Skeet Fields
ORGANIZER;CN="Shawn Cannon":MAILTO:shawndeannacannon@gmail.com
END:VEVENT
BEGIN:VEVENT
DTSTART;TZID=America/Chicago:20260512T050000
DTEND;TZID=America/Chicago:20260512T210000
DTSTAMP:20260423T190549
CREATED:20260324T224429Z
LAST-MODIFIED:20260324T224429Z
UID:10005126-1778562000-1778619600@stoughtoncc.com
SUMMARY:3D Archery League - 2026
DESCRIPTION:
URL:https://stoughtoncc.com/event/3d-archery-league-2026/2026-05-12/
LOCATION:Woods Trail Archery Course\, WI
ORGANIZER;CN="Dave Rynes":MAILTO:blackdogdr@gmail.com
END:VEVENT
BEGIN:VEVENT
DTSTART;TZID=America/Chicago:20260511T190000
DTEND;TZID=America/Chicago:20260511T200000
DTSTAMP:20260423T190549
CREATED:20241210T172441Z
LAST-MODIFIED:20241210T172441Z
UID:10003985-1778526000-1778529600@stoughtoncc.com
SUMMARY:Member Meeting
DESCRIPTION:
URL:https://stoughtoncc.com/event/member-meeting/2026-05-11/
LOCATION:Main Clubhouse
END:VEVENT
BEGIN:VEVENT
DTSTART;TZID=America/Chicago:20260511T173000
DTEND;TZID=America/Chicago:20260511T190000
DTSTAMP:20260423T190549
CREATED:20241209T164257Z
LAST-MODIFIED:20250508T035832Z
UID:10004792-1778520600-1778526000@stoughtoncc.com
SUMMARY:Member Orientation - Indoor Archery Closed
DESCRIPTION:In-person orientation is required for new members\, and begins promptly at 6 PM before the monthly general membership meeting. \nOther membership situations can also be handled during this time. \nIndoor Archery will be CLOSED at 5:30 for setup.
URL:https://stoughtoncc.com/event/member-orientation/2026-05-11/
LOCATION:Main Clubhouse
END:VEVENT
BEGIN:VEVENT
DTSTART;TZID=America/Chicago:20260511T080000
DTEND;TZID=America/Chicago:20260511T110000
DTSTAMP:20260423T190549
CREATED:20241210T180811Z
LAST-MODIFIED:20250508T035024Z
UID:10004113-1778486400-1778497200@stoughtoncc.com
SUMMARY:Monday Morning Trap/Skeet
DESCRIPTION:Open trap and skeet for members. Come\, shoot\, drink coffee.
URL:https://stoughtoncc.com/event/monday-morning-trap-skeet/2026-05-11/
LOCATION:Trap & Skeet Fields
END:VEVENT
BEGIN:VEVENT
DTSTART;TZID=America/Chicago:20260510T090000
DTEND;TZID=America/Chicago:20260510T140000
DTSTAMP:20260423T190549
CREATED:20250905T132306Z
LAST-MODIFIED:20250905T132306Z
UID:10004932-1778403600-1778421600@stoughtoncc.com
SUMMARY:VLS Trap/Skeet Practice
DESCRIPTION:
URL:https://stoughtoncc.com/event/vls-trap-skeet-practice/2026-05-10/
LOCATION:Trap & Skeet Fields
ORGANIZER;CN="Kevin Kettner":MAILTO:kkettner@gmail.com
END:VEVENT
BEGIN:VEVENT
DTSTART;TZID=America/Chicago:20260509T080000
DTEND;TZID=America/Chicago:20260509T120000
DTSTAMP:20260423T190549
CREATED:20251209T051202Z
LAST-MODIFIED:20251209T052220Z
UID:10005054-1778313600-1778328000@stoughtoncc.com
SUMMARY:4H Pistol
DESCRIPTION:Air Pistol (8:30-10:00am) and .22 Pistol (10-11:30am)
URL:https://stoughtoncc.com/event/4h-air-and-22-pistol/2026-05-09/
LOCATION:Pistol Range
ORGANIZER;CN="Shawn Cannon":MAILTO:shawndeannacannon@gmail.com
END:VEVENT
BEGIN:VEVENT
DTSTART;TZID=America/Chicago:20260507T173000
DTEND;TZID=America/Chicago:20260507T220000
DTSTAMP:20260423T190549
CREATED:20250903T195739Z
LAST-MODIFIED:20250903T195849Z
UID:10004909-1778175000-1778191200@stoughtoncc.com
SUMMARY:Trap League - 2026
DESCRIPTION:
URL:https://stoughtoncc.com/event/trap-league-2026/2026-05-07/
LOCATION:Trap & Skeet Fields
ORGANIZER;CN="Kevin Kettner":MAILTO:kkettner@gmail.com
END:VEVENT
BEGIN:VEVENT
DTSTART;TZID=America/Chicago:20260507T160000
DTEND;TZID=America/Chicago:20260507T190000
DTSTAMP:20260423T190549
CREATED:20251209T044947Z
LAST-MODIFIED:20251209T044947Z
UID:10005044-1778169600-1778180400@stoughtoncc.com
SUMMARY:4H Muzzle Loader
DESCRIPTION:The 4H Shooting Sports program will use the rifle range to practice shooting muzzle loaders.
URL:https://stoughtoncc.com/event/4h-muzzle-loader/2026-05-07/
LOCATION:Rifle Range
ORGANIZER;CN="Shawn Cannon":MAILTO:shawndeannacannon@gmail.com
END:VEVENT
BEGIN:VEVENT
DTSTART;TZID=America/Chicago:20260505T050000
DTEND;TZID=America/Chicago:20260505T210000
DTSTAMP:20260423T190549
CREATED:20260324T224429Z
LAST-MODIFIED:20260324T224429Z
UID:10005125-1777957200-1778014800@stoughtoncc.com
SUMMARY:3D Archery League - 2026
DESCRIPTION:
URL:https://stoughtoncc.com/event/3d-archery-league-2026/2026-05-05/
LOCATION:Woods Trail Archery Course\, WI
ORGANIZER;CN="Dave Rynes":MAILTO:blackdogdr@gmail.com
END:VEVENT
BEGIN:VEVENT
DTSTART;TZID=America/Chicago:20260504T180000
DTEND;TZID=America/Chicago:20260504T200000
DTSTAMP:20260423T190549
CREATED:20250106T214651Z
LAST-MODIFIED:20250106T230453Z
UID:10004611-1777917600-1777924800@stoughtoncc.com
SUMMARY:S3DA Archery
DESCRIPTION:
URL:https://stoughtoncc.com/event/s3da/2026-05-04/
LOCATION:Indoor Archery Range
ORGANIZER;CN="Dave Rynes":MAILTO:blackdogdr@gmail.com
END:VEVENT
BEGIN:VEVENT
DTSTART;TZID=America/Chicago:20260504T080000
DTEND;TZID=America/Chicago:20260504T110000
DTSTAMP:20260423T190549
CREATED:20241210T180811Z
LAST-MODIFIED:20250508T035024Z
UID:10004112-1777881600-1777892400@stoughtoncc.com
SUMMARY:Monday Morning Trap/Skeet
DESCRIPTION:Open trap and skeet for members. Come\, shoot\, drink coffee.
URL:https://stoughtoncc.com/event/monday-morning-trap-skeet/2026-05-04/
LOCATION:Trap & Skeet Fields
END:VEVENT
BEGIN:VEVENT
DTSTART;TZID=America/Chicago:20260503T090000
DTEND;TZID=America/Chicago:20260503T140000
DTSTAMP:20260423T190549
CREATED:20250905T132306Z
LAST-MODIFIED:20250905T132306Z
UID:10004931-1777798800-1777816800@stoughtoncc.com
SUMMARY:VLS Trap/Skeet Practice
DESCRIPTION:
URL:https://stoughtoncc.com/event/vls-trap-skeet-practice/2026-05-03/
LOCATION:Trap & Skeet Fields
ORGANIZER;CN="Kevin Kettner":MAILTO:kkettner@gmail.com
END:VEVENT
BEGIN:VEVENT
DTSTART;TZID=America/Chicago:20260503T080000
DTEND;TZID=America/Chicago:20260503T170000
DTSTAMP:20260423T190549
CREATED:20260410T053130Z
LAST-MODIFIED:20260410T053130Z
UID:10005135-1777795200-1777827600@stoughtoncc.com
SUMMARY:VLS Trap Invitational Rain Makeup
DESCRIPTION:This will only be needed if we have a rain out for Friday or Saturday.
URL:https://stoughtoncc.com/event/vls-trap-invitational-rain-makeup/
LOCATION:Main Clubhouse
ORGANIZER;CN="Kevin Kettner":MAILTO:kkettner@gmail.com
END:VEVENT
BEGIN:VEVENT
DTSTART;TZID=America/Chicago:20260502T080000
DTEND;TZID=America/Chicago:20260502T170000
DTSTAMP:20260423T190549
CREATED:20250903T192948Z
LAST-MODIFIED:20250903T192948Z
UID:10004893-1777708800-1777741200@stoughtoncc.com
SUMMARY:VLS Trap Invitational
DESCRIPTION:
URL:https://stoughtoncc.com/event/vls-trap-invitational-2/
LOCATION:Trap & Skeet Fields
ORGANIZER;CN="Kevin Kettner":MAILTO:kkettner@gmail.com
END:VEVENT
BEGIN:VEVENT
DTSTART;TZID=America/Chicago:20260501T160000
DTEND;TZID=America/Chicago:20260501T220000
DTSTAMP:20260423T190549
CREATED:20251209T052448Z
LAST-MODIFIED:20251209T052732Z
UID:10005064-1777651200-1777672800@stoughtoncc.com
SUMMARY:VLS Trap Invitational
DESCRIPTION:The Viking Lead Slingers will shoot for the VLS Trap Invitational. \nBucket Raffles and food will be available in the clubhouse.
URL:https://stoughtoncc.com/event/vls-trap-invitational-3/
LOCATION:Main Clubhouse
ORGANIZER;CN="Kevin Kettner":MAILTO:kkettner@gmail.com
END:VEVENT
BEGIN:VEVENT
DTSTART;TZID=America/Chicago:20260430T173000
DTEND;TZID=America/Chicago:20260430T220000
DTSTAMP:20260423T190549
CREATED:20250903T195739Z
LAST-MODIFIED:20250903T195849Z
UID:10004908-1777570200-1777586400@stoughtoncc.com
SUMMARY:Trap League - 2026
DESCRIPTION:
URL:https://stoughtoncc.com/event/trap-league-2026/2026-04-30/
LOCATION:Trap & Skeet Fields
ORGANIZER;CN="Kevin Kettner":MAILTO:kkettner@gmail.com
END:VEVENT
BEGIN:VEVENT
DTSTART;TZID=America/Chicago:20260430T160000
DTEND;TZID=America/Chicago:20260430T220000
DTSTAMP:20260423T190549
CREATED:20251209T052634Z
LAST-MODIFIED:20251209T052634Z
UID:10005065-1777564800-1777586400@stoughtoncc.com
SUMMARY:VLS Bucket Raffles
DESCRIPTION:VLS will host bucket raffles in the indoor archery range from 5:30 until 9:00
URL:https://stoughtoncc.com/event/vls-bucket-raffles/
LOCATION:Indoor Archery Range
ORGANIZER;CN="Kevin Kettner":MAILTO:kkettner@gmail.com
END:VEVENT
BEGIN:VEVENT
DTSTART;TZID=America/Chicago:20260430T150000
DTEND;TZID=America/Chicago:20260502T200000
DTSTAMP:20260423T190549
CREATED:20260331T133705Z
LAST-MODIFIED:20260403T023607Z
UID:10005132-1777561200-1777752000@stoughtoncc.com
SUMMARY:Indoor Archery Closed
DESCRIPTION:The Indoor Archery Range will be closed from Thursday\, April 30 around 3:00 PM until Saturday night. The room is being used for the VLS invitational.
URL:https://stoughtoncc.com/event/indoor-archery-closed/
LOCATION:Indoor Archery Range
ORGANIZER;CN="Kevin Kettner":MAILTO:kkettner@gmail.com
END:VEVENT
BEGIN:VEVENT
DTSTART;TZID=America/Chicago:20260428T050000
DTEND;TZID=America/Chicago:20260428T210000
DTSTAMP:20260423T190549
CREATED:20260324T224429Z
LAST-MODIFIED:20260324T224429Z
UID:10005124-1777352400-1777410000@stoughtoncc.com
SUMMARY:3D Archery League - 2026
DESCRIPTION:
URL:https://stoughtoncc.com/event/3d-archery-league-2026/2026-04-28/
LOCATION:Woods Trail Archery Course\, WI
ORGANIZER;CN="Dave Rynes":MAILTO:blackdogdr@gmail.com
END:VEVENT
BEGIN:VEVENT
DTSTART;TZID=America/Chicago:20260427T190000
DTEND;TZID=America/Chicago:20260427T210000
DTSTAMP:20260423T190549
CREATED:20251219T162212Z
LAST-MODIFIED:20251219T162212Z
UID:10005073-1777316400-1777323600@stoughtoncc.com
SUMMARY:Board of Directors Meeting
DESCRIPTION:This is the monthly SCC Board of Directors meeting. \nContact a board member if you’d like to have a topic added to the agenda. \nThe board meets at 6:30 during standard time months and 7:00 during daylight savings time months.
URL:https://stoughtoncc.com/event/board-of-directors-meeting-4/2026-04-27/
LOCATION:Main Clubhouse
END:VEVENT
BEGIN:VEVENT
DTSTART;TZID=America/Chicago:20260427T080000
DTEND;TZID=America/Chicago:20260427T110000
DTSTAMP:20260423T190549
CREATED:20241210T180811Z
LAST-MODIFIED:20250508T035024Z
UID:10004111-1777276800-1777287600@stoughtoncc.com
SUMMARY:Monday Morning Trap/Skeet
DESCRIPTION:Open trap and skeet for members. Come\, shoot\, drink coffee.
URL:https://stoughtoncc.com/event/monday-morning-trap-skeet/2026-04-27/
LOCATION:Trap & Skeet Fields
END:VEVENT
BEGIN:VEVENT
DTSTART;TZID=America/Chicago:20260426T100000
DTEND;TZID=America/Chicago:20260426T120000
DTSTAMP:20260423T190549
CREATED:20260416T194455Z
LAST-MODIFIED:20260416T194455Z
UID:10005144-1777197600-1777204800@stoughtoncc.com
SUMMARY:Girl Scouts Archery
DESCRIPTION:Girl Scouts will use the indoor archery range and youth equipment.
URL:https://stoughtoncc.com/event/girl-scouts-archery-2/
LOCATION:Indoor Archery Range
END:VEVENT
BEGIN:VEVENT
DTSTART;TZID=America/Chicago:20260426T090000
DTEND;TZID=America/Chicago:20260426T140000
DTSTAMP:20260423T190549
CREATED:20250905T132306Z
LAST-MODIFIED:20250905T132306Z
UID:10004930-1777194000-1777212000@stoughtoncc.com
SUMMARY:VLS Trap/Skeet Practice
DESCRIPTION:
URL:https://stoughtoncc.com/event/vls-trap-skeet-practice/2026-04-26/
LOCATION:Trap & Skeet Fields
ORGANIZER;CN="Kevin Kettner":MAILTO:kkettner@gmail.com
END:VEVENT
END:VCALENDAR