BEGIN:VCALENDAR
VERSION:2.0
PRODID:-//Stoughton Conservation Club - ECPv6.15.20//NONSGML v1.0//EN
CALSCALE:GREGORIAN
METHOD:PUBLISH
X-WR-CALNAME:Stoughton Conservation Club
X-ORIGINAL-URL:https://stoughtoncc.com
X-WR-CALDESC:Events for Stoughton Conservation Club
REFRESH-INTERVAL;VALUE=DURATION:PT1H
X-Robots-Tag:noindex
X-PUBLISHED-TTL:PT1H
BEGIN:VTIMEZONE
TZID:America/Chicago
BEGIN:DAYLIGHT
TZOFFSETFROM:-0600
TZOFFSETTO:-0500
TZNAME:CDT
DTSTART:20240310T080000
END:DAYLIGHT
BEGIN:STANDARD
TZOFFSETFROM:-0500
TZOFFSETTO:-0600
TZNAME:CST
DTSTART:20241103T070000
END:STANDARD
BEGIN:DAYLIGHT
TZOFFSETFROM:-0600
TZOFFSETTO:-0500
TZNAME:CDT
DTSTART:20250309T080000
END:DAYLIGHT
BEGIN:STANDARD
TZOFFSETFROM:-0500
TZOFFSETTO:-0600
TZNAME:CST
DTSTART:20251102T070000
END:STANDARD
BEGIN:DAYLIGHT
TZOFFSETFROM:-0600
TZOFFSETTO:-0500
TZNAME:CDT
DTSTART:20260308T080000
END:DAYLIGHT
BEGIN:STANDARD
TZOFFSETFROM:-0500
TZOFFSETTO:-0600
TZNAME:CST
DTSTART:20261101T070000
END:STANDARD
END:VTIMEZONE
BEGIN:VEVENT
DTSTART;TZID=America/Chicago:20251118T083000
DTEND;TZID=America/Chicago:20251118T150000
DTSTAMP:20260423T172115
CREATED:20250813T025221Z
LAST-MODIFIED:20250813T030803Z
UID:10004887-1763454600-1763478000@stoughtoncc.com
SUMMARY:Hunter's Sight-In Clinic (Public)
DESCRIPTION:Each fall the Stoughton Conservation Club hosts a public Sight-In for all types of hunting firearms: rifles\, shotguns\, muzzle loaders and hand guns. 25\, 50\, & 100 yard ranges are available. Bore sighting and scope mounting are included. \n$10 per Gun\n8:30 AM to 3 PM. (All shooting will end at 3 PM.) \nThe club provides covered shooting benches\, rests\, targets\, spotting scopes\, and adjustment tools. Spotters with experience are available to assist participants. Bring your firearm & ammunition. Hearing & eye protection are provided if you forget your own \nPlease note: This event is for sighting in hunting firearms. Advice is provided and practice is allowed\, but it is not intended for training or extensive practice.
URL:https://stoughtoncc.com/event/hunters-sight-in-clinic-public/2025-11-18/
LOCATION:Rifle Range
END:VEVENT
BEGIN:VEVENT
DTSTART;TZID=America/Chicago:20251117T180000
DTEND;TZID=America/Chicago:20251117T200000
DTSTAMP:20260423T172115
CREATED:20250106T214248Z
LAST-MODIFIED:20250106T230443Z
UID:10004524-1763402400-1763409600@stoughtoncc.com
SUMMARY:S3DA Archery
DESCRIPTION:
URL:https://stoughtoncc.com/event/s3da-2/2025-11-17/
LOCATION:Indoor Archery Range
ORGANIZER;CN="Dave Rynes":MAILTO:blackdogdr@gmail.com
END:VEVENT
BEGIN:VEVENT
DTSTART;TZID=America/Chicago:20251117T083000
DTEND;TZID=America/Chicago:20251117T150000
DTSTAMP:20260423T172115
CREATED:20250813T025221Z
LAST-MODIFIED:20250813T030803Z
UID:10004886-1763368200-1763391600@stoughtoncc.com
SUMMARY:Hunter's Sight-In Clinic (Public)
DESCRIPTION:Each fall the Stoughton Conservation Club hosts a public Sight-In for all types of hunting firearms: rifles\, shotguns\, muzzle loaders and hand guns. 25\, 50\, & 100 yard ranges are available. Bore sighting and scope mounting are included. \n$10 per Gun\n8:30 AM to 3 PM. (All shooting will end at 3 PM.) \nThe club provides covered shooting benches\, rests\, targets\, spotting scopes\, and adjustment tools. Spotters with experience are available to assist participants. Bring your firearm & ammunition. Hearing & eye protection are provided if you forget your own \nPlease note: This event is for sighting in hunting firearms. Advice is provided and practice is allowed\, but it is not intended for training or extensive practice.
URL:https://stoughtoncc.com/event/hunters-sight-in-clinic-public/2025-11-17/
LOCATION:Rifle Range
END:VEVENT
BEGIN:VEVENT
DTSTART;TZID=America/Chicago:20251117T080000
DTEND;TZID=America/Chicago:20251117T110000
DTSTAMP:20260423T172115
CREATED:20241210T180811Z
LAST-MODIFIED:20250508T035024Z
UID:10004088-1763366400-1763377200@stoughtoncc.com
SUMMARY:Monday Morning Trap/Skeet
DESCRIPTION:Open trap and skeet for members. Come\, shoot\, drink coffee.
URL:https://stoughtoncc.com/event/monday-morning-trap-skeet/2025-11-17/
LOCATION:Trap & Skeet Fields
END:VEVENT
BEGIN:VEVENT
DTSTART;TZID=America/Chicago:20251116T083000
DTEND;TZID=America/Chicago:20251116T150000
DTSTAMP:20260423T172115
CREATED:20250813T025221Z
LAST-MODIFIED:20250813T030803Z
UID:10004885-1763281800-1763305200@stoughtoncc.com
SUMMARY:Hunter's Sight-In Clinic (Public)
DESCRIPTION:Each fall the Stoughton Conservation Club hosts a public Sight-In for all types of hunting firearms: rifles\, shotguns\, muzzle loaders and hand guns. 25\, 50\, & 100 yard ranges are available. Bore sighting and scope mounting are included. \n$10 per Gun\n8:30 AM to 3 PM. (All shooting will end at 3 PM.) \nThe club provides covered shooting benches\, rests\, targets\, spotting scopes\, and adjustment tools. Spotters with experience are available to assist participants. Bring your firearm & ammunition. Hearing & eye protection are provided if you forget your own \nPlease note: This event is for sighting in hunting firearms. Advice is provided and practice is allowed\, but it is not intended for training or extensive practice.
URL:https://stoughtoncc.com/event/hunters-sight-in-clinic-public/2025-11-16/
LOCATION:Rifle Range
END:VEVENT
BEGIN:VEVENT
DTSTART;TZID=America/Chicago:20251115T083000
DTEND;TZID=America/Chicago:20251115T150000
DTSTAMP:20260423T172115
CREATED:20250813T025221Z
LAST-MODIFIED:20250813T030803Z
UID:10004884-1763195400-1763218800@stoughtoncc.com
SUMMARY:Hunter's Sight-In Clinic (Public)
DESCRIPTION:Each fall the Stoughton Conservation Club hosts a public Sight-In for all types of hunting firearms: rifles\, shotguns\, muzzle loaders and hand guns. 25\, 50\, & 100 yard ranges are available. Bore sighting and scope mounting are included. \n$10 per Gun\n8:30 AM to 3 PM. (All shooting will end at 3 PM.) \nThe club provides covered shooting benches\, rests\, targets\, spotting scopes\, and adjustment tools. Spotters with experience are available to assist participants. Bring your firearm & ammunition. Hearing & eye protection are provided if you forget your own \nPlease note: This event is for sighting in hunting firearms. Advice is provided and practice is allowed\, but it is not intended for training or extensive practice.
URL:https://stoughtoncc.com/event/hunters-sight-in-clinic-public/2025-11-15/
LOCATION:Rifle Range
END:VEVENT
BEGIN:VEVENT
DTSTART;TZID=America/Chicago:20251113T173000
DTEND;TZID=America/Chicago:20251113T213000
DTSTAMP:20260423T172115
CREATED:20250430T222317Z
LAST-MODIFIED:20250508T034346Z
UID:10004738-1763055000-1763069400@stoughtoncc.com
SUMMARY:Centerfire Pistol League
DESCRIPTION:
URL:https://stoughtoncc.com/event/centerfire-pistol-league/2025-11-13/
LOCATION:Pistol Building
ORGANIZER;CN="Kevin Kettner":MAILTO:kkettner@gmail.com
END:VEVENT
BEGIN:VEVENT
DTSTART;TZID=America/Chicago:20251112T173000
DTEND;TZID=America/Chicago:20251112T213000
DTSTAMP:20260423T172115
CREATED:20250812T025509Z
LAST-MODIFIED:20250812T025509Z
UID:10004864-1762968600-1762983000@stoughtoncc.com
SUMMARY:Black Sheep Pistol League
DESCRIPTION:
URL:https://stoughtoncc.com/event/black-sheep-pistol-league-2/2025-11-12/
LOCATION:Pistol Range
END:VEVENT
BEGIN:VEVENT
DTSTART;TZID=America/Chicago:20251110T190000
DTEND;TZID=America/Chicago:20251110T200000
DTSTAMP:20260423T172115
CREATED:20241210T172441Z
LAST-MODIFIED:20241210T172441Z
UID:10003979-1762801200-1762804800@stoughtoncc.com
SUMMARY:Member Meeting
DESCRIPTION:
URL:https://stoughtoncc.com/event/member-meeting/2025-11-10/
LOCATION:Main Clubhouse
END:VEVENT
BEGIN:VEVENT
DTSTART;TZID=America/Chicago:20251110T173000
DTEND;TZID=America/Chicago:20251110T190000
DTSTAMP:20260423T172115
CREATED:20241209T164257Z
LAST-MODIFIED:20250508T035832Z
UID:10004786-1762795800-1762801200@stoughtoncc.com
SUMMARY:Member Orientation - Indoor Archery Closed
DESCRIPTION:In-person orientation is required for new members\, and begins promptly at 6 PM before the monthly general membership meeting. \nOther membership situations can also be handled during this time. \nIndoor Archery will be CLOSED at 5:30 for setup.
URL:https://stoughtoncc.com/event/member-orientation/2025-11-10/
LOCATION:Main Clubhouse
END:VEVENT
BEGIN:VEVENT
DTSTART;TZID=America/Chicago:20251110T080000
DTEND;TZID=America/Chicago:20251110T110000
DTSTAMP:20260423T172115
CREATED:20241210T180811Z
LAST-MODIFIED:20250508T035024Z
UID:10004087-1762761600-1762772400@stoughtoncc.com
SUMMARY:Monday Morning Trap/Skeet
DESCRIPTION:Open trap and skeet for members. Come\, shoot\, drink coffee.
URL:https://stoughtoncc.com/event/monday-morning-trap-skeet/2025-11-10/
LOCATION:Trap & Skeet Fields
END:VEVENT
BEGIN:VEVENT
DTSTART;TZID=America/Chicago:20251109T130000
DTEND;TZID=America/Chicago:20251109T150000
DTSTAMP:20260423T172115
CREATED:20251103T020724Z
LAST-MODIFIED:20251103T020724Z
UID:10004990-1762693200-1762700400@stoughtoncc.com
SUMMARY:MANA Archery Shoot
DESCRIPTION:
URL:https://stoughtoncc.com/event/mana-archery-shoot/
LOCATION:Indoor Archery Range
ORGANIZER;CN="Dave Rynes":MAILTO:blackdogdr@gmail.com
END:VEVENT
BEGIN:VEVENT
DTSTART;TZID=America/Chicago:20251109T100000
DTEND;TZID=America/Chicago:20251109T120000
DTSTAMP:20260423T172115
CREATED:20241119T211422Z
LAST-MODIFIED:20260413T182358Z
UID:10004872-1762682400-1762689600@stoughtoncc.com
SUMMARY:Women's Open Pistol Shoot (Public)
DESCRIPTION:Dates:\nSunday\, May 10: 12-2pm – Cancelled due to Mother’s Day\nSunday\, June 14: 12-2pm\nSunday\, July 12: 12-2pm\nSunday\, August 9: 12-2pm\nSunday\, September 13: 12-2pm\nSunday\, October 11: 12-2pm\nSunday\, November 8: 12-2pm\n  \n\n\nOrganizer:\nMarla Waugh:  MarlaLFish@gmail.com\n\nDetails:\nWomen club members and non-members are welcome to attend the Women’s Open Shoot.  Event fee of $5 for non-members.  Cash only.\n\nBring your pistol\, ammo\, eye and ear protection\, and targets and come to the Women’s Open Shoot.  Meet other women club members or experience the club first hand!  A female NRA certified range safety officer and pistol instructor will be onsite during the Women’s Open Shoot for guidance if needed.\n\nNon-members do not need to accompany a member during these Women Open Shoot events. Special event fee of $5 for every non-member each shoot.
URL:https://stoughtoncc.com/event/womens-open-shoot/2025-11-09/
LOCATION:Pistol Building
ORGANIZER;CN="Marla Waugh":MAILTO:marlalfish@gmail.com
END:VEVENT
BEGIN:VEVENT
DTSTART;TZID=America/Chicago:20251109T083000
DTEND;TZID=America/Chicago:20251109T150000
DTSTAMP:20260423T172115
CREATED:20250813T025221Z
LAST-MODIFIED:20250813T030803Z
UID:10004883-1762677000-1762700400@stoughtoncc.com
SUMMARY:Hunter's Sight-In Clinic (Public)
DESCRIPTION:Each fall the Stoughton Conservation Club hosts a public Sight-In for all types of hunting firearms: rifles\, shotguns\, muzzle loaders and hand guns. 25\, 50\, & 100 yard ranges are available. Bore sighting and scope mounting are included. \n$10 per Gun\n8:30 AM to 3 PM. (All shooting will end at 3 PM.) \nThe club provides covered shooting benches\, rests\, targets\, spotting scopes\, and adjustment tools. Spotters with experience are available to assist participants. Bring your firearm & ammunition. Hearing & eye protection are provided if you forget your own \nPlease note: This event is for sighting in hunting firearms. Advice is provided and practice is allowed\, but it is not intended for training or extensive practice.
URL:https://stoughtoncc.com/event/hunters-sight-in-clinic-public/2025-11-09/
LOCATION:Rifle Range
END:VEVENT
BEGIN:VEVENT
DTSTART;TZID=America/Chicago:20251108T083000
DTEND;TZID=America/Chicago:20251108T150000
DTSTAMP:20260423T172115
CREATED:20250813T025221Z
LAST-MODIFIED:20250813T030803Z
UID:10004882-1762590600-1762614000@stoughtoncc.com
SUMMARY:Hunter's Sight-In Clinic (Public)
DESCRIPTION:Each fall the Stoughton Conservation Club hosts a public Sight-In for all types of hunting firearms: rifles\, shotguns\, muzzle loaders and hand guns. 25\, 50\, & 100 yard ranges are available. Bore sighting and scope mounting are included. \n$10 per Gun\n8:30 AM to 3 PM. (All shooting will end at 3 PM.) \nThe club provides covered shooting benches\, rests\, targets\, spotting scopes\, and adjustment tools. Spotters with experience are available to assist participants. Bring your firearm & ammunition. Hearing & eye protection are provided if you forget your own \nPlease note: This event is for sighting in hunting firearms. Advice is provided and practice is allowed\, but it is not intended for training or extensive practice.
URL:https://stoughtoncc.com/event/hunters-sight-in-clinic-public/2025-11-08/
LOCATION:Rifle Range
END:VEVENT
BEGIN:VEVENT
DTSTART;TZID=America/Chicago:20251106T180000
DTEND;TZID=America/Chicago:20251106T220000
DTSTAMP:20260423T172115
CREATED:20250430T222608Z
LAST-MODIFIED:20250508T035219Z
UID:10004749-1762452000-1762466400@stoughtoncc.com
SUMMARY:Fall Trap League
DESCRIPTION:
URL:https://stoughtoncc.com/event/fall-trap-league/2025-11-06/
LOCATION:Trap & Skeet Fields
ORGANIZER;CN="Kevin Kettner":MAILTO:kkettner@gmail.com
END:VEVENT
BEGIN:VEVENT
DTSTART;TZID=America/Chicago:20251106T173000
DTEND;TZID=America/Chicago:20251106T213000
DTSTAMP:20260423T172115
CREATED:20250430T222317Z
LAST-MODIFIED:20250508T034346Z
UID:10004737-1762450200-1762464600@stoughtoncc.com
SUMMARY:Centerfire Pistol League
DESCRIPTION:
URL:https://stoughtoncc.com/event/centerfire-pistol-league/2025-11-06/
LOCATION:Pistol Building
ORGANIZER;CN="Kevin Kettner":MAILTO:kkettner@gmail.com
END:VEVENT
BEGIN:VEVENT
DTSTART;TZID=America/Chicago:20251105T173000
DTEND;TZID=America/Chicago:20251105T213000
DTSTAMP:20260423T172115
CREATED:20250812T025509Z
LAST-MODIFIED:20250812T025509Z
UID:10004863-1762363800-1762378200@stoughtoncc.com
SUMMARY:Black Sheep Pistol League
DESCRIPTION:
URL:https://stoughtoncc.com/event/black-sheep-pistol-league-2/2025-11-05/
LOCATION:Pistol Range
END:VEVENT
BEGIN:VEVENT
DTSTART;TZID=America/Chicago:20251103T180000
DTEND;TZID=America/Chicago:20251103T200000
DTSTAMP:20260423T172115
CREATED:20250106T214651Z
LAST-MODIFIED:20250106T230453Z
UID:10004605-1762192800-1762200000@stoughtoncc.com
SUMMARY:S3DA Archery
DESCRIPTION:
URL:https://stoughtoncc.com/event/s3da/2025-11-03/
LOCATION:Indoor Archery Range
ORGANIZER;CN="Dave Rynes":MAILTO:blackdogdr@gmail.com
END:VEVENT
BEGIN:VEVENT
DTSTART;TZID=America/Chicago:20251103T080000
DTEND;TZID=America/Chicago:20251103T110000
DTSTAMP:20260423T172115
CREATED:20241210T180811Z
LAST-MODIFIED:20250508T035024Z
UID:10004086-1762156800-1762167600@stoughtoncc.com
SUMMARY:Monday Morning Trap/Skeet
DESCRIPTION:Open trap and skeet for members. Come\, shoot\, drink coffee.
URL:https://stoughtoncc.com/event/monday-morning-trap-skeet/2025-11-03/
LOCATION:Trap & Skeet Fields
END:VEVENT
BEGIN:VEVENT
DTSTART;TZID=America/Chicago:20251030T180000
DTEND;TZID=America/Chicago:20251030T220000
DTSTAMP:20260423T172115
CREATED:20250430T222608Z
LAST-MODIFIED:20250508T035219Z
UID:10004748-1761847200-1761861600@stoughtoncc.com
SUMMARY:Fall Trap League
DESCRIPTION:
URL:https://stoughtoncc.com/event/fall-trap-league/2025-10-30/
LOCATION:Trap & Skeet Fields
ORGANIZER;CN="Kevin Kettner":MAILTO:kkettner@gmail.com
END:VEVENT
BEGIN:VEVENT
DTSTART;TZID=America/Chicago:20251030T173000
DTEND;TZID=America/Chicago:20251030T213000
DTSTAMP:20260423T172115
CREATED:20250430T222317Z
LAST-MODIFIED:20250508T034346Z
UID:10004736-1761845400-1761859800@stoughtoncc.com
SUMMARY:Centerfire Pistol League
DESCRIPTION:
URL:https://stoughtoncc.com/event/centerfire-pistol-league/2025-10-30/
LOCATION:Pistol Building
ORGANIZER;CN="Kevin Kettner":MAILTO:kkettner@gmail.com
END:VEVENT
BEGIN:VEVENT
DTSTART;TZID=America/Chicago:20251029T173000
DTEND;TZID=America/Chicago:20251029T213000
DTSTAMP:20260423T172115
CREATED:20250812T025509Z
LAST-MODIFIED:20250812T025509Z
UID:10004862-1761759000-1761773400@stoughtoncc.com
SUMMARY:Black Sheep Pistol League
DESCRIPTION:
URL:https://stoughtoncc.com/event/black-sheep-pistol-league-2/2025-10-29/
LOCATION:Pistol Range
END:VEVENT
BEGIN:VEVENT
DTSTART;TZID=America/Chicago:20251027T190000
DTEND;TZID=America/Chicago:20251027T210000
DTSTAMP:20260423T172115
CREATED:20241210T165655Z
LAST-MODIFIED:20250521T042757Z
UID:10003966-1761591600-1761598800@stoughtoncc.com
SUMMARY:Board of Directors Meeting
DESCRIPTION:
URL:https://stoughtoncc.com/event/board-of-directors-meeting-2/2025-10-27/
LOCATION:Main Clubhouse
END:VEVENT
BEGIN:VEVENT
DTSTART;TZID=America/Chicago:20251027T080000
DTEND;TZID=America/Chicago:20251027T110000
DTSTAMP:20260423T172115
CREATED:20241210T180811Z
LAST-MODIFIED:20250508T035024Z
UID:10004085-1761552000-1761562800@stoughtoncc.com
SUMMARY:Monday Morning Trap/Skeet
DESCRIPTION:Open trap and skeet for members. Come\, shoot\, drink coffee.
URL:https://stoughtoncc.com/event/monday-morning-trap-skeet/2025-10-27/
LOCATION:Trap & Skeet Fields
END:VEVENT
BEGIN:VEVENT
DTSTART;TZID=America/Chicago:20251023T180000
DTEND;TZID=America/Chicago:20251023T220000
DTSTAMP:20260423T172115
CREATED:20250430T222608Z
LAST-MODIFIED:20250508T035219Z
UID:10004747-1761242400-1761256800@stoughtoncc.com
SUMMARY:Fall Trap League
DESCRIPTION:
URL:https://stoughtoncc.com/event/fall-trap-league/2025-10-23/
LOCATION:Trap & Skeet Fields
ORGANIZER;CN="Kevin Kettner":MAILTO:kkettner@gmail.com
END:VEVENT
BEGIN:VEVENT
DTSTART;TZID=America/Chicago:20251023T173000
DTEND;TZID=America/Chicago:20251023T213000
DTSTAMP:20260423T172115
CREATED:20250430T222317Z
LAST-MODIFIED:20250508T034346Z
UID:10004735-1761240600-1761255000@stoughtoncc.com
SUMMARY:Centerfire Pistol League
DESCRIPTION:
URL:https://stoughtoncc.com/event/centerfire-pistol-league/2025-10-23/
LOCATION:Pistol Building
ORGANIZER;CN="Kevin Kettner":MAILTO:kkettner@gmail.com
END:VEVENT
BEGIN:VEVENT
DTSTART;TZID=America/Chicago:20251022T173000
DTEND;TZID=America/Chicago:20251022T213000
DTSTAMP:20260423T172115
CREATED:20250812T025509Z
LAST-MODIFIED:20250812T025509Z
UID:10004861-1761154200-1761168600@stoughtoncc.com
SUMMARY:Black Sheep Pistol League
DESCRIPTION:
URL:https://stoughtoncc.com/event/black-sheep-pistol-league-2/2025-10-22/
LOCATION:Pistol Range
END:VEVENT
BEGIN:VEVENT
DTSTART;TZID=America/Chicago:20251020T180000
DTEND;TZID=America/Chicago:20251020T200000
DTSTAMP:20260423T172115
CREATED:20250106T214248Z
LAST-MODIFIED:20250106T230443Z
UID:10004523-1760983200-1760990400@stoughtoncc.com
SUMMARY:S3DA Archery
DESCRIPTION:
URL:https://stoughtoncc.com/event/s3da-2/2025-10-20/
LOCATION:Indoor Archery Range
ORGANIZER;CN="Dave Rynes":MAILTO:blackdogdr@gmail.com
END:VEVENT
BEGIN:VEVENT
DTSTART;TZID=America/Chicago:20251020T080000
DTEND;TZID=America/Chicago:20251020T110000
DTSTAMP:20260423T172115
CREATED:20241210T180811Z
LAST-MODIFIED:20250508T035024Z
UID:10004084-1760947200-1760958000@stoughtoncc.com
SUMMARY:Monday Morning Trap/Skeet
DESCRIPTION:Open trap and skeet for members. Come\, shoot\, drink coffee.
URL:https://stoughtoncc.com/event/monday-morning-trap-skeet/2025-10-20/
LOCATION:Trap & Skeet Fields
END:VEVENT
END:VCALENDAR