BEGIN:VCALENDAR
VERSION:2.0
PRODID:-//Stoughton Conservation Club - ECPv6.15.20//NONSGML v1.0//EN
CALSCALE:GREGORIAN
METHOD:PUBLISH
X-ORIGINAL-URL:https://stoughtoncc.com
X-WR-CALDESC:Events for Stoughton Conservation Club
REFRESH-INTERVAL;VALUE=DURATION:PT1H
X-Robots-Tag:noindex
X-PUBLISHED-TTL:PT1H
BEGIN:VTIMEZONE
TZID:America/Chicago
BEGIN:DAYLIGHT
TZOFFSETFROM:-0600
TZOFFSETTO:-0500
TZNAME:CDT
DTSTART:20250309T080000
END:DAYLIGHT
BEGIN:STANDARD
TZOFFSETFROM:-0500
TZOFFSETTO:-0600
TZNAME:CST
DTSTART:20251102T070000
END:STANDARD
BEGIN:DAYLIGHT
TZOFFSETFROM:-0600
TZOFFSETTO:-0500
TZNAME:CDT
DTSTART:20260308T080000
END:DAYLIGHT
BEGIN:STANDARD
TZOFFSETFROM:-0500
TZOFFSETTO:-0600
TZNAME:CST
DTSTART:20261101T070000
END:STANDARD
BEGIN:DAYLIGHT
TZOFFSETFROM:-0600
TZOFFSETTO:-0500
TZNAME:CDT
DTSTART:20270314T080000
END:DAYLIGHT
BEGIN:STANDARD
TZOFFSETFROM:-0500
TZOFFSETTO:-0600
TZNAME:CST
DTSTART:20271107T070000
END:STANDARD
END:VTIMEZONE
BEGIN:VEVENT
DTSTART;TZID=America/Chicago:20260308T120000
DTEND;TZID=America/Chicago:20260308T140000
DTSTAMP:20260423T133859
CREATED:20241119T211422Z
LAST-MODIFIED:20260413T182358Z
UID:10005034-1772971200-1772978400@stoughtoncc.com
SUMMARY:Women's Open Pistol Shoot (Public)
DESCRIPTION:Dates:\nSunday\, May 10: 12-2pm – Cancelled due to Mother’s Day\nSunday\, June 14: 12-2pm\nSunday\, July 12: 12-2pm\nSunday\, August 9: 12-2pm\nSunday\, September 13: 12-2pm\nSunday\, October 11: 12-2pm\nSunday\, November 8: 12-2pm\n  \n\n\nOrganizer:\nMarla Waugh:  MarlaLFish@gmail.com\n\nDetails:\nWomen club members and non-members are welcome to attend the Women’s Open Shoot.  Event fee of $5 for non-members.  Cash only.\n\nBring your pistol\, ammo\, eye and ear protection\, and targets and come to the Women’s Open Shoot.  Meet other women club members or experience the club first hand!  A female NRA certified range safety officer and pistol instructor will be onsite during the Women’s Open Shoot for guidance if needed.\n\nNon-members do not need to accompany a member during these Women Open Shoot events. Special event fee of $5 for every non-member each shoot.
URL:https://stoughtoncc.com/event/womens-open-shoot/2026-03-08/
LOCATION:Pistol Building
ORGANIZER;CN="Marla Waugh":MAILTO:marlalfish@gmail.com
END:VEVENT
BEGIN:VEVENT
DTSTART;TZID=America/Chicago:20260309T080000
DTEND;TZID=America/Chicago:20260309T110000
DTSTAMP:20260423T133859
CREATED:20241210T180811Z
LAST-MODIFIED:20250508T035024Z
UID:10004104-1773043200-1773054000@stoughtoncc.com
SUMMARY:Monday Morning Trap/Skeet
DESCRIPTION:Open trap and skeet for members. Come\, shoot\, drink coffee.
URL:https://stoughtoncc.com/event/monday-morning-trap-skeet/2026-03-09/
LOCATION:Trap & Skeet Fields
END:VEVENT
BEGIN:VEVENT
DTSTART;TZID=America/Chicago:20260309T173000
DTEND;TZID=America/Chicago:20260309T190000
DTSTAMP:20260423T133859
CREATED:20241209T164257Z
LAST-MODIFIED:20250508T035832Z
UID:10004790-1773077400-1773082800@stoughtoncc.com
SUMMARY:Member Orientation - Indoor Archery Closed
DESCRIPTION:In-person orientation is required for new members\, and begins promptly at 6 PM before the monthly general membership meeting. \nOther membership situations can also be handled during this time. \nIndoor Archery will be CLOSED at 5:30 for setup.
URL:https://stoughtoncc.com/event/member-orientation/2026-03-09/
LOCATION:Main Clubhouse
END:VEVENT
BEGIN:VEVENT
DTSTART;TZID=America/Chicago:20260309T190000
DTEND;TZID=America/Chicago:20260309T200000
DTSTAMP:20260423T133859
CREATED:20241210T172441Z
LAST-MODIFIED:20241210T172441Z
UID:10003983-1773082800-1773086400@stoughtoncc.com
SUMMARY:Member Meeting
DESCRIPTION:
URL:https://stoughtoncc.com/event/member-meeting/2026-03-09/
LOCATION:Main Clubhouse
END:VEVENT
BEGIN:VEVENT
DTSTART;TZID=America/Chicago:20260310T170000
DTEND;TZID=America/Chicago:20260310T210000
DTSTAMP:20260423T133859
CREATED:20251209T051909Z
LAST-MODIFIED:20260326T050856Z
UID:10005058-1773162000-1773176400@stoughtoncc.com
SUMMARY:4H Air/22 Rifle
DESCRIPTION:The 4H Shooting Sports program will use the indoor pistol range to shoot air rifles.
URL:https://stoughtoncc.com/event/4h-air-rifle-2/2026-03-10/
LOCATION:Pistol Range
ORGANIZER;CN="Shawn Cannon":MAILTO:shawndeannacannon@gmail.com
END:VEVENT
BEGIN:VEVENT
DTSTART;TZID=America/Chicago:20260310T173000
DTEND;TZID=America/Chicago:20260310T223000
DTSTAMP:20260423T133859
CREATED:20251029T174859Z
LAST-MODIFIED:20251029T174859Z
UID:10004983-1773163800-1773181800@stoughtoncc.com
SUMMARY:Indoor Archery League - 2026
DESCRIPTION:
URL:https://stoughtoncc.com/event/indoor-archery-league-2026/2026-03-10/
LOCATION:Indoor Archery Range
ORGANIZER;CN="Roger Kluever":MAILTO:07harley89@gmail.com
END:VEVENT
BEGIN:VEVENT
DTSTART;TZID=America/Chicago:20260311T173000
DTEND;TZID=America/Chicago:20260311T213000
DTSTAMP:20260423T133859
CREATED:20260120T144016Z
LAST-MODIFIED:20260212T003807Z
UID:10005107-1773250200-1773264600@stoughtoncc.com
SUMMARY:Black Sheep Pistol League - 2026
DESCRIPTION:
URL:https://stoughtoncc.com/event/black-sheep-pistol-league-2026/2026-03-11/
LOCATION:Pistol Range
END:VEVENT
BEGIN:VEVENT
DTSTART;TZID=America/Chicago:20260311T173000
DTEND;TZID=America/Chicago:20260311T223000
DTSTAMP:20260423T133859
CREATED:20251029T174859Z
LAST-MODIFIED:20251029T174859Z
UID:10004984-1773250200-1773268200@stoughtoncc.com
SUMMARY:Indoor Archery League - 2026
DESCRIPTION:
URL:https://stoughtoncc.com/event/indoor-archery-league-2026/2026-03-11/
LOCATION:Indoor Archery Range
ORGANIZER;CN="Roger Kluever":MAILTO:07harley89@gmail.com
END:VEVENT
BEGIN:VEVENT
DTSTART;TZID=America/Chicago:20260312T173000
DTEND;TZID=America/Chicago:20260312T213000
DTSTAMP:20260423T133859
CREATED:20250903T193444Z
LAST-MODIFIED:20250903T193444Z
UID:10004903-1773336600-1773351000@stoughtoncc.com
SUMMARY:Rimfire Pistol League - 2026
DESCRIPTION:
URL:https://stoughtoncc.com/event/rimfire-pistol-league-2026/2026-03-12/
END:VEVENT
BEGIN:VEVENT
DTSTART;TZID=America/Chicago:20260314T073000
DTEND;TZID=America/Chicago:20260314T121500
DTSTAMP:20260423T133859
CREATED:20250905T132542Z
LAST-MODIFIED:20251205T161537Z
UID:10005022-1773473400-1773490500@stoughtoncc.com
SUMMARY:Youth Instructional Archery
DESCRIPTION:
URL:https://stoughtoncc.com/event/youth-instructional-archery/2026-03-14/
LOCATION:Indoor Archery Range
ORGANIZER;CN="Dustin Thoren":MAILTO:dustin.thoren@gmail.com
END:VEVENT
BEGIN:VEVENT
DTSTART;TZID=America/Chicago:20260314T121500
DTEND;TZID=America/Chicago:20260314T150000
DTSTAMP:20260423T133859
CREATED:20250905T132711Z
LAST-MODIFIED:20251205T161609Z
UID:10005011-1773490500-1773500400@stoughtoncc.com
SUMMARY:Youth Archery League
DESCRIPTION:
URL:https://stoughtoncc.com/event/youth-archery-league/2026-03-14/
LOCATION:Main Clubhouse
ORGANIZER;CN="Dustin Thoren":MAILTO:dustin.thoren@gmail.com
END:VEVENT
BEGIN:VEVENT
DTSTART;TZID=America/Chicago:20260315T090000
DTEND;TZID=America/Chicago:20260315T140000
DTSTAMP:20260423T133859
CREATED:20250905T132306Z
LAST-MODIFIED:20250905T132306Z
UID:10004925-1773565200-1773583200@stoughtoncc.com
SUMMARY:VLS Trap/Skeet Practice
DESCRIPTION:
URL:https://stoughtoncc.com/event/vls-trap-skeet-practice/2026-03-15/
LOCATION:Trap & Skeet Fields
ORGANIZER;CN="Kevin Kettner":MAILTO:kkettner@gmail.com
END:VEVENT
BEGIN:VEVENT
DTSTART;TZID=America/Chicago:20260315T090000
DTEND;TZID=America/Chicago:20260315T160000
DTSTAMP:20260423T133859
CREATED:20260306T145414Z
LAST-MODIFIED:20260313T143344Z
UID:10005115-1773565200-1773590400@stoughtoncc.com
SUMMARY:CANCELLED - Custom Ear Protection
DESCRIPTION:CANCELLED!\nWe had to cancel due to a family emergency with Hear4Ever. We are hoping to reschedule soon! \nThanks for understanding! \n  \n \nHear4Ever is coming back this year to make custom injected ear plugs for our VLS athletes and SCC club members! They will be here on March 15th from 9:00 to 3:30. \nThis event filled up fast last year\, so get signed up right away! \nSign Up Here:\nhttps://www.signupgenius.com/go/30E0949A4AB28A1F94-62610069-custom#/ \nThese are amazing ear plugs! They’re easy to put in and take out. They’re very comfortable\, they’re very effective! Plus\, they will last for years. \nIt takes about 1 hour or so from start to finish. You’ll spend about 10-15 minutes in the chair to pick your colors and options and for the earplugs to be injected. Then it takes around 45 minutes to an hour for your earplugs to cure and get the finishing touches. \nWe’ll have sign-up slots every 15 minutes\, but last year they were able to squeeze in some extras\, so if all of the sign-up slots are full you might want to just show up and hang around\, they might be able to get you in. \nLocation: SCC Main Clubhouse at 918 Collins Rd.\, Stoughton\, WI \nPrices:\nYouth: $65\nAdults: $75\nLanyard (optional): $5\nFilters(optional): $20 (set) \nhttp://hear4everllc.com/ \n  \n 
URL:https://stoughtoncc.com/event/custom-ear-protection/
LOCATION:Main Clubhouse
ORGANIZER;CN="Kevin Kettner":MAILTO:kkettner@gmail.com
END:VEVENT
BEGIN:VEVENT
DTSTART;TZID=America/Chicago:20260315T150000
DTEND;TZID=America/Chicago:20260315T160000
DTSTAMP:20260423T133859
CREATED:20260306T150123Z
LAST-MODIFIED:20260306T150123Z
UID:10005116-1773586800-1773590400@stoughtoncc.com
SUMMARY:Hunter Ed. Instructor Meeting
DESCRIPTION:
URL:https://stoughtoncc.com/event/hunter-ed-instructor-meeting/
LOCATION:Main Clubhouse
END:VEVENT
BEGIN:VEVENT
DTSTART;TZID=America/Chicago:20260316T080000
DTEND;TZID=America/Chicago:20260316T110000
DTSTAMP:20260423T133859
CREATED:20241210T180811Z
LAST-MODIFIED:20250508T035024Z
UID:10004105-1773648000-1773658800@stoughtoncc.com
SUMMARY:Monday Morning Trap/Skeet
DESCRIPTION:Open trap and skeet for members. Come\, shoot\, drink coffee.
URL:https://stoughtoncc.com/event/monday-morning-trap-skeet/2026-03-16/
LOCATION:Trap & Skeet Fields
END:VEVENT
BEGIN:VEVENT
DTSTART;TZID=America/Chicago:20260316T180000
DTEND;TZID=America/Chicago:20260316T200000
DTSTAMP:20260423T133859
CREATED:20250106T214248Z
LAST-MODIFIED:20250106T230443Z
UID:10004528-1773684000-1773691200@stoughtoncc.com
SUMMARY:S3DA Archery
DESCRIPTION:
URL:https://stoughtoncc.com/event/s3da-2/2026-03-16/
LOCATION:Indoor Archery Range
ORGANIZER;CN="Dave Rynes":MAILTO:blackdogdr@gmail.com
END:VEVENT
BEGIN:VEVENT
DTSTART;TZID=America/Chicago:20260317T170000
DTEND;TZID=America/Chicago:20260317T210000
DTSTAMP:20260423T133859
CREATED:20251209T051909Z
LAST-MODIFIED:20260326T050856Z
UID:10005059-1773766800-1773781200@stoughtoncc.com
SUMMARY:4H Air/22 Rifle
DESCRIPTION:The 4H Shooting Sports program will use the indoor pistol range to shoot air rifles.
URL:https://stoughtoncc.com/event/4h-air-rifle-2/2026-03-17/
LOCATION:Pistol Range
ORGANIZER;CN="Shawn Cannon":MAILTO:shawndeannacannon@gmail.com
END:VEVENT
BEGIN:VEVENT
DTSTART;TZID=America/Chicago:20260317T173000
DTEND;TZID=America/Chicago:20260317T223000
DTSTAMP:20260423T133859
CREATED:20251029T174859Z
LAST-MODIFIED:20251029T174859Z
UID:10004985-1773768600-1773786600@stoughtoncc.com
SUMMARY:Indoor Archery League - 2026
DESCRIPTION:
URL:https://stoughtoncc.com/event/indoor-archery-league-2026/2026-03-17/
LOCATION:Indoor Archery Range
ORGANIZER;CN="Roger Kluever":MAILTO:07harley89@gmail.com
END:VEVENT
BEGIN:VEVENT
DTSTART;TZID=America/Chicago:20260318T173000
DTEND;TZID=America/Chicago:20260318T213000
DTSTAMP:20260423T133859
CREATED:20260120T144016Z
LAST-MODIFIED:20260212T003807Z
UID:10005108-1773855000-1773869400@stoughtoncc.com
SUMMARY:Black Sheep Pistol League - 2026
DESCRIPTION:
URL:https://stoughtoncc.com/event/black-sheep-pistol-league-2026/2026-03-18/
LOCATION:Pistol Range
END:VEVENT
BEGIN:VEVENT
DTSTART;TZID=America/Chicago:20260318T173000
DTEND;TZID=America/Chicago:20260318T223000
DTSTAMP:20260423T133859
CREATED:20251029T174859Z
LAST-MODIFIED:20251029T174859Z
UID:10004986-1773855000-1773873000@stoughtoncc.com
SUMMARY:Indoor Archery League - 2026
DESCRIPTION:
URL:https://stoughtoncc.com/event/indoor-archery-league-2026/2026-03-18/
LOCATION:Indoor Archery Range
ORGANIZER;CN="Roger Kluever":MAILTO:07harley89@gmail.com
END:VEVENT
BEGIN:VEVENT
DTSTART;TZID=America/Chicago:20260319T173000
DTEND;TZID=America/Chicago:20260319T213000
DTSTAMP:20260423T133859
CREATED:20250903T193444Z
LAST-MODIFIED:20250903T193444Z
UID:10004904-1773941400-1773955800@stoughtoncc.com
SUMMARY:Rimfire Pistol League - 2026
DESCRIPTION:
URL:https://stoughtoncc.com/event/rimfire-pistol-league-2026/2026-03-19/
END:VEVENT
BEGIN:VEVENT
DTSTART;TZID=America/Chicago:20260320T170000
DTEND;TZID=America/Chicago:20260320T220000
DTSTAMP:20260423T133859
CREATED:20251121T194513Z
LAST-MODIFIED:20251121T194513Z
UID:10005026-1774026000-1774044000@stoughtoncc.com
SUMMARY:NWTF Stoughton Longbeards Turkey Banquet
DESCRIPTION:(Tentative)
URL:https://stoughtoncc.com/event/nwtf-stoughton-longbeards-turkey-banquet/
LOCATION:Main Clubhouse
END:VEVENT
BEGIN:VEVENT
DTSTART;TZID=America/Chicago:20260321T073000
DTEND;TZID=America/Chicago:20260321T121500
DTSTAMP:20260423T133859
CREATED:20250905T132542Z
LAST-MODIFIED:20251205T161537Z
UID:10005023-1774078200-1774095300@stoughtoncc.com
SUMMARY:Youth Instructional Archery
DESCRIPTION:
URL:https://stoughtoncc.com/event/youth-instructional-archery/2026-03-21/
LOCATION:Indoor Archery Range
ORGANIZER;CN="Dustin Thoren":MAILTO:dustin.thoren@gmail.com
END:VEVENT
BEGIN:VEVENT
DTSTART;TZID=America/Chicago:20260321T121500
DTEND;TZID=America/Chicago:20260321T150000
DTSTAMP:20260423T133859
CREATED:20250905T132711Z
LAST-MODIFIED:20251205T161609Z
UID:10005012-1774095300-1774105200@stoughtoncc.com
SUMMARY:Youth Archery League
DESCRIPTION:
URL:https://stoughtoncc.com/event/youth-archery-league/2026-03-21/
LOCATION:Main Clubhouse
ORGANIZER;CN="Dustin Thoren":MAILTO:dustin.thoren@gmail.com
END:VEVENT
BEGIN:VEVENT
DTSTART;TZID=America/Chicago:20260322T090000
DTEND;TZID=America/Chicago:20260322T140000
DTSTAMP:20260423T133859
CREATED:20250905T132306Z
LAST-MODIFIED:20250905T132306Z
UID:10004926-1774170000-1774188000@stoughtoncc.com
SUMMARY:VLS Trap/Skeet Practice
DESCRIPTION:
URL:https://stoughtoncc.com/event/vls-trap-skeet-practice/2026-03-22/
LOCATION:Trap & Skeet Fields
ORGANIZER;CN="Kevin Kettner":MAILTO:kkettner@gmail.com
END:VEVENT
BEGIN:VEVENT
DTSTART;TZID=America/Chicago:20260322T140000
DTEND;TZID=America/Chicago:20260322T150000
DTSTAMP:20260423T133859
CREATED:20260318T153610Z
LAST-MODIFIED:20260318T153610Z
UID:10005118-1774188000-1774191600@stoughtoncc.com
SUMMARY:Long Range Orientation
DESCRIPTION:Please sign up here: https://www.signupgenius.com/go/30E0949A4AB28A1F94-62924849-long \nWe will be using either field 2 or field 3 for the orientation. Other fields can be used to shoot.
URL:https://stoughtoncc.com/event/long-range-orientation-7/
LOCATION:Trap & Skeet Fields
ORGANIZER;CN="Kevin Kettner":MAILTO:kkettner@gmail.com
END:VEVENT
BEGIN:VEVENT
DTSTART;TZID=America/Chicago:20260323T080000
DTEND;TZID=America/Chicago:20260323T110000
DTSTAMP:20260423T133859
CREATED:20241210T180811Z
LAST-MODIFIED:20250508T035024Z
UID:10004106-1774252800-1774263600@stoughtoncc.com
SUMMARY:Monday Morning Trap/Skeet
DESCRIPTION:Open trap and skeet for members. Come\, shoot\, drink coffee.
URL:https://stoughtoncc.com/event/monday-morning-trap-skeet/2026-03-23/
LOCATION:Trap & Skeet Fields
END:VEVENT
BEGIN:VEVENT
DTSTART;TZID=America/Chicago:20260324T170000
DTEND;TZID=America/Chicago:20260324T210000
DTSTAMP:20260423T133859
CREATED:20251209T051909Z
LAST-MODIFIED:20260326T050856Z
UID:10005060-1774371600-1774386000@stoughtoncc.com
SUMMARY:4H Air/22 Rifle
DESCRIPTION:The 4H Shooting Sports program will use the indoor pistol range to shoot air rifles.
URL:https://stoughtoncc.com/event/4h-air-rifle-2/2026-03-24/
LOCATION:Pistol Range
ORGANIZER;CN="Shawn Cannon":MAILTO:shawndeannacannon@gmail.com
END:VEVENT
BEGIN:VEVENT
DTSTART;TZID=America/Chicago:20260324T173000
DTEND;TZID=America/Chicago:20260324T223000
DTSTAMP:20260423T133859
CREATED:20251029T174859Z
LAST-MODIFIED:20251029T174859Z
UID:10004987-1774373400-1774391400@stoughtoncc.com
SUMMARY:Indoor Archery League - 2026
DESCRIPTION:
URL:https://stoughtoncc.com/event/indoor-archery-league-2026/2026-03-24/
LOCATION:Indoor Archery Range
ORGANIZER;CN="Roger Kluever":MAILTO:07harley89@gmail.com
END:VEVENT
BEGIN:VEVENT
DTSTART;TZID=America/Chicago:20260325T173000
DTEND;TZID=America/Chicago:20260325T213000
DTSTAMP:20260423T133859
CREATED:20260120T144016Z
LAST-MODIFIED:20260212T003807Z
UID:10005109-1774459800-1774474200@stoughtoncc.com
SUMMARY:Black Sheep Pistol League - 2026
DESCRIPTION:
URL:https://stoughtoncc.com/event/black-sheep-pistol-league-2026/2026-03-25/
LOCATION:Pistol Range
END:VEVENT
END:VCALENDAR