BEGIN:VCALENDAR
VERSION:2.0
PRODID:-//Stoughton Conservation Club - ECPv6.15.20//NONSGML v1.0//EN
CALSCALE:GREGORIAN
METHOD:PUBLISH
X-ORIGINAL-URL:https://stoughtoncc.com
X-WR-CALDESC:Events for Stoughton Conservation Club
REFRESH-INTERVAL;VALUE=DURATION:PT1H
X-Robots-Tag:noindex
X-PUBLISHED-TTL:PT1H
BEGIN:VTIMEZONE
TZID:America/Chicago
BEGIN:DAYLIGHT
TZOFFSETFROM:-0600
TZOFFSETTO:-0500
TZNAME:CDT
DTSTART:20280312T080000
END:DAYLIGHT
BEGIN:STANDARD
TZOFFSETFROM:-0500
TZOFFSETTO:-0600
TZNAME:CST
DTSTART:20281105T070000
END:STANDARD
BEGIN:DAYLIGHT
TZOFFSETFROM:-0600
TZOFFSETTO:-0500
TZNAME:CDT
DTSTART:20290311T080000
END:DAYLIGHT
BEGIN:STANDARD
TZOFFSETFROM:-0500
TZOFFSETTO:-0600
TZNAME:CST
DTSTART:20291104T070000
END:STANDARD
BEGIN:DAYLIGHT
TZOFFSETFROM:-0600
TZOFFSETTO:-0500
TZNAME:CDT
DTSTART:20300310T080000
END:DAYLIGHT
BEGIN:STANDARD
TZOFFSETFROM:-0500
TZOFFSETTO:-0600
TZNAME:CST
DTSTART:20301103T070000
END:STANDARD
END:VTIMEZONE
BEGIN:VEVENT
DTSTART;TZID=America/Chicago:20290709T190000
DTEND;TZID=America/Chicago:20290709T200000
DTSTAMP:20260425T053507
CREATED:20241210T172441Z
LAST-MODIFIED:20241210T172441Z
UID:10004023-1878318000-1878321600@stoughtoncc.com
SUMMARY:Member Meeting
DESCRIPTION:
URL:https://stoughtoncc.com/event/member-meeting/2029-07-09/
LOCATION:Main Clubhouse
END:VEVENT
BEGIN:VEVENT
DTSTART;TZID=America/Chicago:20290716T080000
DTEND;TZID=America/Chicago:20290716T110000
DTSTAMP:20260425T053507
CREATED:20241210T180811Z
LAST-MODIFIED:20250508T035024Z
UID:10004279-1878883200-1878894000@stoughtoncc.com
SUMMARY:Monday Morning Trap/Skeet
DESCRIPTION:Open trap and skeet for members. Come\, shoot\, drink coffee.
URL:https://stoughtoncc.com/event/monday-morning-trap-skeet/2029-07-16/
LOCATION:Trap & Skeet Fields
END:VEVENT
BEGIN:VEVENT
DTSTART;TZID=America/Chicago:20290716T180000
DTEND;TZID=America/Chicago:20290716T200000
DTSTAMP:20260425T053507
CREATED:20250106T214248Z
LAST-MODIFIED:20250106T230443Z
UID:10004568-1878919200-1878926400@stoughtoncc.com
SUMMARY:S3DA Archery
DESCRIPTION:
URL:https://stoughtoncc.com/event/s3da-2/2029-07-16/
LOCATION:Indoor Archery Range
ORGANIZER;CN="Dave Rynes":MAILTO:blackdogdr@gmail.com
END:VEVENT
BEGIN:VEVENT
DTSTART;TZID=America/Chicago:20290723T080000
DTEND;TZID=America/Chicago:20290723T110000
DTSTAMP:20260425T053507
CREATED:20241210T180811Z
LAST-MODIFIED:20250508T035024Z
UID:10004280-1879488000-1879498800@stoughtoncc.com
SUMMARY:Monday Morning Trap/Skeet
DESCRIPTION:Open trap and skeet for members. Come\, shoot\, drink coffee.
URL:https://stoughtoncc.com/event/monday-morning-trap-skeet/2029-07-23/
LOCATION:Trap & Skeet Fields
END:VEVENT
BEGIN:VEVENT
DTSTART;TZID=America/Chicago:20290730T080000
DTEND;TZID=America/Chicago:20290730T110000
DTSTAMP:20260425T053507
CREATED:20241210T180811Z
LAST-MODIFIED:20250508T035024Z
UID:10004281-1880092800-1880103600@stoughtoncc.com
SUMMARY:Monday Morning Trap/Skeet
DESCRIPTION:Open trap and skeet for members. Come\, shoot\, drink coffee.
URL:https://stoughtoncc.com/event/monday-morning-trap-skeet/2029-07-30/
LOCATION:Trap & Skeet Fields
END:VEVENT
BEGIN:VEVENT
DTSTART;TZID=America/Chicago:20290806T080000
DTEND;TZID=America/Chicago:20290806T110000
DTSTAMP:20260425T053507
CREATED:20241210T180811Z
LAST-MODIFIED:20250508T035024Z
UID:10004282-1880697600-1880708400@stoughtoncc.com
SUMMARY:Monday Morning Trap/Skeet
DESCRIPTION:Open trap and skeet for members. Come\, shoot\, drink coffee.
URL:https://stoughtoncc.com/event/monday-morning-trap-skeet/2029-08-06/
LOCATION:Trap & Skeet Fields
END:VEVENT
BEGIN:VEVENT
DTSTART;TZID=America/Chicago:20290806T180000
DTEND;TZID=America/Chicago:20290806T200000
DTSTAMP:20260425T053507
CREATED:20250106T214651Z
LAST-MODIFIED:20250106T230453Z
UID:10004650-1880733600-1880740800@stoughtoncc.com
SUMMARY:S3DA Archery
DESCRIPTION:
URL:https://stoughtoncc.com/event/s3da/2029-08-06/
LOCATION:Indoor Archery Range
ORGANIZER;CN="Dave Rynes":MAILTO:blackdogdr@gmail.com
END:VEVENT
BEGIN:VEVENT
DTSTART;TZID=America/Chicago:20290813T080000
DTEND;TZID=America/Chicago:20290813T110000
DTSTAMP:20260425T053507
CREATED:20241210T180811Z
LAST-MODIFIED:20250508T035024Z
UID:10004283-1881302400-1881313200@stoughtoncc.com
SUMMARY:Monday Morning Trap/Skeet
DESCRIPTION:Open trap and skeet for members. Come\, shoot\, drink coffee.
URL:https://stoughtoncc.com/event/monday-morning-trap-skeet/2029-08-13/
LOCATION:Trap & Skeet Fields
END:VEVENT
BEGIN:VEVENT
DTSTART;TZID=America/Chicago:20290813T173000
DTEND;TZID=America/Chicago:20290813T190000
DTSTAMP:20260425T053507
CREATED:20241209T164257Z
LAST-MODIFIED:20250508T035832Z
UID:10004831-1881336600-1881342000@stoughtoncc.com
SUMMARY:Member Orientation - Indoor Archery Closed
DESCRIPTION:In-person orientation is required for new members\, and begins promptly at 6 PM before the monthly general membership meeting. \nOther membership situations can also be handled during this time. \nIndoor Archery will be CLOSED at 5:30 for setup.
URL:https://stoughtoncc.com/event/member-orientation/2029-08-13/
LOCATION:Main Clubhouse
END:VEVENT
BEGIN:VEVENT
DTSTART;TZID=America/Chicago:20290813T190000
DTEND;TZID=America/Chicago:20290813T200000
DTSTAMP:20260425T053507
CREATED:20241210T172441Z
LAST-MODIFIED:20241210T172441Z
UID:10004024-1881342000-1881345600@stoughtoncc.com
SUMMARY:Member Meeting
DESCRIPTION:
URL:https://stoughtoncc.com/event/member-meeting/2029-08-13/
LOCATION:Main Clubhouse
END:VEVENT
BEGIN:VEVENT
DTSTART;TZID=America/Chicago:20290820T080000
DTEND;TZID=America/Chicago:20290820T110000
DTSTAMP:20260425T053507
CREATED:20241210T180811Z
LAST-MODIFIED:20250508T035024Z
UID:10004284-1881907200-1881918000@stoughtoncc.com
SUMMARY:Monday Morning Trap/Skeet
DESCRIPTION:Open trap and skeet for members. Come\, shoot\, drink coffee.
URL:https://stoughtoncc.com/event/monday-morning-trap-skeet/2029-08-20/
LOCATION:Trap & Skeet Fields
END:VEVENT
BEGIN:VEVENT
DTSTART;TZID=America/Chicago:20290820T180000
DTEND;TZID=America/Chicago:20290820T200000
DTSTAMP:20260425T053507
CREATED:20250106T214248Z
LAST-MODIFIED:20250106T230443Z
UID:10004569-1881943200-1881950400@stoughtoncc.com
SUMMARY:S3DA Archery
DESCRIPTION:
URL:https://stoughtoncc.com/event/s3da-2/2029-08-20/
LOCATION:Indoor Archery Range
ORGANIZER;CN="Dave Rynes":MAILTO:blackdogdr@gmail.com
END:VEVENT
BEGIN:VEVENT
DTSTART;TZID=America/Chicago:20290827T080000
DTEND;TZID=America/Chicago:20290827T110000
DTSTAMP:20260425T053507
CREATED:20241210T180811Z
LAST-MODIFIED:20250508T035024Z
UID:10004285-1882512000-1882522800@stoughtoncc.com
SUMMARY:Monday Morning Trap/Skeet
DESCRIPTION:Open trap and skeet for members. Come\, shoot\, drink coffee.
URL:https://stoughtoncc.com/event/monday-morning-trap-skeet/2029-08-27/
LOCATION:Trap & Skeet Fields
END:VEVENT
BEGIN:VEVENT
DTSTART;TZID=America/Chicago:20290903T080000
DTEND;TZID=America/Chicago:20290903T110000
DTSTAMP:20260425T053507
CREATED:20241210T180811Z
LAST-MODIFIED:20250508T035024Z
UID:10004286-1883116800-1883127600@stoughtoncc.com
SUMMARY:Monday Morning Trap/Skeet
DESCRIPTION:Open trap and skeet for members. Come\, shoot\, drink coffee.
URL:https://stoughtoncc.com/event/monday-morning-trap-skeet/2029-09-03/
LOCATION:Trap & Skeet Fields
END:VEVENT
BEGIN:VEVENT
DTSTART;TZID=America/Chicago:20290903T180000
DTEND;TZID=America/Chicago:20290903T200000
DTSTAMP:20260425T053507
CREATED:20250106T214651Z
LAST-MODIFIED:20250106T230453Z
UID:10004651-1883152800-1883160000@stoughtoncc.com
SUMMARY:S3DA Archery
DESCRIPTION:
URL:https://stoughtoncc.com/event/s3da/2029-09-03/
LOCATION:Indoor Archery Range
ORGANIZER;CN="Dave Rynes":MAILTO:blackdogdr@gmail.com
END:VEVENT
BEGIN:VEVENT
DTSTART;TZID=America/Chicago:20290910T080000
DTEND;TZID=America/Chicago:20290910T110000
DTSTAMP:20260425T053507
CREATED:20241210T180811Z
LAST-MODIFIED:20250508T035024Z
UID:10004287-1883721600-1883732400@stoughtoncc.com
SUMMARY:Monday Morning Trap/Skeet
DESCRIPTION:Open trap and skeet for members. Come\, shoot\, drink coffee.
URL:https://stoughtoncc.com/event/monday-morning-trap-skeet/2029-09-10/
LOCATION:Trap & Skeet Fields
END:VEVENT
BEGIN:VEVENT
DTSTART;TZID=America/Chicago:20290910T173000
DTEND;TZID=America/Chicago:20290910T190000
DTSTAMP:20260425T053507
CREATED:20241209T164257Z
LAST-MODIFIED:20250508T035832Z
UID:10004832-1883755800-1883761200@stoughtoncc.com
SUMMARY:Member Orientation - Indoor Archery Closed
DESCRIPTION:In-person orientation is required for new members\, and begins promptly at 6 PM before the monthly general membership meeting. \nOther membership situations can also be handled during this time. \nIndoor Archery will be CLOSED at 5:30 for setup.
URL:https://stoughtoncc.com/event/member-orientation/2029-09-10/
LOCATION:Main Clubhouse
END:VEVENT
BEGIN:VEVENT
DTSTART;TZID=America/Chicago:20290910T190000
DTEND;TZID=America/Chicago:20290910T200000
DTSTAMP:20260425T053507
CREATED:20241210T172441Z
LAST-MODIFIED:20241210T172441Z
UID:10004025-1883761200-1883764800@stoughtoncc.com
SUMMARY:Member Meeting
DESCRIPTION:
URL:https://stoughtoncc.com/event/member-meeting/2029-09-10/
LOCATION:Main Clubhouse
END:VEVENT
BEGIN:VEVENT
DTSTART;TZID=America/Chicago:20290917T080000
DTEND;TZID=America/Chicago:20290917T110000
DTSTAMP:20260425T053507
CREATED:20241210T180811Z
LAST-MODIFIED:20250508T035024Z
UID:10004288-1884326400-1884337200@stoughtoncc.com
SUMMARY:Monday Morning Trap/Skeet
DESCRIPTION:Open trap and skeet for members. Come\, shoot\, drink coffee.
URL:https://stoughtoncc.com/event/monday-morning-trap-skeet/2029-09-17/
LOCATION:Trap & Skeet Fields
END:VEVENT
BEGIN:VEVENT
DTSTART;TZID=America/Chicago:20290917T180000
DTEND;TZID=America/Chicago:20290917T200000
DTSTAMP:20260425T053507
CREATED:20250106T214248Z
LAST-MODIFIED:20250106T230443Z
UID:10004570-1884362400-1884369600@stoughtoncc.com
SUMMARY:S3DA Archery
DESCRIPTION:
URL:https://stoughtoncc.com/event/s3da-2/2029-09-17/
LOCATION:Indoor Archery Range
ORGANIZER;CN="Dave Rynes":MAILTO:blackdogdr@gmail.com
END:VEVENT
BEGIN:VEVENT
DTSTART;TZID=America/Chicago:20290924T080000
DTEND;TZID=America/Chicago:20290924T110000
DTSTAMP:20260425T053507
CREATED:20241210T180811Z
LAST-MODIFIED:20250508T035024Z
UID:10004289-1884931200-1884942000@stoughtoncc.com
SUMMARY:Monday Morning Trap/Skeet
DESCRIPTION:Open trap and skeet for members. Come\, shoot\, drink coffee.
URL:https://stoughtoncc.com/event/monday-morning-trap-skeet/2029-09-24/
LOCATION:Trap & Skeet Fields
END:VEVENT
BEGIN:VEVENT
DTSTART;TZID=America/Chicago:20291001T080000
DTEND;TZID=America/Chicago:20291001T110000
DTSTAMP:20260425T053507
CREATED:20241210T180811Z
LAST-MODIFIED:20250508T035024Z
UID:10004290-1885536000-1885546800@stoughtoncc.com
SUMMARY:Monday Morning Trap/Skeet
DESCRIPTION:Open trap and skeet for members. Come\, shoot\, drink coffee.
URL:https://stoughtoncc.com/event/monday-morning-trap-skeet/2029-10-01/
LOCATION:Trap & Skeet Fields
END:VEVENT
BEGIN:VEVENT
DTSTART;TZID=America/Chicago:20291001T180000
DTEND;TZID=America/Chicago:20291001T200000
DTSTAMP:20260425T053507
CREATED:20250106T214651Z
LAST-MODIFIED:20250106T230453Z
UID:10004652-1885572000-1885579200@stoughtoncc.com
SUMMARY:S3DA Archery
DESCRIPTION:
URL:https://stoughtoncc.com/event/s3da/2029-10-01/
LOCATION:Indoor Archery Range
ORGANIZER;CN="Dave Rynes":MAILTO:blackdogdr@gmail.com
END:VEVENT
BEGIN:VEVENT
DTSTART;TZID=America/Chicago:20291008T080000
DTEND;TZID=America/Chicago:20291008T110000
DTSTAMP:20260425T053507
CREATED:20241210T180811Z
LAST-MODIFIED:20250508T035024Z
UID:10004291-1886140800-1886151600@stoughtoncc.com
SUMMARY:Monday Morning Trap/Skeet
DESCRIPTION:Open trap and skeet for members. Come\, shoot\, drink coffee.
URL:https://stoughtoncc.com/event/monday-morning-trap-skeet/2029-10-08/
LOCATION:Trap & Skeet Fields
END:VEVENT
BEGIN:VEVENT
DTSTART;TZID=America/Chicago:20291008T173000
DTEND;TZID=America/Chicago:20291008T190000
DTSTAMP:20260425T053507
CREATED:20241209T164257Z
LAST-MODIFIED:20250508T035832Z
UID:10004833-1886175000-1886180400@stoughtoncc.com
SUMMARY:Member Orientation - Indoor Archery Closed
DESCRIPTION:In-person orientation is required for new members\, and begins promptly at 6 PM before the monthly general membership meeting. \nOther membership situations can also be handled during this time. \nIndoor Archery will be CLOSED at 5:30 for setup.
URL:https://stoughtoncc.com/event/member-orientation/2029-10-08/
LOCATION:Main Clubhouse
END:VEVENT
BEGIN:VEVENT
DTSTART;TZID=America/Chicago:20291008T190000
DTEND;TZID=America/Chicago:20291008T200000
DTSTAMP:20260425T053507
CREATED:20241210T172441Z
LAST-MODIFIED:20241210T172441Z
UID:10004026-1886180400-1886184000@stoughtoncc.com
SUMMARY:Member Meeting
DESCRIPTION:
URL:https://stoughtoncc.com/event/member-meeting/2029-10-08/
LOCATION:Main Clubhouse
END:VEVENT
BEGIN:VEVENT
DTSTART;TZID=America/Chicago:20291015T080000
DTEND;TZID=America/Chicago:20291015T110000
DTSTAMP:20260425T053507
CREATED:20241210T180811Z
LAST-MODIFIED:20250508T035024Z
UID:10004292-1886745600-1886756400@stoughtoncc.com
SUMMARY:Monday Morning Trap/Skeet
DESCRIPTION:Open trap and skeet for members. Come\, shoot\, drink coffee.
URL:https://stoughtoncc.com/event/monday-morning-trap-skeet/2029-10-15/
LOCATION:Trap & Skeet Fields
END:VEVENT
BEGIN:VEVENT
DTSTART;TZID=America/Chicago:20291015T180000
DTEND;TZID=America/Chicago:20291015T200000
DTSTAMP:20260425T053507
CREATED:20250106T214248Z
LAST-MODIFIED:20250106T230443Z
UID:10004571-1886781600-1886788800@stoughtoncc.com
SUMMARY:S3DA Archery
DESCRIPTION:
URL:https://stoughtoncc.com/event/s3da-2/2029-10-15/
LOCATION:Indoor Archery Range
ORGANIZER;CN="Dave Rynes":MAILTO:blackdogdr@gmail.com
END:VEVENT
BEGIN:VEVENT
DTSTART;TZID=America/Chicago:20291022T080000
DTEND;TZID=America/Chicago:20291022T110000
DTSTAMP:20260425T053507
CREATED:20241210T180811Z
LAST-MODIFIED:20250508T035024Z
UID:10004293-1887350400-1887361200@stoughtoncc.com
SUMMARY:Monday Morning Trap/Skeet
DESCRIPTION:Open trap and skeet for members. Come\, shoot\, drink coffee.
URL:https://stoughtoncc.com/event/monday-morning-trap-skeet/2029-10-22/
LOCATION:Trap & Skeet Fields
END:VEVENT
BEGIN:VEVENT
DTSTART;TZID=America/Chicago:20291029T080000
DTEND;TZID=America/Chicago:20291029T110000
DTSTAMP:20260425T053507
CREATED:20241210T180811Z
LAST-MODIFIED:20250508T035024Z
UID:10004294-1887955200-1887966000@stoughtoncc.com
SUMMARY:Monday Morning Trap/Skeet
DESCRIPTION:Open trap and skeet for members. Come\, shoot\, drink coffee.
URL:https://stoughtoncc.com/event/monday-morning-trap-skeet/2029-10-29/
LOCATION:Trap & Skeet Fields
END:VEVENT
END:VCALENDAR