BEGIN:VCALENDAR
VERSION:2.0
PRODID:-//Stoughton Conservation Club - ECPv6.15.20//NONSGML v1.0//EN
CALSCALE:GREGORIAN
METHOD:PUBLISH
X-ORIGINAL-URL:https://stoughtoncc.com
X-WR-CALDESC:Events for Stoughton Conservation Club
REFRESH-INTERVAL;VALUE=DURATION:PT1H
X-Robots-Tag:noindex
X-PUBLISHED-TTL:PT1H
BEGIN:VTIMEZONE
TZID:America/Chicago
BEGIN:DAYLIGHT
TZOFFSETFROM:-0600
TZOFFSETTO:-0500
TZNAME:CDT
DTSTART:20250309T080000
END:DAYLIGHT
BEGIN:STANDARD
TZOFFSETFROM:-0500
TZOFFSETTO:-0600
TZNAME:CST
DTSTART:20251102T070000
END:STANDARD
BEGIN:DAYLIGHT
TZOFFSETFROM:-0600
TZOFFSETTO:-0500
TZNAME:CDT
DTSTART:20260308T080000
END:DAYLIGHT
BEGIN:STANDARD
TZOFFSETFROM:-0500
TZOFFSETTO:-0600
TZNAME:CST
DTSTART:20261101T070000
END:STANDARD
BEGIN:DAYLIGHT
TZOFFSETFROM:-0600
TZOFFSETTO:-0500
TZNAME:CDT
DTSTART:20270314T080000
END:DAYLIGHT
BEGIN:STANDARD
TZOFFSETFROM:-0500
TZOFFSETTO:-0600
TZNAME:CST
DTSTART:20271107T070000
END:STANDARD
END:VTIMEZONE
BEGIN:VEVENT
DTSTART;TZID=America/Chicago:20260503T080000
DTEND;TZID=America/Chicago:20260503T170000
DTSTAMP:20260423T110819
CREATED:20260410T053130Z
LAST-MODIFIED:20260410T053130Z
UID:10005135-1777795200-1777827600@stoughtoncc.com
SUMMARY:VLS Trap Invitational Rain Makeup
DESCRIPTION:This will only be needed if we have a rain out for Friday or Saturday.
URL:https://stoughtoncc.com/event/vls-trap-invitational-rain-makeup/
LOCATION:Main Clubhouse
ORGANIZER;CN="Kevin Kettner":MAILTO:kkettner@gmail.com
END:VEVENT
BEGIN:VEVENT
DTSTART;TZID=America/Chicago:20260503T090000
DTEND;TZID=America/Chicago:20260503T140000
DTSTAMP:20260423T110819
CREATED:20250905T132306Z
LAST-MODIFIED:20250905T132306Z
UID:10004931-1777798800-1777816800@stoughtoncc.com
SUMMARY:VLS Trap/Skeet Practice
DESCRIPTION:
URL:https://stoughtoncc.com/event/vls-trap-skeet-practice/2026-05-03/
LOCATION:Trap & Skeet Fields
ORGANIZER;CN="Kevin Kettner":MAILTO:kkettner@gmail.com
END:VEVENT
END:VCALENDAR