BEGIN:VCALENDAR
VERSION:2.0
PRODID:-//Stoughton Conservation Club - ECPv6.15.20//NONSGML v1.0//EN
CALSCALE:GREGORIAN
METHOD:PUBLISH
X-ORIGINAL-URL:https://stoughtoncc.com
X-WR-CALDESC:Events for Stoughton Conservation Club
REFRESH-INTERVAL;VALUE=DURATION:PT1H
X-Robots-Tag:noindex
X-PUBLISHED-TTL:PT1H
BEGIN:VTIMEZONE
TZID:America/Chicago
BEGIN:DAYLIGHT
TZOFFSETFROM:-0600
TZOFFSETTO:-0500
TZNAME:CDT
DTSTART:20250309T080000
END:DAYLIGHT
BEGIN:STANDARD
TZOFFSETFROM:-0500
TZOFFSETTO:-0600
TZNAME:CST
DTSTART:20251102T070000
END:STANDARD
BEGIN:DAYLIGHT
TZOFFSETFROM:-0600
TZOFFSETTO:-0500
TZNAME:CDT
DTSTART:20260308T080000
END:DAYLIGHT
BEGIN:STANDARD
TZOFFSETFROM:-0500
TZOFFSETTO:-0600
TZNAME:CST
DTSTART:20261101T070000
END:STANDARD
BEGIN:DAYLIGHT
TZOFFSETFROM:-0600
TZOFFSETTO:-0500
TZNAME:CDT
DTSTART:20270314T080000
END:DAYLIGHT
BEGIN:STANDARD
TZOFFSETFROM:-0500
TZOFFSETTO:-0600
TZNAME:CST
DTSTART:20271107T070000
END:STANDARD
END:VTIMEZONE
BEGIN:VEVENT
DTSTART;TZID=America/Chicago:20260430T150000
DTEND;TZID=America/Chicago:20260502T200000
DTSTAMP:20260423T095422
CREATED:20260331T133705Z
LAST-MODIFIED:20260403T023607Z
UID:10005132-1777561200-1777752000@stoughtoncc.com
SUMMARY:Indoor Archery Closed
DESCRIPTION:The Indoor Archery Range will be closed from Thursday\, April 30 around 3:00 PM until Saturday night. The room is being used for the VLS invitational.
URL:https://stoughtoncc.com/event/indoor-archery-closed/
LOCATION:Indoor Archery Range
ORGANIZER;CN="Kevin Kettner":MAILTO:kkettner@gmail.com
END:VEVENT
BEGIN:VEVENT
DTSTART;TZID=America/Chicago:20260430T160000
DTEND;TZID=America/Chicago:20260430T220000
DTSTAMP:20260423T095422
CREATED:20251209T052634Z
LAST-MODIFIED:20251209T052634Z
UID:10005065-1777564800-1777586400@stoughtoncc.com
SUMMARY:VLS Bucket Raffles
DESCRIPTION:VLS will host bucket raffles in the indoor archery range from 5:30 until 9:00
URL:https://stoughtoncc.com/event/vls-bucket-raffles/
LOCATION:Indoor Archery Range
ORGANIZER;CN="Kevin Kettner":MAILTO:kkettner@gmail.com
END:VEVENT
BEGIN:VEVENT
DTSTART;TZID=America/Chicago:20260430T173000
DTEND;TZID=America/Chicago:20260430T220000
DTSTAMP:20260423T095422
CREATED:20250903T195739Z
LAST-MODIFIED:20250903T195849Z
UID:10004908-1777570200-1777586400@stoughtoncc.com
SUMMARY:Trap League - 2026
DESCRIPTION:
URL:https://stoughtoncc.com/event/trap-league-2026/2026-04-30/
LOCATION:Trap & Skeet Fields
ORGANIZER;CN="Kevin Kettner":MAILTO:kkettner@gmail.com
END:VEVENT
END:VCALENDAR