BEGIN:VCALENDAR
VERSION:2.0
PRODID:-//Stoughton Conservation Club - ECPv6.15.20//NONSGML v1.0//EN
CALSCALE:GREGORIAN
METHOD:PUBLISH
X-ORIGINAL-URL:https://stoughtoncc.com
X-WR-CALDESC:Events for Stoughton Conservation Club
REFRESH-INTERVAL;VALUE=DURATION:PT1H
X-Robots-Tag:noindex
X-PUBLISHED-TTL:PT1H
BEGIN:VTIMEZONE
TZID:America/Chicago
BEGIN:DAYLIGHT
TZOFFSETFROM:-0600
TZOFFSETTO:-0500
TZNAME:CDT
DTSTART:20250309T080000
END:DAYLIGHT
BEGIN:STANDARD
TZOFFSETFROM:-0500
TZOFFSETTO:-0600
TZNAME:CST
DTSTART:20251102T070000
END:STANDARD
BEGIN:DAYLIGHT
TZOFFSETFROM:-0600
TZOFFSETTO:-0500
TZNAME:CDT
DTSTART:20260308T080000
END:DAYLIGHT
BEGIN:STANDARD
TZOFFSETFROM:-0500
TZOFFSETTO:-0600
TZNAME:CST
DTSTART:20261101T070000
END:STANDARD
BEGIN:DAYLIGHT
TZOFFSETFROM:-0600
TZOFFSETTO:-0500
TZNAME:CDT
DTSTART:20270314T080000
END:DAYLIGHT
BEGIN:STANDARD
TZOFFSETFROM:-0500
TZOFFSETTO:-0600
TZNAME:CST
DTSTART:20271107T070000
END:STANDARD
END:VTIMEZONE
BEGIN:VEVENT
DTSTART;TZID=America/Chicago:20260412T090000
DTEND;TZID=America/Chicago:20260412T120000
DTSTAMP:20260423T095428
CREATED:20260410T053252Z
LAST-MODIFIED:20260410T053252Z
UID:10005136-1775984400-1775995200@stoughtoncc.com
SUMMARY:VLS Picture Day
DESCRIPTION:Reserving Archery Range in case of rain.
URL:https://stoughtoncc.com/event/vls-picture-day/
LOCATION:Indoor Archery Range
ORGANIZER;CN="Kevin Kettner":MAILTO:kkettner@gmail.com
END:VEVENT
BEGIN:VEVENT
DTSTART;TZID=America/Chicago:20260412T090000
DTEND;TZID=America/Chicago:20260412T140000
DTSTAMP:20260423T095428
CREATED:20250905T132306Z
LAST-MODIFIED:20250905T132306Z
UID:10004928-1775984400-1776002400@stoughtoncc.com
SUMMARY:VLS Trap/Skeet Practice
DESCRIPTION:
URL:https://stoughtoncc.com/event/vls-trap-skeet-practice/2026-04-12/
LOCATION:Trap & Skeet Fields
ORGANIZER;CN="Kevin Kettner":MAILTO:kkettner@gmail.com
END:VEVENT
BEGIN:VEVENT
DTSTART;TZID=America/Chicago:20260412T120000
DTEND;TZID=America/Chicago:20260412T140000
DTSTAMP:20260423T095428
CREATED:20241119T211422Z
LAST-MODIFIED:20260413T182358Z
UID:10005035-1775995200-1776002400@stoughtoncc.com
SUMMARY:Women's Open Pistol Shoot (Public)
DESCRIPTION:Dates:\nSunday\, May 10: 12-2pm – Cancelled due to Mother’s Day\nSunday\, June 14: 12-2pm\nSunday\, July 12: 12-2pm\nSunday\, August 9: 12-2pm\nSunday\, September 13: 12-2pm\nSunday\, October 11: 12-2pm\nSunday\, November 8: 12-2pm\n  \n\n\nOrganizer:\nMarla Waugh:  MarlaLFish@gmail.com\n\nDetails:\nWomen club members and non-members are welcome to attend the Women’s Open Shoot.  Event fee of $5 for non-members.  Cash only.\n\nBring your pistol\, ammo\, eye and ear protection\, and targets and come to the Women’s Open Shoot.  Meet other women club members or experience the club first hand!  A female NRA certified range safety officer and pistol instructor will be onsite during the Women’s Open Shoot for guidance if needed.\n\nNon-members do not need to accompany a member during these Women Open Shoot events. Special event fee of $5 for every non-member each shoot.
URL:https://stoughtoncc.com/event/womens-open-shoot/2026-04-12/
LOCATION:Pistol Building
ORGANIZER;CN="Marla Waugh":MAILTO:marlalfish@gmail.com
END:VEVENT
END:VCALENDAR