BEGIN:VCALENDAR
VERSION:2.0
PRODID:-//Stoughton Conservation Club - ECPv6.15.20//NONSGML v1.0//EN
CALSCALE:GREGORIAN
METHOD:PUBLISH
X-WR-CALNAME:Stoughton Conservation Club
X-ORIGINAL-URL:https://stoughtoncc.com
X-WR-CALDESC:Events for Stoughton Conservation Club
REFRESH-INTERVAL;VALUE=DURATION:PT1H
X-Robots-Tag:noindex
X-PUBLISHED-TTL:PT1H
BEGIN:VTIMEZONE
TZID:America/Chicago
BEGIN:DAYLIGHT
TZOFFSETFROM:-0600
TZOFFSETTO:-0500
TZNAME:CDT
DTSTART:20240310T080000
END:DAYLIGHT
BEGIN:STANDARD
TZOFFSETFROM:-0500
TZOFFSETTO:-0600
TZNAME:CST
DTSTART:20241103T070000
END:STANDARD
BEGIN:DAYLIGHT
TZOFFSETFROM:-0600
TZOFFSETTO:-0500
TZNAME:CDT
DTSTART:20250309T080000
END:DAYLIGHT
BEGIN:STANDARD
TZOFFSETFROM:-0500
TZOFFSETTO:-0600
TZNAME:CST
DTSTART:20251102T070000
END:STANDARD
BEGIN:DAYLIGHT
TZOFFSETFROM:-0600
TZOFFSETTO:-0500
TZNAME:CDT
DTSTART:20260308T080000
END:DAYLIGHT
BEGIN:STANDARD
TZOFFSETFROM:-0500
TZOFFSETTO:-0600
TZNAME:CST
DTSTART:20261101T070000
END:STANDARD
END:VTIMEZONE
BEGIN:VEVENT
DTSTART;TZID=America/Chicago:20250510T070000
DTEND;TZID=America/Chicago:20250510T190000
DTSTAMP:20260424T010939
CREATED:20240814T050059Z
LAST-MODIFIED:20250508T035334Z
UID:10003795-1746860400-1746903600@stoughtoncc.com
SUMMARY:S3DA Archery Tournament
DESCRIPTION:
URL:https://stoughtoncc.com/event/s3da-archery-tournament-2/
LOCATION:Woods Trail Archery Course\, WI
ORGANIZER;CN="Dave Rynes":MAILTO:blackdogdr@gmail.com
END:VEVENT
BEGIN:VEVENT
DTSTART;TZID=America/Chicago:20250510T080000
DTEND;TZID=America/Chicago:20250510T120000
DTSTAMP:20260424T010939
CREATED:20250411T143340Z
LAST-MODIFIED:20250508T034013Z
UID:10004717-1746864000-1746878400@stoughtoncc.com
SUMMARY:4H Pistol
DESCRIPTION:4H will practice pistol shooting at the indoor pistol range.
URL:https://stoughtoncc.com/event/4h-pistol/2025-05-10/
LOCATION:Pistol Building
ORGANIZER;CN="Chad Xander":MAILTO:cmxander70@gmail.com
END:VEVENT
BEGIN:VEVENT
DTSTART;TZID=America/Chicago:20250510T130000
DTEND;TZID=America/Chicago:20250510T170000
DTSTAMP:20260424T010939
CREATED:20250430T221552Z
LAST-MODIFIED:20250508T034806Z
UID:10004723-1746882000-1746896400@stoughtoncc.com
SUMMARY:Celebration of Life
DESCRIPTION:A Celebration of Life will be held for Marc Hopkins.
URL:https://stoughtoncc.com/event/celebration-of-life/
LOCATION:Main Clubhouse
ORGANIZER;CN="Kevin Kettner":MAILTO:kkettner@gmail.com
END:VEVENT
END:VCALENDAR