BEGIN:VCALENDAR
VERSION:2.0
PRODID:-//Stoughton Conservation Club - ECPv6.15.20//NONSGML v1.0//EN
CALSCALE:GREGORIAN
METHOD:PUBLISH
X-WR-CALNAME:Stoughton Conservation Club
X-ORIGINAL-URL:https://stoughtoncc.com
X-WR-CALDESC:Events for Stoughton Conservation Club
REFRESH-INTERVAL;VALUE=DURATION:PT1H
X-Robots-Tag:noindex
X-PUBLISHED-TTL:PT1H
BEGIN:VTIMEZONE
TZID:America/Chicago
BEGIN:DAYLIGHT
TZOFFSETFROM:-0600
TZOFFSETTO:-0500
TZNAME:CDT
DTSTART:20240310T080000
END:DAYLIGHT
BEGIN:STANDARD
TZOFFSETFROM:-0500
TZOFFSETTO:-0600
TZNAME:CST
DTSTART:20241103T070000
END:STANDARD
BEGIN:DAYLIGHT
TZOFFSETFROM:-0600
TZOFFSETTO:-0500
TZNAME:CDT
DTSTART:20250309T080000
END:DAYLIGHT
BEGIN:STANDARD
TZOFFSETFROM:-0500
TZOFFSETTO:-0600
TZNAME:CST
DTSTART:20251102T070000
END:STANDARD
BEGIN:DAYLIGHT
TZOFFSETFROM:-0600
TZOFFSETTO:-0500
TZNAME:CDT
DTSTART:20260308T080000
END:DAYLIGHT
BEGIN:STANDARD
TZOFFSETFROM:-0500
TZOFFSETTO:-0600
TZNAME:CST
DTSTART:20261101T070000
END:STANDARD
END:VTIMEZONE
BEGIN:VEVENT
DTSTART;TZID=America/Chicago:20250323T090000
DTEND;TZID=America/Chicago:20250323T140000
DTSTAMP:20260424T022526
CREATED:20241102T215509Z
LAST-MODIFIED:20250610T203144Z
UID:10003829-1742720400-1742738400@stoughtoncc.com
SUMMARY:VLS Practice
DESCRIPTION:Trap and Skeet Fields will be closed for Viking Lead Slingers Youth Trap/Skeet practice.
URL:https://stoughtoncc.com/event/vls-practice-2/2025-03-23/
LOCATION:Trap & Skeet Fields
ORGANIZER;CN="Kevin Kettner":MAILTO:kkettner@gmail.com
END:VEVENT
BEGIN:VEVENT
DTSTART;TZID=America/Chicago:20250323T133000
DTEND;TZID=America/Chicago:20250323T153000
DTSTAMP:20260424T022526
CREATED:20250315T145846Z
LAST-MODIFIED:20250315T145846Z
UID:10004684-1742736600-1742743800@stoughtoncc.com
SUMMARY:VLS Committee Meeting
DESCRIPTION:
URL:https://stoughtoncc.com/event/vls-committee-meeting/
LOCATION:Main Clubhouse
ORGANIZER;CN="Kevin Kettner":MAILTO:kkettner@gmail.com
END:VEVENT
BEGIN:VEVENT
DTSTART;TZID=America/Chicago:20250323T180000
DTEND;TZID=America/Chicago:20250323T200000
DTSTAMP:20260424T022526
CREATED:20250211T014252Z
LAST-MODIFIED:20250211T014252Z
UID:10004677-1742752800-1742760000@stoughtoncc.com
SUMMARY:Rutland 4H
DESCRIPTION:Rutland 4H will have a meeting and shoot archery.
URL:https://stoughtoncc.com/event/rutland-4h/
END:VEVENT
END:VCALENDAR