BEGIN:VCALENDAR
VERSION:2.0
PRODID:-//Stoughton Conservation Club - ECPv6.15.20//NONSGML v1.0//EN
CALSCALE:GREGORIAN
METHOD:PUBLISH
X-ORIGINAL-URL:https://stoughtoncc.com
X-WR-CALDESC:Events for Stoughton Conservation Club
REFRESH-INTERVAL;VALUE=DURATION:PT1H
X-Robots-Tag:noindex
X-PUBLISHED-TTL:PT1H
BEGIN:VTIMEZONE
TZID:America/Chicago
BEGIN:DAYLIGHT
TZOFFSETFROM:-0600
TZOFFSETTO:-0500
TZNAME:CDT
DTSTART:20240310T080000
END:DAYLIGHT
BEGIN:STANDARD
TZOFFSETFROM:-0500
TZOFFSETTO:-0600
TZNAME:CST
DTSTART:20241103T070000
END:STANDARD
BEGIN:DAYLIGHT
TZOFFSETFROM:-0600
TZOFFSETTO:-0500
TZNAME:CDT
DTSTART:20250309T080000
END:DAYLIGHT
BEGIN:STANDARD
TZOFFSETFROM:-0500
TZOFFSETTO:-0600
TZNAME:CST
DTSTART:20251102T070000
END:STANDARD
BEGIN:DAYLIGHT
TZOFFSETFROM:-0600
TZOFFSETTO:-0500
TZNAME:CDT
DTSTART:20260308T080000
END:DAYLIGHT
BEGIN:STANDARD
TZOFFSETFROM:-0500
TZOFFSETTO:-0600
TZNAME:CST
DTSTART:20261101T070000
END:STANDARD
END:VTIMEZONE
BEGIN:VEVENT
DTSTART;TZID=America/Chicago:20250316T090000
DTEND;TZID=America/Chicago:20250316T140000
DTSTAMP:20260424T022514
CREATED:20241102T215509Z
LAST-MODIFIED:20250610T203144Z
UID:10003828-1742115600-1742133600@stoughtoncc.com
SUMMARY:VLS Practice
DESCRIPTION:Trap and Skeet Fields will be closed for Viking Lead Slingers Youth Trap/Skeet practice.
URL:https://stoughtoncc.com/event/vls-practice-2/2025-03-16/
LOCATION:Trap & Skeet Fields
ORGANIZER;CN="Kevin Kettner":MAILTO:kkettner@gmail.com
END:VEVENT
BEGIN:VEVENT
DTSTART;TZID=America/Chicago:20250316T090000
DTEND;TZID=America/Chicago:20250316T160000
DTSTAMP:20260424T022514
CREATED:20250124T070006Z
LAST-MODIFIED:20250307T202636Z
UID:10004671-1742115600-1742140800@stoughtoncc.com
SUMMARY:Custom Hearing Protection
DESCRIPTION:Custom Hearing Protection\nHear4Ever is coming back this year to make custom injected ear plugs for our VLS athletes and SCC club members! They will be here on March 16th from 9:00 to 3:30. \nThis event filled up fast last year\, so get signed up right away! \nSign up here:\nhttps://www.signupgenius.com/go/30E0949A4AB28A1F94-55295335-custom#/ \nThese are amazing ear plugs! They’re easy to put in and take out. They’re very comfortable\, they’re very effective! Plus\, they will last for years. \nIt takes about 1 hour or so from start to finish. You’ll spend about 10-15 minutes in the chair to pick your colors and options and for the earplugs to be injected. Then it takes around 45 minutes to an hour for your earplugs to cure and get the finishing touches. \nWe’ll have sign-up slots every 15 minutes\, but last year they were able to squeeze in some extras\, so if all of the sign-up slots are full you might want to just show up and hang around\, they might be able to get you in. \nLocation: SCC Main Clubhouse at 918 Collins Rd.\, Stoughton\, WI \nPrices:\nYouth: $65\nAdults: $75\nLanyard (optional): $5\nFilters(optional): $20 (set) \nhttp://hear4everllc.com/ \n  \n 
URL:https://stoughtoncc.com/event/custom-hearing-protection/
LOCATION:Main Clubhouse
ORGANIZER;CN="Kevin Kettner":MAILTO:kkettner@gmail.com
END:VEVENT
END:VCALENDAR